BEGIN:VCALENDAR
VERSION:2.0
PRODID:-//Universidad Nacional Agraria - ECPv6.15.20//NONSGML v1.0//EN
CALSCALE:GREGORIAN
METHOD:PUBLISH
X-WR-CALNAME:Universidad Nacional Agraria
X-ORIGINAL-URL:https://www.una.edu.ni
X-WR-CALDESC:Eventos para Universidad Nacional Agraria
REFRESH-INTERVAL;VALUE=DURATION:PT1H
X-Robots-Tag:noindex
X-PUBLISHED-TTL:PT1H
BEGIN:VTIMEZONE
TZID:America/Managua
BEGIN:STANDARD
TZOFFSETFROM:-0600
TZOFFSETTO:-0600
TZNAME:CST
DTSTART:20240101T000000
END:STANDARD
END:VTIMEZONE
BEGIN:VEVENT
DTSTART;TZID=America/Managua:20250826T093000
DTEND;TZID=America/Managua:20250827T120000
DTSTAMP:20260422T232959
CREATED:20250825T162840Z
LAST-MODIFIED:20250825T162907Z
UID:25692-1756200600-1756296000@www.una.edu.ni
SUMMARY:Encuentro con productores sobre transformación de hoja de marango
DESCRIPTION:
URL:https://www.una.edu.ni/event/encuentro-con-productores-sobre-transformacion-de-hoja-de-marango/
LOCATION:Centro de Desarrollo Moringa Comandante Fidel\, municipio de León\, Nicaragua
CATEGORIES:ENCUENTRO
END:VEVENT
BEGIN:VEVENT
DTSTART;TZID=America/Managua:20250827T083000
DTEND;TZID=America/Managua:20250827T120000
DTSTAMP:20260422T232959
CREATED:20250825T163328Z
LAST-MODIFIED:20250825T163328Z
UID:25699-1756283400-1756296000@www.una.edu.ni
SUMMARY:Capacitación a mujeres productoras sobre gestión de emprendimiento agropecuario
DESCRIPTION:
URL:https://www.una.edu.ni/event/capacitacion-a-mujeres-productoras-sobre-gestion-de-emprendimiento-agropecuario/
LOCATION:UNICAM Boaco Viejo\, Nicaragua
CATEGORIES:CAPACITACION
END:VEVENT
BEGIN:VEVENT
DTSTART;TZID=America/Managua:20250827T083000
DTEND;TZID=America/Managua:20250827T120000
DTSTAMP:20260422T232959
CREATED:20250825T163914Z
LAST-MODIFIED:20250825T163914Z
UID:25710-1756283400-1756296000@www.una.edu.ni
SUMMARY:Panel de expertos sobre la investigación en la evolución agropecuaria nicaragüense
DESCRIPTION:
URL:https://www.una.edu.ni/event/panel-de-expertos-sobre-la-investigacion-en-la-evolucion-agropecuaria-nicaraguense/
LOCATION:Centro Universitario Regional UNA Juigalpa\, Juigapa
CATEGORIES:PANEL
END:VEVENT
BEGIN:VEVENT
DTSTART;TZID=America/Managua:20250827T090000
DTEND;TZID=America/Managua:20250827T120000
DTSTAMP:20260422T232959
CREATED:20250825T163218Z
LAST-MODIFIED:20250825T163218Z
UID:25696-1756285200-1756296000@www.una.edu.ni
SUMMARY:Curso sobre elaboración de variedades de quesos y derivados lácteos
DESCRIPTION:
URL:https://www.una.edu.ni/event/curso-sobre-elaboracion-de-variedades-de-quesos-y-derivados-lacteos/
LOCATION:Sistema Penitenciario Matagalpa\, Nicaragua
CATEGORIES:CURSO
END:VEVENT
BEGIN:VEVENT
DTSTART;TZID=America/Managua:20250827T090000
DTEND;TZID=America/Managua:20250827T120000
DTSTAMP:20260422T232959
CREATED:20250825T163427Z
LAST-MODIFIED:20250825T163427Z
UID:25701-1756285200-1756296000@www.una.edu.ni
SUMMARY:Intercambio de experiencias con productores sobre manejo de vivero y elaboración de compost
DESCRIPTION:
URL:https://www.una.edu.ni/event/intercambio-de-experiencias-con-productores-sobre-manejo-de-vivero-y-elaboracion-de-compost/
LOCATION:Universidad Nacional Agraria\, Managua\, km 12 1/2\, Managua\, Nicaragua
CATEGORIES:OTROS
END:VEVENT
BEGIN:VEVENT
DTSTART;TZID=America/Managua:20250827T100000
DTEND;TZID=America/Managua:20250827T120000
DTSTAMP:20260422T232959
CREATED:20250825T163521Z
LAST-MODIFIED:20250825T163521Z
UID:25703-1756288800-1756296000@www.una.edu.ni
SUMMARY:Conferencia magistral “Pueblos indígenas\, cultura y juventud” impartida por el Cro. Wilmor López\, especialistas de cultura e historia de Nicaragua
DESCRIPTION:
URL:https://www.una.edu.ni/event/conferencia-magistral-pueblos-indigenas-cultura-y-juventud-impartida-por-el-cro-wilmor-lopez-especialistas-de-cultura-e-historia-de-nicaragua/
LOCATION:Universidad Nacional Agraria\, Managua\, km 12 1/2\, Managua\, Nicaragua
CATEGORIES:CONFERENCIA
END:VEVENT
BEGIN:VEVENT
DTSTART;TZID=America/Managua:20250827T100000
DTEND;TZID=America/Managua:20250827T120000
DTSTAMP:20260422T232959
CREATED:20250825T163630Z
LAST-MODIFIED:20250825T163630Z
UID:25706-1756288800-1756296000@www.una.edu.ni
SUMMARY:Conferencia sobre vigilancia y control de plagas en el cultivo de arroz
DESCRIPTION:
URL:https://www.una.edu.ni/event/conferencia-sobre-vigilancia-y-control-de-plagas-en-el-cultivo-de-arroz/
LOCATION:Universidad Nacional Agraria\, Managua\, km 12 1/2\, Managua\, Nicaragua
CATEGORIES:OTROS
END:VEVENT
BEGIN:VEVENT
DTSTART;TZID=America/Managua:20250827T100000
DTEND;TZID=America/Managua:20250827T120000
DTSTAMP:20260422T232959
CREATED:20250825T164444Z
LAST-MODIFIED:20250825T164444Z
UID:25712-1756288800-1756296000@www.una.edu.ni
SUMMARY:Ofrenda Floral y Festival cultural en conmemoración de la Gesta heróica de Pancasán
DESCRIPTION:
URL:https://www.una.edu.ni/event/ofrenda-floral-y-festival-cultural-en-conmemoracion-de-la-gesta-heroica-de-pancasan/
LOCATION:UNICAM Sitio Histórico Pancasán\, Nicaragua
CATEGORIES:OTROS
END:VEVENT
BEGIN:VEVENT
DTSTART;TZID=America/Managua:20250827T103000
DTEND;TZID=America/Managua:20250827T120000
DTSTAMP:20260422T232959
CREATED:20250825T163730Z
LAST-MODIFIED:20250825T163730Z
UID:25708-1756290600-1756296000@www.una.edu.ni
SUMMARY:Webinar sobre Gestión ambiental y manejo de residuos sólidos de café\, en el marco de una economía circular
DESCRIPTION:
URL:https://www.una.edu.ni/event/webinar-sobre-gestion-ambiental-y-manejo-de-residuos-solidos-de-cafe-en-el-marco-de-una-economia-circular/
LOCATION:Universidad Nacional Agraria\, Managua\, km 12 1/2\, Managua\, Nicaragua
CATEGORIES:WEBINAR
END:VEVENT
END:VCALENDAR