BEGIN:VCALENDAR
VERSION:2.0
PRODID:-//Universidad Nacional Agraria - ECPv6.15.20//NONSGML v1.0//EN
CALSCALE:GREGORIAN
METHOD:PUBLISH
X-ORIGINAL-URL:https://www.una.edu.ni
X-WR-CALDESC:Eventos para Universidad Nacional Agraria
REFRESH-INTERVAL;VALUE=DURATION:PT1H
X-Robots-Tag:noindex
X-PUBLISHED-TTL:PT1H
BEGIN:VTIMEZONE
TZID:America/Managua
BEGIN:STANDARD
TZOFFSETFROM:-0600
TZOFFSETTO:-0600
TZNAME:CST
DTSTART:20240101T000000
END:STANDARD
END:VTIMEZONE
BEGIN:VEVENT
DTSTART;TZID=America/Managua:20250905T080000
DTEND;TZID=America/Managua:20250905T120000
DTSTAMP:20260422T220648
CREATED:20250904T203257Z
LAST-MODIFIED:20250904T203257Z
UID:26125-1757059200-1757073600@www.una.edu.ni
SUMMARY:Taller sobre Investigación científica agropecuaria
DESCRIPTION:
URL:https://www.una.edu.ni/event/taller-sobre-investigacion-cientifica-agropecuaria/
LOCATION:Sistemas penitenciarios de Matagalpa\, Tipitapa y Granada
CATEGORIES:TALLER
END:VEVENT
BEGIN:VEVENT
DTSTART;TZID=America/Managua:20250905T090000
DTEND;TZID=America/Managua:20250905T120000
DTSTAMP:20260422T220648
CREATED:20250904T200600Z
LAST-MODIFIED:20250904T200600Z
UID:26114-1757062800-1757073600@www.una.edu.ni
SUMMARY:Inauguración de obras de mejora en infraestructura donde funciona el Programa universidad en el Campo de Muelle de los Bueyes
DESCRIPTION:
URL:https://www.una.edu.ni/event/inauguracion-de-obras-de-mejora-en-infraestructura-donde-funciona-el-programa-universidad-en-el-campo-de-muelle-de-los-bueyes/
LOCATION:Centro Universitario Regional UNA Juigalpa\, Juigapa
CATEGORIES:INAUGURACIÓN
END:VEVENT
BEGIN:VEVENT
DTSTART;TZID=America/Managua:20250905T090000
DTEND;TZID=America/Managua:20250905T120000
DTSTAMP:20260422T220648
CREATED:20250904T202046Z
LAST-MODIFIED:20250904T212704Z
UID:26119-1757062800-1757073600@www.una.edu.ni
SUMMARY:Jornada de embellecimiento y reciclaje
DESCRIPTION:
URL:https://www.una.edu.ni/event/jornada-de-embellecimiento-y-reciclaje-2/
LOCATION:Universidad Nacional Agraria\, Managua\, km 12 1/2\, Managua\, Nicaragua
CATEGORIES:JORNADA
END:VEVENT
BEGIN:VEVENT
DTSTART;TZID=America/Managua:20250905T100000
DTEND;TZID=America/Managua:20250905T120000
DTSTAMP:20260422T220648
CREATED:20250902T143638Z
LAST-MODIFIED:20250902T143638Z
UID:26072-1757066400-1757073600@www.una.edu.ni
SUMMARY:Curso sobre elaboración de suplementos nutricionales para ganado mayor
DESCRIPTION:
URL:https://www.una.edu.ni/event/curso-sobre-elaboracion-de-suplementos-nutricionales-para-ganado-mayor-2/
LOCATION:UNICAM Muelle de los Bueyes\, Nicaragua
CATEGORIES:CURSO
END:VEVENT
BEGIN:VEVENT
DTSTART;TZID=America/Managua:20250905T100000
DTEND;TZID=America/Managua:20250905T120000
DTSTAMP:20260422T220648
CREATED:20250904T201434Z
LAST-MODIFIED:20250904T201434Z
UID:26116-1757066400-1757073600@www.una.edu.ni
SUMMARY:Entrega de certificados a protagonistas del Diplomado en Tecnologías Agropecuarias
DESCRIPTION:
URL:https://www.una.edu.ni/event/entrega-de-certificados-a-protagonistas-del-diplomado-en-tecnologias-agropecuarias/
LOCATION:Alcaldía de San Francisco Libre\, Nicaragua
CATEGORIES:OTROS
END:VEVENT
BEGIN:VEVENT
DTSTART;TZID=America/Managua:20250905T130000
DTEND;TZID=America/Managua:20250905T170000
DTSTAMP:20260422T220648
CREATED:20250904T202612Z
LAST-MODIFIED:20250904T202612Z
UID:26123-1757077200-1757091600@www.una.edu.ni
SUMMARY:Torneo deportivo de voleibol
DESCRIPTION:
URL:https://www.una.edu.ni/event/torneo-deportivo-de-voleibol/
LOCATION:UNICAM Muelle de los Bueyes\, Nicaragua
CATEGORIES:OTROS
END:VEVENT
BEGIN:VEVENT
DTSTART;TZID=America/Managua:20250905T140000
DTEND;TZID=America/Managua:20250905T170000
DTSTAMP:20260422T220648
CREATED:20250904T212810Z
LAST-MODIFIED:20250904T212810Z
UID:26130-1757080800-1757091600@www.una.edu.ni
SUMMARY:Jornada de desparasitación y vitaminación en ganado bovino “Patria para todos”
DESCRIPTION:
URL:https://www.una.edu.ni/event/jornada-de-desparasitacion-y-vitaminacion-en-ganado-bovino-patria-para-todos-3/
LOCATION:Centro Universitario Regional UNA Juigalpa\, Juigapa
CATEGORIES:JORNADA
END:VEVENT
END:VCALENDAR