BEGIN:VCALENDAR
VERSION:2.0
PRODID:-//Universidad Nacional Agraria - ECPv6.15.20//NONSGML v1.0//EN
CALSCALE:GREGORIAN
METHOD:PUBLISH
X-ORIGINAL-URL:https://www.una.edu.ni
X-WR-CALDESC:Eventos para Universidad Nacional Agraria
REFRESH-INTERVAL;VALUE=DURATION:PT1H
X-Robots-Tag:noindex
X-PUBLISHED-TTL:PT1H
BEGIN:VTIMEZONE
TZID:America/Managua
BEGIN:STANDARD
TZOFFSETFROM:-0600
TZOFFSETTO:-0600
TZNAME:CST
DTSTART:20240101T000000
END:STANDARD
END:VTIMEZONE
BEGIN:VEVENT
DTSTART;TZID=America/Managua:20250906T080000
DTEND;TZID=America/Managua:20250906T120000
DTSTAMP:20260422T220648
CREATED:20250905T160908Z
LAST-MODIFIED:20250905T160908Z
UID:26147-1757145600-1757160000@www.una.edu.ni
SUMMARY:Foro ganadero y de agricultura regenerativa
DESCRIPTION:
URL:https://www.una.edu.ni/event/foro-ganadero-y-de-agricultura-regenerativa-2/
LOCATION:UNICAM San José de los Remates\, Nicaragua
CATEGORIES:FORO
END:VEVENT
BEGIN:VEVENT
DTSTART;TZID=America/Managua:20250906T080000
DTEND;TZID=America/Managua:20250906T120000
DTSTAMP:20260422T220648
CREATED:20250905T161010Z
LAST-MODIFIED:20250905T161010Z
UID:26150-1757145600-1757160000@www.una.edu.ni
SUMMARY:Taller sobre Buenas prácticas de ordeño
DESCRIPTION:
URL:https://www.una.edu.ni/event/taller-sobre-buenas-practicas-de-ordeno-2/
LOCATION:Centro Universitario Regional UNA Juigalpa\, Juigapa
CATEGORIES:TALLER
END:VEVENT
BEGIN:VEVENT
DTSTART;TZID=America/Managua:20250906T080000
DTEND;TZID=America/Managua:20250906T120000
DTSTAMP:20260422T220648
CREATED:20250905T161221Z
LAST-MODIFIED:20250905T161221Z
UID:26155-1757145600-1757160000@www.una.edu.ni
SUMMARY:Día de campo con productores de Matagalpa para realizar demostraciones tecnológicas para mejorar la producción en cultivos de granos básicos
DESCRIPTION:
URL:https://www.una.edu.ni/event/dia-de-campo-con-productores-de-matagalpa-para-realizar-demostraciones-tecnologicas-para-mejorar-la-produccion-en-cultivos-de-granos-basicos/
LOCATION:Centro Universitario “Camilo Torres Restrepo”\, Matagalpa\, Nicaragua
CATEGORIES:OTROS
END:VEVENT
BEGIN:VEVENT
DTSTART;TZID=America/Managua:20250906T090000
DTEND;TZID=America/Managua:20250906T120000
DTSTAMP:20260422T220648
CREATED:20250905T161316Z
LAST-MODIFIED:20250905T161316Z
UID:26157-1757149200-1757160000@www.una.edu.ni
SUMMARY:Expo feria “Conecta con tu futuro pecuario”
DESCRIPTION:
URL:https://www.una.edu.ni/event/expo-feria-conecta-con-tu-futuro-pecuario/
LOCATION:UNICAM EL Plantel\, Nicaragua
CATEGORIES:FERIA
END:VEVENT
END:VCALENDAR