BEGIN:VCALENDAR
VERSION:2.0
PRODID:-//Universidad Nacional Agraria - ECPv6.15.20//NONSGML v1.0//EN
CALSCALE:GREGORIAN
METHOD:PUBLISH
X-WR-CALNAME:Universidad Nacional Agraria
X-ORIGINAL-URL:https://www.una.edu.ni
X-WR-CALDESC:Eventos para Universidad Nacional Agraria
REFRESH-INTERVAL;VALUE=DURATION:PT1H
X-Robots-Tag:noindex
X-PUBLISHED-TTL:PT1H
BEGIN:VTIMEZONE
TZID:America/Managua
BEGIN:STANDARD
TZOFFSETFROM:-0600
TZOFFSETTO:-0600
TZNAME:CST
DTSTART:20240101T000000
END:STANDARD
END:VTIMEZONE
BEGIN:VEVENT
DTSTART;TZID=America/Managua:20250909T100000
DTEND;TZID=America/Managua:20250909T120000
DTSTAMP:20260423T061212
CREATED:20250908T162421Z
LAST-MODIFIED:20250908T162421Z
UID:26190-1757412000-1757419200@www.una.edu.ni
SUMMARY:Entrega de Certificados a más de 600 protagonistas del Programa Integral de educación superior para presos que finalizaron Cursos libres impartidos por la UNA
DESCRIPTION:
URL:https://www.una.edu.ni/event/entrega-de-certificados-a-mas-de-600-protagonistas-del-programa-integral-de-educacion-superior-para-presos-que-finalizaron-cursos-libres-impartidos-por-la-una/
LOCATION:Sistemas penitenciarios de Nicaragua\, Nicaragua
CATEGORIES:OTROS
END:VEVENT
BEGIN:VEVENT
DTSTART;TZID=America/Managua:20250909T140000
DTEND;TZID=America/Managua:20250909T170000
DTSTAMP:20260423T061212
CREATED:20250908T162638Z
LAST-MODIFIED:20250908T162638Z
UID:26195-1757426400-1757437200@www.una.edu.ni
SUMMARY:Cine Foro “Batalla de San Jacinto y el rol de la defensa de la patria de nuestros héroes nacionales”
DESCRIPTION:
URL:https://www.una.edu.ni/event/cine-foro-batalla-de-san-jacinto-y-el-rol-de-la-defensa-de-la-patria-de-nuestros-heroes-nacionales/
LOCATION:Universidad La Sandino\, Nicaragua
CATEGORIES:OTROS
END:VEVENT
BEGIN:VEVENT
DTSTART;TZID=America/Managua:20250909T170000
DTEND;TZID=America/Managua:20250909T200000
DTSTAMP:20260423T061212
CREATED:20250908T162539Z
LAST-MODIFIED:20250908T162539Z
UID:26193-1757437200-1757448000@www.una.edu.ni
SUMMARY:Campeonato deportivo estudiantil de voleibol y baloncesto masculino
DESCRIPTION:
URL:https://www.una.edu.ni/event/campeonato-deportivo-estudiantil-de-voleibol-y-baloncesto-masculino/
LOCATION:Universidad Nacional Agraria\, Managua\, km 12 1/2\, Managua\, Nicaragua
CATEGORIES:OTROS
END:VEVENT
END:VCALENDAR