BEGIN:VCALENDAR
VERSION:2.0
PRODID:-//Universidad Nacional Agraria - ECPv6.15.20//NONSGML v1.0//EN
CALSCALE:GREGORIAN
METHOD:PUBLISH
X-ORIGINAL-URL:https://www.una.edu.ni
X-WR-CALDESC:Eventos para Universidad Nacional Agraria
REFRESH-INTERVAL;VALUE=DURATION:PT1H
X-Robots-Tag:noindex
X-PUBLISHED-TTL:PT1H
BEGIN:VTIMEZONE
TZID:America/Managua
BEGIN:STANDARD
TZOFFSETFROM:-0600
TZOFFSETTO:-0600
TZNAME:CST
DTSTART:20240101T000000
END:STANDARD
END:VTIMEZONE
BEGIN:VEVENT
DTSTART;TZID=America/Managua:20250912T080000
DTEND;TZID=America/Managua:20250912T120000
DTSTAMP:20260422T220647
CREATED:20250909T154311Z
LAST-MODIFIED:20250909T154311Z
UID:26245-1757664000-1757678400@www.una.edu.ni
SUMMARY:Curso sobre Manejo de enfermedades que afectan el cultivo de plátano
DESCRIPTION:
URL:https://www.una.edu.ni/event/curso-sobre-manejo-de-enfermedades-que-afectan-el-cultivo-de-platano/
LOCATION:Centro Universitario “Héroes de Chinandega”\, Nicaragua
CATEGORIES:CURSO
END:VEVENT
BEGIN:VEVENT
DTSTART;TZID=America/Managua:20250912T080000
DTEND;TZID=America/Managua:20250912T120000
DTSTAMP:20260422T220647
CREATED:20250909T154605Z
LAST-MODIFIED:20250909T154605Z
UID:26251-1757664000-1757678400@www.una.edu.ni
SUMMARY:Taller sobre Detección y control de enfermedades en ovinos y caprinos
DESCRIPTION:
URL:https://www.una.edu.ni/event/taller-sobre-deteccion-y-control-de-enfermedades-en-ovinos-y-caprinos/
LOCATION:Centro Universitario Regional UNA Juigalpa\, Juigapa
CATEGORIES:TALLER
END:VEVENT
BEGIN:VEVENT
DTSTART;TZID=America/Managua:20250912T083000
DTEND;TZID=America/Managua:20250912T120000
DTSTAMP:20260422T220647
CREATED:20250909T154409Z
LAST-MODIFIED:20250909T154409Z
UID:26247-1757665800-1757678400@www.una.edu.ni
SUMMARY:Curso sobre Técnicas modernas de deshidratación de frutas y verduras
DESCRIPTION:
URL:https://www.una.edu.ni/event/curso-sobre-tecnicas-modernas-de-deshidratacion-de-frutas-y-verduras/
LOCATION:Universidad Nacional Agraria\, Managua\, km 12 1/2\, Managua\, Nicaragua
CATEGORIES:CURSO
END:VEVENT
BEGIN:VEVENT
DTSTART;TZID=America/Managua:20250912T090000
DTEND;TZID=America/Managua:20250912T120000
DTSTAMP:20260422T220647
CREATED:20250909T155514Z
LAST-MODIFIED:20250909T155514Z
UID:26257-1757667600-1757678400@www.una.edu.ni
SUMMARY:Rotulación de árboles con códigos QR
DESCRIPTION:
URL:https://www.una.edu.ni/event/rotulacion-de-arboles-con-codigos-qr/
LOCATION:Universidad Nacional Agraria\, Managua\, km 12 1/2\, Managua\, Nicaragua
CATEGORIES:OTROS
END:VEVENT
BEGIN:VEVENT
DTSTART;TZID=America/Managua:20250912T100000
DTEND;TZID=America/Managua:20250912T120000
DTSTAMP:20260422T220647
CREATED:20250909T154515Z
LAST-MODIFIED:20250909T154515Z
UID:26249-1757671200-1757678400@www.una.edu.ni
SUMMARY:Intercambio de experiencias con jóvenes productores y emprendedores sobre la transformación de productos agrícolas
DESCRIPTION:
URL:https://www.una.edu.ni/event/intercambio-de-experiencias-con-jovenes-productores-y-emprendedores-sobre-la-transformacion-de-productos-agricolas/
LOCATION:Universidad Nacional Agraria\, Managua\, km 12 1/2\, Managua\, Nicaragua
CATEGORIES:OTROS
END:VEVENT
BEGIN:VEVENT
DTSTART;TZID=America/Managua:20250912T110000
DTEND;TZID=America/Managua:20250912T130000
DTSTAMP:20260422T220647
CREATED:20250909T154211Z
LAST-MODIFIED:20250909T154211Z
UID:26243-1757674800-1757682000@www.una.edu.ni
SUMMARY:Entrega de Certificados a protagonistas
DESCRIPTION:
URL:https://www.una.edu.ni/event/entrega-de-certificados-a-protagonistas/
LOCATION:Centro Universitario “Héroes de Chinandega”\, Nicaragua
CATEGORIES:OTROS
END:VEVENT
BEGIN:VEVENT
DTSTART;TZID=America/Managua:20250912T140000
DTEND;TZID=America/Managua:20250912T170000
DTSTAMP:20260422T220647
CREATED:20250909T155417Z
LAST-MODIFIED:20250909T155417Z
UID:26255-1757685600-1757696400@www.una.edu.ni
SUMMARY:Festival de bailes representativos de los departamentos de Nicaragua
DESCRIPTION:
URL:https://www.una.edu.ni/event/festival-de-bailes-representativos-de-los-departamentos-de-nicaragua/
LOCATION:Universidad La Sandino\, Nicaragua
CATEGORIES:FESTIVAL
END:VEVENT
BEGIN:VEVENT
DTSTART;TZID=America/Managua:20250912T160000
DTEND;TZID=America/Managua:20250912T180000
DTSTAMP:20260422T220647
CREATED:20250909T155320Z
LAST-MODIFIED:20250909T155320Z
UID:26253-1757692800-1757700000@www.una.edu.ni
SUMMARY:Obra Teatral “San Jacinto”
DESCRIPTION:
URL:https://www.una.edu.ni/event/obra-teatral-san-jacinto/
LOCATION:Universidad Nacional Agraria\, Managua\, km 12 1/2\, Managua\, Nicaragua
CATEGORIES:OTROS
END:VEVENT
END:VCALENDAR