BEGIN:VCALENDAR
VERSION:2.0
PRODID:-//Universidad Nacional Agraria - ECPv6.15.20//NONSGML v1.0//EN
CALSCALE:GREGORIAN
METHOD:PUBLISH
X-ORIGINAL-URL:https://www.una.edu.ni
X-WR-CALDESC:Eventos para Universidad Nacional Agraria
REFRESH-INTERVAL;VALUE=DURATION:PT1H
X-Robots-Tag:noindex
X-PUBLISHED-TTL:PT1H
BEGIN:VTIMEZONE
TZID:America/Managua
BEGIN:STANDARD
TZOFFSETFROM:-0600
TZOFFSETTO:-0600
TZNAME:CST
DTSTART:20240101T000000
END:STANDARD
END:VTIMEZONE
BEGIN:VEVENT
DTSTART;TZID=America/Managua:20250914T080000
DTEND;TZID=America/Managua:20250914T120000
DTSTAMP:20260422T220648
CREATED:20250909T160122Z
LAST-MODIFIED:20250909T160122Z
UID:26265-1757836800-1757851200@www.una.edu.ni
SUMMARY:Cine foro “La Gran guerra patria”
DESCRIPTION:
URL:https://www.una.edu.ni/event/cine-foro-la-gran-guerra-patria/
LOCATION:Sistemas penitenciarios de Matagalpa y Juigalpa\, Nicaragua
CATEGORIES:OTROS
END:VEVENT
END:VCALENDAR