BEGIN:VCALENDAR
VERSION:2.0
PRODID:-//Universidad Nacional Agraria - ECPv6.15.20//NONSGML v1.0//EN
CALSCALE:GREGORIAN
METHOD:PUBLISH
X-ORIGINAL-URL:https://www.una.edu.ni
X-WR-CALDESC:Eventos para Universidad Nacional Agraria
REFRESH-INTERVAL;VALUE=DURATION:PT1H
X-Robots-Tag:noindex
X-PUBLISHED-TTL:PT1H
BEGIN:VTIMEZONE
TZID:America/Managua
BEGIN:STANDARD
TZOFFSETFROM:-0600
TZOFFSETTO:-0600
TZNAME:CST
DTSTART:20240101T000000
END:STANDARD
END:VTIMEZONE
BEGIN:VEVENT
DTSTART;TZID=America/Managua:20250925T090000
DTEND;TZID=America/Managua:20250926T163000
DTSTAMP:20260422T220647
CREATED:20250922T162250Z
LAST-MODIFIED:20250922T162250Z
UID:26349-1758790800-1758904200@www.una.edu.ni
SUMMARY:XXII Edición de la Reunión Científica de Docentes Investigadores
DESCRIPTION:
URL:https://www.una.edu.ni/event/xxii-edicion-de-la-reunion-cientifica-de-docentes-investigadores/
LOCATION:Universidad Nacional Agraria\, Managua\, km 12 1/2\, Managua\, Nicaragua
CATEGORIES:OTROS
END:VEVENT
BEGIN:VEVENT
DTSTART;TZID=America/Managua:20250926T080000
DTEND;TZID=America/Managua:20250926T120000
DTSTAMP:20260422T220647
CREATED:20250922T164254Z
LAST-MODIFIED:20250922T164254Z
UID:26383-1758873600-1758888000@www.una.edu.ni
SUMMARY:Presentación de Oferta académica en Escuelas de Secundaria
DESCRIPTION:
URL:https://www.una.edu.ni/event/presentacion-de-oferta-academica-en-escuelas-de-secundaria-2/
LOCATION:Matagalpa\, Nicaragua
CATEGORIES:OTROS
END:VEVENT
BEGIN:VEVENT
DTSTART;TZID=America/Managua:20250926T083000
DTEND;TZID=America/Managua:20250926T120000
DTSTAMP:20260422T220647
CREATED:20250922T163920Z
LAST-MODIFIED:20250922T163920Z
UID:26378-1758875400-1758888000@www.una.edu.ni
SUMMARY:Encuentro con productores sobre fertilización y manejo sanitario de cultivos de granos básicos
DESCRIPTION:
URL:https://www.una.edu.ni/event/encuentro-con-productores-sobre-fertilizacion-y-manejo-sanitario-de-cultivos-de-granos-basicos/
LOCATION:Universidad Nacional Agraria\, Managua\, km 12 1/2\, Managua\, Nicaragua
CATEGORIES:ENCUENTRO
END:VEVENT
BEGIN:VEVENT
DTSTART;TZID=America/Managua:20250926T090000
DTEND;TZID=America/Managua:20250926T120000
DTSTAMP:20260422T220647
CREATED:20250922T162857Z
LAST-MODIFIED:20250922T162857Z
UID:26360-1758877200-1758888000@www.una.edu.ni
SUMMARY:Entrega de certificados a protagonistas del Diplomado de Camaronicultura
DESCRIPTION:
URL:https://www.una.edu.ni/event/entrega-de-certificados-a-protagonistas-del-diplomado-de-camaronicultura/
LOCATION:Centro Universitario “Héroes de Chinandega”\, Nicaragua
CATEGORIES:OTROS
END:VEVENT
BEGIN:VEVENT
DTSTART;TZID=America/Managua:20250926T090000
DTEND;TZID=America/Managua:20250926T120000
DTSTAMP:20260422T220647
CREATED:20250922T164737Z
LAST-MODIFIED:20250922T164737Z
UID:26392-1758877200-1758888000@www.una.edu.ni
SUMMARY:Taller sobre Polinización en cultivos de cacao
DESCRIPTION:
URL:https://www.una.edu.ni/event/taller-sobre-polinizacion-en-cultivos-de-cacao-2/
LOCATION:Centro Universitario Regional UNA Juigalpa\, Juigapa
CATEGORIES:TALLER
END:VEVENT
BEGIN:VEVENT
DTSTART;TZID=America/Managua:20250926T090000
DTEND;TZID=America/Managua:20250926T120000
DTSTAMP:20260422T220647
CREATED:20250922T165133Z
LAST-MODIFIED:20250922T165133Z
UID:26400-1758877200-1758888000@www.una.edu.ni
SUMMARY:Feria del maíz “Sembrando cultura\, cosechando identidad”
DESCRIPTION:
URL:https://www.una.edu.ni/event/feria-del-maiz-sembrando-cultura-cosechando-identidad-2/
LOCATION:CUR UNA Juigalpa/UNICAM Matiguás\, Nicaragua
CATEGORIES:FERIA
END:VEVENT
END:VCALENDAR