BEGIN:VCALENDAR
VERSION:2.0
PRODID:-//Universidad Nacional Agraria - ECPv6.15.20//NONSGML v1.0//EN
CALSCALE:GREGORIAN
METHOD:PUBLISH
X-ORIGINAL-URL:https://www.una.edu.ni
X-WR-CALDESC:Eventos para Universidad Nacional Agraria
REFRESH-INTERVAL;VALUE=DURATION:PT1H
X-Robots-Tag:noindex
X-PUBLISHED-TTL:PT1H
BEGIN:VTIMEZONE
TZID:America/Managua
BEGIN:STANDARD
TZOFFSETFROM:-0600
TZOFFSETTO:-0600
TZNAME:CST
DTSTART:20240101T000000
END:STANDARD
END:VTIMEZONE
BEGIN:VEVENT
DTSTART;TZID=America/Managua:20250930T080000
DTEND;TZID=America/Managua:20250930T120000
DTSTAMP:20260422T220648
CREATED:20250929T150413Z
LAST-MODIFIED:20250929T150413Z
UID:26495-1759219200-1759233600@www.una.edu.ni
SUMMARY:Taller sobre Manejo zootécnico de sistemas pecuarios
DESCRIPTION:
URL:https://www.una.edu.ni/event/taller-sobre-manejo-zootecnico-de-sistemas-pecuarios/
LOCATION:Universidad Nacional Agraria\, Managua\, km 12 1/2\, Managua\, Nicaragua
CATEGORIES:TALLER
END:VEVENT
BEGIN:VEVENT
DTSTART;TZID=America/Managua:20250930T090000
DTEND;TZID=America/Managua:20250930T120000
DTSTAMP:20260422T220648
CREATED:20250929T145847Z
LAST-MODIFIED:20250929T145847Z
UID:26491-1759222800-1759233600@www.una.edu.ni
SUMMARY:Torneo relámpago de Futbol sala y voleibol con protagonistas del Programa Integral de Educación Superior para Presos de Matagalpa
DESCRIPTION:
URL:https://www.una.edu.ni/event/torneo-relampago-de-futbol-sala-y-voleibol-con-protagonistas-del-programa-integral-de-educacion-superior-para-presos-de-matagalpa/
LOCATION:Sistema Penitenciario de Matagalpa\, Nicaragua
CATEGORIES:OTROS
END:VEVENT
BEGIN:VEVENT
DTSTART;TZID=America/Managua:20250930T090000
DTEND;TZID=America/Managua:20250930T120000
DTSTAMP:20260422T220648
CREATED:20250929T150252Z
LAST-MODIFIED:20250929T150252Z
UID:26493-1759222800-1759233600@www.una.edu.ni
SUMMARY:Encuentro con productores sobre valor agregado de marango y su proceso de transformación
DESCRIPTION:
URL:https://www.una.edu.ni/event/encuentro-con-productores-sobre-valor-agregado-de-marango-y-su-proceso-de-transformacion/
LOCATION:Centro de Desarrollo Moringa Comandante Fidel\, municipio de León\, Nicaragua
CATEGORIES:ENCUENTRO
END:VEVENT
BEGIN:VEVENT
DTSTART;TZID=America/Managua:20250930T140000
DTEND;TZID=America/Managua:20250930T170000
DTSTAMP:20260422T220648
CREATED:20250929T150509Z
LAST-MODIFIED:20250929T150509Z
UID:26497-1759240800-1759251600@www.una.edu.ni
SUMMARY:Taller sobre Manejo de plantas forestales
DESCRIPTION:
URL:https://www.una.edu.ni/event/taller-sobre-manejo-de-plantas-forestales/
LOCATION:UNICAM El Ayote\, Juigalpa\, Nicaragua
CATEGORIES:TALLER
END:VEVENT
END:VCALENDAR