BEGIN:VCALENDAR
VERSION:2.0
PRODID:-//Universidad Nacional Agraria - ECPv6.15.20//NONSGML v1.0//EN
CALSCALE:GREGORIAN
METHOD:PUBLISH
X-ORIGINAL-URL:https://www.una.edu.ni
X-WR-CALDESC:Eventos para Universidad Nacional Agraria
REFRESH-INTERVAL;VALUE=DURATION:PT1H
X-Robots-Tag:noindex
X-PUBLISHED-TTL:PT1H
BEGIN:VTIMEZONE
TZID:America/Managua
BEGIN:STANDARD
TZOFFSETFROM:-0600
TZOFFSETTO:-0600
TZNAME:CST
DTSTART:20240101T000000
END:STANDARD
END:VTIMEZONE
BEGIN:VEVENT
DTSTART;TZID=America/Managua:20251001T080000
DTEND;TZID=America/Managua:20251001T120000
DTSTAMP:20260422T220651
CREATED:20250929T151118Z
LAST-MODIFIED:20250929T151118Z
UID:26501-1759305600-1759320000@www.una.edu.ni
SUMMARY:Diplomado sobre producción de hortalizas
DESCRIPTION:
URL:https://www.una.edu.ni/event/diplomado-sobre-produccion-de-hortalizas/
LOCATION:Centro Universitario Regional UNA Camoapa\, Camoapa
CATEGORIES:DIPLOMADO
END:VEVENT
BEGIN:VEVENT
DTSTART;TZID=America/Managua:20251001T080000
DTEND;TZID=America/Managua:20251001T120000
DTSTAMP:20260422T220651
CREATED:20250929T151323Z
LAST-MODIFIED:20250929T151323Z
UID:26505-1759305600-1759320000@www.una.edu.ni
SUMMARY:Encuentro departamental de ganadería sostenible
DESCRIPTION:
URL:https://www.una.edu.ni/event/encuentro-departamental-de-ganaderia-sostenible/
LOCATION:Centro Universitario Regional UNA Juigalpa\, Juigapa
CATEGORIES:ENCUENTRO
END:VEVENT
BEGIN:VEVENT
DTSTART;TZID=America/Managua:20251001T083000
DTEND;TZID=America/Managua:20251001T120000
DTSTAMP:20260422T220651
CREATED:20250929T151015Z
LAST-MODIFIED:20250929T151015Z
UID:26499-1759307400-1759320000@www.una.edu.ni
SUMMARY:Curso sobre “Corte selectos en bovinos”
DESCRIPTION:
URL:https://www.una.edu.ni/event/curso-sobre-corte-selectos-en-bovinos/
LOCATION:Universidad Nacional Agraria\, Managua\, km 12 1/2\, Managua\, Nicaragua
CATEGORIES:CURSO
END:VEVENT
BEGIN:VEVENT
DTSTART;TZID=America/Managua:20251001T083000
DTEND;TZID=America/Managua:20251001T120000
DTSTAMP:20260422T220651
CREATED:20250929T151223Z
LAST-MODIFIED:20250929T151223Z
UID:26503-1759307400-1759320000@www.una.edu.ni
SUMMARY:Foro Científico sobre producción sostenible y mejora genética de tilapia
DESCRIPTION:
URL:https://www.una.edu.ni/event/foro-cientifico-sobre-produccion-sostenible-y-mejora-genetica-de-tilapia/
LOCATION:Universidad Nacional Agraria\, Managua\, km 12 1/2\, Managua\, Nicaragua
CATEGORIES:FORO
END:VEVENT
BEGIN:VEVENT
DTSTART;TZID=America/Managua:20251001T090000
DTEND;TZID=America/Managua:20251001T120000
DTSTAMP:20260422T220651
CREATED:20250929T151429Z
LAST-MODIFIED:20250929T151429Z
UID:26507-1759309200-1759320000@www.una.edu.ni
SUMMARY:Divulgación de Oferta académica del CUR “Héroes de Chinandega”\, en diferentes Escuelas secundarias del Departamento
DESCRIPTION:
URL:https://www.una.edu.ni/event/divulgacion-de-oferta-academica-del-cur-heroes-de-chinandega-en-diferentes-escuelas-secundarias-del-departamento/
LOCATION:Chinandega\, Nicaragua
CATEGORIES:OTROS
END:VEVENT
END:VCALENDAR