BEGIN:VCALENDAR
VERSION:2.0
PRODID:-//Universidad Nacional Agraria - ECPv6.15.20//NONSGML v1.0//EN
CALSCALE:GREGORIAN
METHOD:PUBLISH
X-WR-CALNAME:Universidad Nacional Agraria
X-ORIGINAL-URL:https://www.una.edu.ni
X-WR-CALDESC:Eventos para Universidad Nacional Agraria
REFRESH-INTERVAL;VALUE=DURATION:PT1H
X-Robots-Tag:noindex
X-PUBLISHED-TTL:PT1H
BEGIN:VTIMEZONE
TZID:America/Managua
BEGIN:STANDARD
TZOFFSETFROM:-0600
TZOFFSETTO:-0600
TZNAME:CST
DTSTART:20240101T000000
END:STANDARD
END:VTIMEZONE
BEGIN:VEVENT
DTSTART;TZID=America/Managua:20251009T080000
DTEND;TZID=America/Managua:20251009T120000
DTSTAMP:20260423T021206
CREATED:20251007T144542Z
LAST-MODIFIED:20251007T144542Z
UID:26711-1759996800-1760011200@www.una.edu.ni
SUMMARY:Curso sobre Mejora genética en el cultivo de frijol
DESCRIPTION:
URL:https://www.una.edu.ni/event/curso-sobre-mejora-genetica-en-el-cultivo-de-frijol/
LOCATION:Centro Universitario Regional UNA Juigalpa\, Juigapa
CATEGORIES:CURSO
END:VEVENT
BEGIN:VEVENT
DTSTART;TZID=America/Managua:20251009T090000
DTEND;TZID=America/Managua:20251009T120000
DTSTAMP:20260423T021206
CREATED:20251007T143333Z
LAST-MODIFIED:20251007T143333Z
UID:26694-1760000400-1760011200@www.una.edu.ni
SUMMARY:Lanzamiento del Diplomado “Emprendimiento de cafés”
DESCRIPTION:
URL:https://www.una.edu.ni/event/lanzamiento-del-diplomado-emprendimiento-de-cafes/
LOCATION:Palacio de Bellas Artes\, departamento de Carazo\, Nicaragua
CATEGORIES:LANZAMIENTO
END:VEVENT
BEGIN:VEVENT
DTSTART;TZID=America/Managua:20251009T090000
DTEND;TZID=America/Managua:20251009T120000
DTSTAMP:20260423T021206
CREATED:20251007T143648Z
LAST-MODIFIED:20251007T143648Z
UID:26700-1760000400-1760011200@www.una.edu.ni
SUMMARY:Entrega de Certificados a protagonistas del Curso sobre procesamiento de frutas\, verduras y hortalizas
DESCRIPTION:
URL:https://www.una.edu.ni/event/entrega-de-certificados-a-protagonistas-del-curso-sobre-procesamiento-de-frutas-verduras-y-hortalizas/
LOCATION:Universidad Nacional Agraria\, Managua\, km 12 1/2\, Managua\, Nicaragua
CATEGORIES:OTROS
END:VEVENT
BEGIN:VEVENT
DTSTART;TZID=America/Managua:20251009T090000
DTEND;TZID=America/Managua:20251009T120000
DTSTAMP:20260423T021206
CREATED:20251007T144159Z
LAST-MODIFIED:20251007T144159Z
UID:26709-1760000400-1760011200@www.una.edu.ni
SUMMARY:Curso de catación y barismo en café
DESCRIPTION:
URL:https://www.una.edu.ni/event/curso-de-catacion-y-barismo-en-cafe/
LOCATION:Centro Universitario “Padre y Comandante Camilo Tórres Restrepo”\, Matagalpa\, Nicaragua
CATEGORIES:CURSO
END:VEVENT
BEGIN:VEVENT
DTSTART;TZID=America/Managua:20251009T090000
DTEND;TZID=America/Managua:20251009T120000
DTSTAMP:20260423T021206
CREATED:20251007T144900Z
LAST-MODIFIED:20251007T144900Z
UID:26718-1760000400-1760011200@www.una.edu.ni
SUMMARY:Foro tecnológico sobre procesamiento de productos a base de moringa
DESCRIPTION:
URL:https://www.una.edu.ni/event/foro-tecnologico-sobre-procesamiento-de-productos-a-base-de-moringa/
LOCATION:Centro de Desarrollo Moringa Comandante Fidel\, municipio de León\, Nicaragua
CATEGORIES:FORO
END:VEVENT
BEGIN:VEVENT
DTSTART;TZID=America/Managua:20251009T090000
DTEND;TZID=America/Managua:20251009T120000
DTSTAMP:20260423T021206
CREATED:20251007T145049Z
LAST-MODIFIED:20251007T145049Z
UID:26720-1760000400-1760011200@www.una.edu.ni
SUMMARY:Expo Feria creativa en conmemoración al Día de la Resistencia Indígena
DESCRIPTION:
URL:https://www.una.edu.ni/event/expo-feria-creativa-en-conmemoracion-al-dia-de-la-resistencia-indigena/
LOCATION:Centro Universitario “Héroes de Chinandega”\, Nicaragua
CATEGORIES:FERIA
END:VEVENT
BEGIN:VEVENT
DTSTART;TZID=America/Managua:20251009T100000
DTEND;TZID=America/Managua:20251009T130000
DTSTAMP:20260423T021206
CREATED:20251007T144643Z
LAST-MODIFIED:20251007T144643Z
UID:26713-1760004000-1760014800@www.una.edu.ni
SUMMARY:Curso sobre producción de abonos orgánicos para cultivos
DESCRIPTION:
URL:https://www.una.edu.ni/event/curso-sobre-produccion-de-abonos-organicos-para-cultivos/
LOCATION:Universidad Nacional Agraria\, Managua\, km 12 1/2\, Managua\, Nicaragua
CATEGORIES:CURSO
END:VEVENT
BEGIN:VEVENT
DTSTART;TZID=America/Managua:20251009T110000
DTEND;TZID=America/Managua:20251009T130000
DTSTAMP:20260423T021206
CREATED:20251007T143859Z
LAST-MODIFIED:20251007T143859Z
UID:26705-1760007600-1760014800@www.una.edu.ni
SUMMARY:Diplomado para mejorar la producción y productividad agropecuaria\, con el tema “Comercialización de ganado en pie y leche”
DESCRIPTION:
URL:https://www.una.edu.ni/event/diplomado-para-mejorar-la-produccion-y-productividad-agropecuaria-con-el-tema-comercializacion-de-ganado-en-pie-y-leche/
LOCATION:Plataforma UALN\, Nicaragua
CATEGORIES:DIPLOMADO
END:VEVENT
BEGIN:VEVENT
DTSTART;TZID=America/Managua:20251009T110000
DTEND;TZID=America/Managua:20251009T150000
DTSTAMP:20260423T021206
CREATED:20251007T145853Z
LAST-MODIFIED:20251007T145853Z
UID:26726-1760007600-1760022000@www.una.edu.ni
SUMMARY:Festival de poesía y música campesina en conmemoración al Día de la Resistencia Indígena
DESCRIPTION:
URL:https://www.una.edu.ni/event/festival-de-poesia-y-musica-campesina-en-conmemoracion-al-dia-de-la-resistencia-indigena/
LOCATION:UNICAM Morrito\, Nicaragua
CATEGORIES:FESTIVAL
END:VEVENT
END:VCALENDAR