BEGIN:VCALENDAR
VERSION:2.0
PRODID:-//Universidad Nacional Agraria - ECPv6.15.20//NONSGML v1.0//EN
CALSCALE:GREGORIAN
METHOD:PUBLISH
X-WR-CALNAME:Universidad Nacional Agraria
X-ORIGINAL-URL:https://www.una.edu.ni
X-WR-CALDESC:Eventos para Universidad Nacional Agraria
REFRESH-INTERVAL;VALUE=DURATION:PT1H
X-Robots-Tag:noindex
X-PUBLISHED-TTL:PT1H
BEGIN:VTIMEZONE
TZID:America/Managua
BEGIN:STANDARD
TZOFFSETFROM:-0600
TZOFFSETTO:-0600
TZNAME:CST
DTSTART:20240101T000000
END:STANDARD
END:VTIMEZONE
BEGIN:VEVENT
DTSTART;TZID=America/Managua:20251010T100000
DTEND;TZID=America/Managua:20251011T100000
DTSTAMP:20260423T072032
CREATED:20251007T143518Z
LAST-MODIFIED:20251007T143518Z
UID:26697-1760090400-1760176800@www.una.edu.ni
SUMMARY:Participación en Rally Latinoamericano de Innovación 2025
DESCRIPTION:
URL:https://www.una.edu.ni/event/participacion-en-rally-latinoamericano-de-innovacion-2025/
LOCATION:Sede Central\, CUR UNA Juigalpa y Camoapa\, Nicaragua
CATEGORIES:OTROS
END:VEVENT
BEGIN:VEVENT
DTSTART;TZID=America/Managua:20251011T080000
DTEND;TZID=America/Managua:20251011T120000
DTSTAMP:20260423T072032
CREATED:20251007T143746Z
LAST-MODIFIED:20251007T143746Z
UID:26702-1760169600-1760184000@www.una.edu.ni
SUMMARY:Lanzamiento e inicio de nuevos Diplomados de la Escuela de plátano en comunidades de Altagracia\, Isla de Ometepe
DESCRIPTION:
URL:https://www.una.edu.ni/event/lanzamiento-e-inicio-de-nuevos-diplomados-de-la-escuela-de-platano-en-comunidades-de-altagracia-isla-de-ometepe/
LOCATION:comunidad San Marcos\, Isla de Ometepe\, Nicaragua
CATEGORIES:LANZAMIENTO
END:VEVENT
BEGIN:VEVENT
DTSTART;TZID=America/Managua:20251011T090000
DTEND;TZID=America/Managua:20251011T120000
DTSTAMP:20260423T072032
CREATED:20251007T150000Z
LAST-MODIFIED:20251007T150000Z
UID:26728-1760173200-1760184000@www.una.edu.ni
SUMMARY:Feria “Zona Emprende” en conmemoración al Día de la Resistencia Indígena
DESCRIPTION:
URL:https://www.una.edu.ni/event/feria-zona-emprende-en-conmemoracion-al-dia-de-la-resistencia-indigena/
LOCATION:Universidad La Sandino\, Nicaragua
CATEGORIES:FERIA
END:VEVENT
BEGIN:VEVENT
DTSTART;TZID=America/Managua:20251011T100000
DTEND;TZID=America/Managua:20251011T130000
DTSTAMP:20260423T072032
CREATED:20251007T143228Z
LAST-MODIFIED:20251007T143228Z
UID:26691-1760176800-1760187600@www.una.edu.ni
SUMMARY:Graduación de Protagonistas del Diplomado de Tecnologías para mejorar la producción y productividad agropecuaria
DESCRIPTION:
URL:https://www.una.edu.ni/event/graduacion-de-protagonistas-del-diplomado-de-tecnologias-para-mejorar-la-produccion-y-productividad-agropecuaria/
LOCATION:Costa Caribe\, Nicaragua
CATEGORIES:GRADUACIÓN
END:VEVENT
BEGIN:VEVENT
DTSTART;TZID=America/Managua:20251011T160000
DTEND;TZID=America/Managua:20251011T180000
DTSTAMP:20260423T072032
CREATED:20251007T145253Z
LAST-MODIFIED:20251007T145253Z
UID:26722-1760198400-1760205600@www.una.edu.ni
SUMMARY:Carnaval de huipil en conmemoración al Día de la Resistencia Indígena
DESCRIPTION:
URL:https://www.una.edu.ni/event/carnaval-de-huipil-en-conmemoracion-al-dia-de-la-resistencia-indigena/
LOCATION:Universidad La Sandino\, Nicaragua
CATEGORIES:OTROS
END:VEVENT
END:VCALENDAR