BEGIN:VCALENDAR
VERSION:2.0
PRODID:-//Universidad Nacional Agraria - ECPv6.15.20//NONSGML v1.0//EN
CALSCALE:GREGORIAN
METHOD:PUBLISH
X-WR-CALNAME:Universidad Nacional Agraria
X-ORIGINAL-URL:https://www.una.edu.ni
X-WR-CALDESC:Eventos para Universidad Nacional Agraria
REFRESH-INTERVAL;VALUE=DURATION:PT1H
X-Robots-Tag:noindex
X-PUBLISHED-TTL:PT1H
BEGIN:VTIMEZONE
TZID:America/Managua
BEGIN:STANDARD
TZOFFSETFROM:-0600
TZOFFSETTO:-0600
TZNAME:CST
DTSTART:20240101T000000
END:STANDARD
END:VTIMEZONE
BEGIN:VEVENT
DTSTART;TZID=America/Managua:20251015T080000
DTEND;TZID=America/Managua:20251015T120000
DTSTAMP:20260423T021206
CREATED:20251013T165900Z
LAST-MODIFIED:20251013T165900Z
UID:26791-1760515200-1760529600@www.una.edu.ni
SUMMARY:Entrega de Certificados a protagonistas del Diplomado en Uso de herramientas digitales para medición de áreas
DESCRIPTION:
URL:https://www.una.edu.ni/event/entrega-de-certificados-a-protagonistas-del-diplomado-en-uso-de-herramientas-digitales-para-medicion-de-areas/
LOCATION:UNICAM Matiguás\, Nicaragua
CATEGORIES:OTROS
END:VEVENT
BEGIN:VEVENT
DTSTART;TZID=America/Managua:20251015T080000
DTEND;TZID=America/Managua:20251015T120000
DTSTAMP:20260423T021206
CREATED:20251013T170012Z
LAST-MODIFIED:20251013T170012Z
UID:26793-1760515200-1760529600@www.una.edu.ni
SUMMARY:Curso sobre Valor agregado de moringa
DESCRIPTION:
URL:https://www.una.edu.ni/event/curso-sobre-valor-agregado-de-moringa/
LOCATION:Centro de Desarrollo Moringa Comandante Fidel\, municipio de León\, Nicaragua
CATEGORIES:CURSO
END:VEVENT
BEGIN:VEVENT
DTSTART;TZID=America/Managua:20251015T080000
DTEND;TZID=America/Managua:20251015T120000
DTSTAMP:20260423T021206
CREATED:20251013T170242Z
LAST-MODIFIED:20251013T170242Z
UID:26797-1760515200-1760529600@www.una.edu.ni
SUMMARY:Foro sobre Maquinaria agrícola “Tecnologías emergentes para una agricultura sostenible”
DESCRIPTION:
URL:https://www.una.edu.ni/event/foro-sobre-maquinaria-agricola-tecnologias-emergentes-para-una-agricultura-sostenible/
LOCATION:Universidad Nacional Agraria\, Managua\, km 12 1/2\, Managua\, Nicaragua
CATEGORIES:FORO
END:VEVENT
BEGIN:VEVENT
DTSTART;TZID=America/Managua:20251015T080000
DTEND;TZID=America/Managua:20251015T120000
DTSTAMP:20260423T021206
CREATED:20251013T170610Z
LAST-MODIFIED:20251013T170610Z
UID:26801-1760515200-1760529600@www.una.edu.ni
SUMMARY:Taller sobre Elaboración de suplementos nutricionales para bovinos
DESCRIPTION:
URL:https://www.una.edu.ni/event/taller-sobre-elaboracion-de-suplementos-nutricionales-para-bovinos/
LOCATION:Centro Universitario Regional UNA Camoapa\, Camoapa
CATEGORIES:TALLER
END:VEVENT
BEGIN:VEVENT
DTSTART;TZID=America/Managua:20251015T080000
DTEND;TZID=America/Managua:20251015T120000
DTSTAMP:20260423T021206
CREATED:20251013T171634Z
LAST-MODIFIED:20251013T171634Z
UID:26805-1760515200-1760529600@www.una.edu.ni
SUMMARY:Establecimiento de zoocriadero de iguanas verdes y otros reptiles
DESCRIPTION:
URL:https://www.una.edu.ni/event/establecimiento-de-zoocriadero-de-iguanas-verdes-y-otros-reptiles/
LOCATION:Universidad Nacional Agraria\, Managua\, km 12 1/2\, Managua\, Nicaragua
CATEGORIES:OTROS
END:VEVENT
BEGIN:VEVENT
DTSTART;TZID=America/Managua:20251015T080000
DTEND;TZID=America/Managua:20251015T120000
DTSTAMP:20260423T021206
CREATED:20251013T171758Z
LAST-MODIFIED:20251013T171758Z
UID:26807-1760515200-1760529600@www.una.edu.ni
SUMMARY:Establecimiento de viveros forestales en el marco del Programa “Verde que te quiero verde
DESCRIPTION:
URL:https://www.una.edu.ni/event/establecimiento-de-viveros-forestales-en-el-marco-del-programa-verde-que-te-quiero-verde/
LOCATION:UNICAM Altagracia\, Nicaragua
CATEGORIES:OTROS
END:VEVENT
BEGIN:VEVENT
DTSTART;TZID=America/Managua:20251015T083000
DTEND;TZID=America/Managua:20251015T120000
DTSTAMP:20260423T021206
CREATED:20251013T170441Z
LAST-MODIFIED:20251013T170441Z
UID:26799-1760517000-1760529600@www.una.edu.ni
SUMMARY:Conferencia sobre Innovación y diseño de marca para emprendedores del sector agropecuario
DESCRIPTION:
URL:https://www.una.edu.ni/event/conferencia-sobre-innovacion-y-diseno-de-marca-para-emprendedores-del-sector-agropecuario/
LOCATION:Universidad Nacional Agraria\, Managua\, km 12 1/2\, Managua\, Nicaragua
CATEGORIES:CONFERENCIA
END:VEVENT
BEGIN:VEVENT
DTSTART;TZID=America/Managua:20251015T090000
DTEND;TZID=America/Managua:20251015T120000
DTSTAMP:20260423T021206
CREATED:20251013T170747Z
LAST-MODIFIED:20251013T171213Z
UID:26803-1760518800-1760529600@www.una.edu.ni
SUMMARY:Taller sobre Aplicación de insumos biológicos para el control de plagas y enfermedades en frutales
DESCRIPTION:
URL:https://www.una.edu.ni/event/taller-sobre-aplicacion-de-insumos-biologicos-para-el-control-de-plagas-y-enfermedades-en-frutales/
LOCATION:Municipio de Tisma\, Masaya\, Nicaragua
CATEGORIES:TALLER
END:VEVENT
BEGIN:VEVENT
DTSTART;TZID=America/Managua:20251015T100000
DTEND;TZID=America/Managua:20251015T130000
DTSTAMP:20260423T021206
CREATED:20251013T165738Z
LAST-MODIFIED:20251013T165738Z
UID:26789-1760522400-1760533200@www.una.edu.ni
SUMMARY:Certamen de uso de Inteligencia Artificial aplicada a la Agricultura
DESCRIPTION:
URL:https://www.una.edu.ni/event/certamen-de-uso-de-inteligencia-artificial-aplicada-a-la-agricultura/
LOCATION:Universidad Nacional Agraria\, Managua\, km 12 1/2\, Managua\, Nicaragua
CATEGORIES:OTROS
END:VEVENT
BEGIN:VEVENT
DTSTART;TZID=America/Managua:20251015T130000
DTEND;TZID=America/Managua:20251015T170000
DTSTAMP:20260423T021206
CREATED:20251013T170129Z
LAST-MODIFIED:20251013T170129Z
UID:26795-1760533200-1760547600@www.una.edu.ni
SUMMARY:Encuentro de mujeres productoras del municipio de Esquipulas\, Matagalpa
DESCRIPTION:
URL:https://www.una.edu.ni/event/encuentro-de-mujeres-productoras-del-municipio-de-esquipulas-matagalpa/
LOCATION:UNICAM Esquipulas\, Nicaragua
CATEGORIES:ENCUENTRO
END:VEVENT
END:VCALENDAR