BEGIN:VCALENDAR
VERSION:2.0
PRODID:-//Universidad Nacional Agraria - ECPv6.15.20//NONSGML v1.0//EN
CALSCALE:GREGORIAN
METHOD:PUBLISH
X-ORIGINAL-URL:https://www.una.edu.ni
X-WR-CALDESC:Eventos para Universidad Nacional Agraria
REFRESH-INTERVAL;VALUE=DURATION:PT1H
X-Robots-Tag:noindex
X-PUBLISHED-TTL:PT1H
BEGIN:VTIMEZONE
TZID:America/Managua
BEGIN:STANDARD
TZOFFSETFROM:-0600
TZOFFSETTO:-0600
TZNAME:CST
DTSTART:20240101T000000
END:STANDARD
END:VTIMEZONE
BEGIN:VEVENT
DTSTART;TZID=America/Managua:20251016T080000
DTEND;TZID=America/Managua:20251016T120000
DTSTAMP:20260423T045827
CREATED:20251013T172956Z
LAST-MODIFIED:20251013T172956Z
UID:26813-1760601600-1760616000@www.una.edu.ni
SUMMARY:Curso sobre Técnicas de elaboración de quesos y derivados lácteos
DESCRIPTION:
URL:https://www.una.edu.ni/event/curso-sobre-tecnicas-de-elaboracion-de-quesos-y-derivados-lacteos/
LOCATION:Municipio de San Francisco Libre\, Nicaragua
CATEGORIES:CURSO
END:VEVENT
BEGIN:VEVENT
DTSTART;TZID=America/Managua:20251016T080000
DTEND;TZID=America/Managua:20251016T120000
DTSTAMP:20260423T045827
CREATED:20251013T173404Z
LAST-MODIFIED:20251013T173404Z
UID:26819-1760601600-1760616000@www.una.edu.ni
SUMMARY:Encuentro con emprendedores de marango\, en saludo al Día mundial de la alimentación
DESCRIPTION:
URL:https://www.una.edu.ni/event/encuentro-con-emprendedores-de-marango-en-saludo-al-dia-mundial-de-la-alimentacion/
LOCATION:Centro de Desarrollo Moringa Comandante Fidel\, municipio de León\, Nicaragua
CATEGORIES:ENCUENTRO
END:VEVENT
BEGIN:VEVENT
DTSTART;TZID=America/Managua:20251016T080000
DTEND;TZID=America/Managua:20251016T120000
DTSTAMP:20260423T045827
CREATED:20251013T173459Z
LAST-MODIFIED:20251013T173459Z
UID:26821-1760601600-1760616000@www.una.edu.ni
SUMMARY:Foro Científico sobre Diagnóstico y tratamiento de enfermedades en rumiantes
DESCRIPTION:
URL:https://www.una.edu.ni/event/foro-cientifico-sobre-diagnostico-y-tratamiento-de-enfermedades-en-rumiantes/
LOCATION:Universidad Nacional Agraria\, Managua\, km 12 1/2\, Managua\, Nicaragua
CATEGORIES:FORO
END:VEVENT
BEGIN:VEVENT
DTSTART;TZID=America/Managua:20251016T080000
DTEND;TZID=America/Managua:20251016T120000
DTSTAMP:20260423T045827
CREATED:20251013T173936Z
LAST-MODIFIED:20251013T173936Z
UID:26829-1760601600-1760616000@www.una.edu.ni
SUMMARY:Jornada de atención veterinaria en fincas de productores de caprinos y ovinos
DESCRIPTION:
URL:https://www.una.edu.ni/event/jornada-de-atencion-veterinaria-en-fincas-de-productores-de-caprinos-y-ovinos/
LOCATION:Centro Universitario Regional UNA Camoapa\, Camoapa
CATEGORIES:JORNADA
END:VEVENT
BEGIN:VEVENT
DTSTART;TZID=America/Managua:20251016T083000
DTEND;TZID=America/Managua:20251016T120000
DTSTAMP:20260423T045827
CREATED:20251013T173128Z
LAST-MODIFIED:20251013T173128Z
UID:26815-1760603400-1760616000@www.una.edu.ni
SUMMARY:Diplomado en procesamiento de carne de cerdo
DESCRIPTION:
URL:https://www.una.edu.ni/event/diplomado-en-procesamiento-de-carne-de-cerdo/
LOCATION:Universidad Nacional Agraria\, Managua\, km 12 1/2\, Managua\, Nicaragua
CATEGORIES:DIPLOMADO
END:VEVENT
BEGIN:VEVENT
DTSTART;TZID=America/Managua:20251016T090000
DTEND;TZID=America/Managua:20251016T120000
DTSTAMP:20260423T045827
CREATED:20251013T173237Z
LAST-MODIFIED:20251013T173237Z
UID:26817-1760605200-1760616000@www.una.edu.ni
SUMMARY:Curso sobre Catación y Barismo
DESCRIPTION:
URL:https://www.una.edu.ni/event/curso-sobre-catacion-y-barismo/
LOCATION:Centro Universitario “Padre y Comandante Camilo Tórres Restrepo”\, Matagalpa\, Nicaragua
CATEGORIES:CURSO
END:VEVENT
BEGIN:VEVENT
DTSTART;TZID=America/Managua:20251016T100000
DTEND;TZID=America/Managua:20251016T120000
DTSTAMP:20260423T045827
CREATED:20251013T172528Z
LAST-MODIFIED:20251013T172528Z
UID:26809-1760608800-1760616000@www.una.edu.ni
SUMMARY:Entrega de Certificados a protagonistas del Diplomado en Transformación de productos agropecuarios
DESCRIPTION:
URL:https://www.una.edu.ni/event/entrega-de-certificados-a-protagonistas-del-diplomado-en-transformacion-de-productos-agropecuarios/
LOCATION:UNICAM San Lorenzo\, Boaco\, Nicaragua
CATEGORIES:OTROS
END:VEVENT
BEGIN:VEVENT
DTSTART;TZID=America/Managua:20251016T110000
DTEND;TZID=America/Managua:20251016T130000
DTSTAMP:20260423T045827
CREATED:20251013T172733Z
LAST-MODIFIED:20251013T172733Z
UID:26811-1760612400-1760619600@www.una.edu.ni
SUMMARY:Sesión del Diplomado de Tecnologías Agropecuarias\, con el tema: Variedades de aguacate por departamento
DESCRIPTION:
URL:https://www.una.edu.ni/event/sesion-del-diplomado-de-tecnologias-agropecuarias-con-el-tema-variedades-de-aguacate-por-departamento/
LOCATION:Plataforma UALN\, Nicaragua
CATEGORIES:DIPLOMADO
END:VEVENT
BEGIN:VEVENT
DTSTART;TZID=America/Managua:20251016T130000
DTEND;TZID=America/Managua:20251016T170000
DTSTAMP:20260423T045827
CREATED:20251013T173622Z
LAST-MODIFIED:20251013T173622Z
UID:26823-1760619600-1760634000@www.una.edu.ni
SUMMARY:Taller sobre Establecimiento de Huertos Escolares con cultivos de plantas medicinales
DESCRIPTION:
URL:https://www.una.edu.ni/event/taller-sobre-establecimiento-de-huertos-escolares-con-cultivos-de-plantas-medicinales/
LOCATION:Colegio José Dolores Estrada\, Nicaragua
CATEGORIES:TALLER
END:VEVENT
BEGIN:VEVENT
DTSTART;TZID=America/Managua:20251016T180000
DTEND;TZID=America/Managua:20251016T200000
DTSTAMP:20260423T045827
CREATED:20251013T173743Z
LAST-MODIFIED:20251013T173743Z
UID:26826-1760637600-1760644800@www.una.edu.ni
SUMMARY:Gala artística y cultural\, en saludo al Día de la Resistencia Indígena\, negra y popular\, con expresiones danzarías y teatrales de los pueblos originarios
DESCRIPTION:
URL:https://www.una.edu.ni/event/gala-artistica-y-cultural-en-saludo-al-dia-de-la-resistencia-indigena-negra-y-popular-con-expresiones-danzarias-y-teatrales-de-los-pueblos-originarios/
LOCATION:Universidad Nacional Agraria\, Managua\, km 12 1/2\, Managua\, Nicaragua
CATEGORIES:OTROS
END:VEVENT
END:VCALENDAR