BEGIN:VCALENDAR
VERSION:2.0
PRODID:-//Universidad Nacional Agraria - ECPv6.15.20//NONSGML v1.0//EN
CALSCALE:GREGORIAN
METHOD:PUBLISH
X-WR-CALNAME:Universidad Nacional Agraria
X-ORIGINAL-URL:https://www.una.edu.ni
X-WR-CALDESC:Eventos para Universidad Nacional Agraria
REFRESH-INTERVAL;VALUE=DURATION:PT1H
X-Robots-Tag:noindex
X-PUBLISHED-TTL:PT1H
BEGIN:VTIMEZONE
TZID:America/Managua
BEGIN:STANDARD
TZOFFSETFROM:-0600
TZOFFSETTO:-0600
TZNAME:CST
DTSTART:20240101T000000
END:STANDARD
END:VTIMEZONE
BEGIN:VEVENT
DTSTART;TZID=America/Managua:20251017T080000
DTEND;TZID=America/Managua:20251017T120000
DTSTAMP:20260423T034153
CREATED:20251013T220805Z
LAST-MODIFIED:20251013T220805Z
UID:26928-1760688000-1760702400@www.una.edu.ni
SUMMARY:Diplomado de Agronegocios en café y tostaduría
DESCRIPTION:
URL:https://www.una.edu.ni/event/diplomado-de-agronegocios-en-cafe-y-tostaduria/
LOCATION:Museo del Café\, Jinotega\, Nicaragua
CATEGORIES:DIPLOMADO
END:VEVENT
BEGIN:VEVENT
DTSTART;TZID=America/Managua:20251017T080000
DTEND;TZID=America/Managua:20251017T120000
DTSTAMP:20260423T034153
CREATED:20251013T222455Z
LAST-MODIFIED:20251013T222455Z
UID:26933-1760688000-1760702400@www.una.edu.ni
SUMMARY:Taller sobre Calidad de la leche
DESCRIPTION:
URL:https://www.una.edu.ni/event/taller-sobre-calidad-de-la-leche/
LOCATION:Universidad Nacional Agraria\, Managua\, km 12 1/2\, Managua\, Nicaragua
CATEGORIES:TALLER
END:VEVENT
BEGIN:VEVENT
DTSTART;TZID=America/Managua:20251017T090000
DTEND;TZID=America/Managua:20251017T120000
DTSTAMP:20260423T034153
CREATED:20251013T220956Z
LAST-MODIFIED:20251013T220956Z
UID:26931-1760691600-1760702400@www.una.edu.ni
SUMMARY:Diplomado sobre Caficultura sostenible
DESCRIPTION:
URL:https://www.una.edu.ni/event/diplomado-sobre-caficultura-sostenible/
LOCATION:Centro Universitario “Padre y Comandante Camilo Tórres Restrepo”\, Matagalpa\, Nicaragua
CATEGORIES:DIPLOMADO
END:VEVENT
BEGIN:VEVENT
DTSTART;TZID=America/Managua:20251017T090000
DTEND;TZID=America/Managua:20251017T120000
DTSTAMP:20260423T034153
CREATED:20251013T222614Z
LAST-MODIFIED:20251013T222614Z
UID:26935-1760691600-1760702400@www.una.edu.ni
SUMMARY:Jornada de reciclaje en el marco del Programa “Verde que te quiero verde"
DESCRIPTION:
URL:https://www.una.edu.ni/event/jornada-de-reciclaje-en-el-marco-del-programa-verde-que-te-quiero-verde/
LOCATION:Universidad Nacional Agraria\, Managua\, km 12 1/2\, Managua\, Nicaragua
CATEGORIES:JORNADA
END:VEVENT
BEGIN:VEVENT
DTSTART;TZID=America/Managua:20251017T090000
DTEND;TZID=America/Managua:20251017T120000
DTSTAMP:20260423T034153
CREATED:20251013T222844Z
LAST-MODIFIED:20251013T222844Z
UID:26939-1760691600-1760702400@www.una.edu.ni
SUMMARY:Adopción de plantas en el marco del Programa “Verde que te quiero verde"
DESCRIPTION:
URL:https://www.una.edu.ni/event/adopcion-de-plantas-en-el-marco-del-programa-verde-que-te-quiero-verde-2/
LOCATION:Valle Los Aburtos\, Nicaragua
CATEGORIES:OTROS
END:VEVENT
BEGIN:VEVENT
DTSTART;TZID=America/Managua:20251017T100000
DTEND;TZID=America/Managua:20251017T120000
DTSTAMP:20260423T034153
CREATED:20251013T220420Z
LAST-MODIFIED:20251013T220420Z
UID:26924-1760695200-1760702400@www.una.edu.ni
SUMMARY:Inauguración de mejora del Edificio “Pedro Aráuz Palacios”\, en conmemoración del 48 Aniversario de su tránsito a la inmortalidad
DESCRIPTION:
URL:https://www.una.edu.ni/event/inauguracion-de-mejora-del-edificio-pedro-arauz-palacios-en-conmemoracion-del-48-aniversario-de-su-transito-a-la-inmortalidad/
LOCATION:Universidad Nacional Agraria\, Managua\, km 12 1/2\, Managua\, Nicaragua
CATEGORIES:INAUGURACIÓN
END:VEVENT
BEGIN:VEVENT
DTSTART;TZID=America/Managua:20251017T100000
DTEND;TZID=America/Managua:20251017T120000
DTSTAMP:20260423T034153
CREATED:20251013T220631Z
LAST-MODIFIED:20251013T220631Z
UID:26926-1760695200-1760702400@www.una.edu.ni
SUMMARY:Entrega de Certificados a protagonistas del Curso sobre Diagnóstico reproductivo en bovinos
DESCRIPTION:
URL:https://www.una.edu.ni/event/entrega-de-certificados-a-protagonistas-del-curso-sobre-diagnostico-reproductivo-en-bovinos/
LOCATION:UNICAM San Lorenzo\, Boaco\, Nicaragua
CATEGORIES:OTROS
END:VEVENT
BEGIN:VEVENT
DTSTART;TZID=America/Managua:20251017T140000
DTEND;TZID=America/Managua:20251017T170000
DTSTAMP:20260423T034153
CREATED:20251013T222717Z
LAST-MODIFIED:20251013T222717Z
UID:26937-1760709600-1760720400@www.una.edu.ni
SUMMARY:Adopción de plantas en el marco del Programa “Verde que te quiero verde"
DESCRIPTION:
URL:https://www.una.edu.ni/event/adopcion-de-plantas-en-el-marco-del-programa-verde-que-te-quiero-verde/
LOCATION:UNICAM Altagracia\, Nicaragua
CATEGORIES:OTROS
END:VEVENT
END:VCALENDAR