BEGIN:VCALENDAR
VERSION:2.0
PRODID:-//Universidad Nacional Agraria - ECPv6.15.20//NONSGML v1.0//EN
CALSCALE:GREGORIAN
METHOD:PUBLISH
X-ORIGINAL-URL:https://www.una.edu.ni
X-WR-CALDESC:Eventos para Universidad Nacional Agraria
REFRESH-INTERVAL;VALUE=DURATION:PT1H
X-Robots-Tag:noindex
X-PUBLISHED-TTL:PT1H
BEGIN:VTIMEZONE
TZID:America/Managua
BEGIN:STANDARD
TZOFFSETFROM:-0600
TZOFFSETTO:-0600
TZNAME:CST
DTSTART:20240101T000000
END:STANDARD
END:VTIMEZONE
BEGIN:VEVENT
DTSTART;TZID=America/Managua:20251018T080000
DTEND;TZID=America/Managua:20251018T120000
DTSTAMP:20260423T045826
CREATED:20251013T223129Z
LAST-MODIFIED:20251013T223129Z
UID:26942-1760774400-1760788800@www.una.edu.ni
SUMMARY:Adopción de plantas en el marco del Programa “Verde que te quiero verde"
DESCRIPTION:
URL:https://www.una.edu.ni/event/adopcion-de-plantas-en-el-marco-del-programa-verde-que-te-quiero-verde-3/
LOCATION:UNICAM Ocotal\, Nicaragua
CATEGORIES:OTROS
END:VEVENT
END:VCALENDAR