BEGIN:VCALENDAR
VERSION:2.0
PRODID:-//Universidad Nacional Agraria - ECPv6.15.20//NONSGML v1.0//EN
CALSCALE:GREGORIAN
METHOD:PUBLISH
X-ORIGINAL-URL:https://www.una.edu.ni
X-WR-CALDESC:Eventos para Universidad Nacional Agraria
REFRESH-INTERVAL;VALUE=DURATION:PT1H
X-Robots-Tag:noindex
X-PUBLISHED-TTL:PT1H
BEGIN:VTIMEZONE
TZID:America/Managua
BEGIN:STANDARD
TZOFFSETFROM:-0600
TZOFFSETTO:-0600
TZNAME:CST
DTSTART:20240101T000000
END:STANDARD
END:VTIMEZONE
BEGIN:VEVENT
DTSTART;TZID=America/Managua:20251023T080000
DTEND;TZID=America/Managua:20251023T120000
DTSTAMP:20260423T045827
CREATED:20251022T143005Z
LAST-MODIFIED:20251022T143005Z
UID:27366-1761206400-1761220800@www.una.edu.ni
SUMMARY:Curso sobre Manejo agronómico de cultivos de marango
DESCRIPTION:
URL:https://www.una.edu.ni/event/curso-sobre-manejo-agronomico-de-cultivos-de-marango/
LOCATION:Centro de Desarrollo Moringa Comandante Fidel\, municipio de León\, Nicaragua
CATEGORIES:CURSO
END:VEVENT
BEGIN:VEVENT
DTSTART;TZID=America/Managua:20251023T080000
DTEND;TZID=America/Managua:20251023T120000
DTSTAMP:20260423T045827
CREATED:20251022T143213Z
LAST-MODIFIED:20251022T143213Z
UID:27370-1761206400-1761220800@www.una.edu.ni
SUMMARY:Panel sobre Uso y manejo de sensores agroclimáticos en el desarrollo de cultivos de hortalizas
DESCRIPTION:
URL:https://www.una.edu.ni/event/panel-sobre-uso-y-manejo-de-sensores-agroclimaticos-en-el-desarrollo-de-cultivos-de-hortalizas/
LOCATION:Centro Universitario “Don Orlando”\, Niquinohomo\, Nicaragua
CATEGORIES:PANEL
END:VEVENT
BEGIN:VEVENT
DTSTART;TZID=America/Managua:20251023T080000
DTEND;TZID=America/Managua:20251023T120000
DTSTAMP:20260423T045827
CREATED:20251022T143531Z
LAST-MODIFIED:20251022T143531Z
UID:27378-1761206400-1761220800@www.una.edu.ni
SUMMARY:Taller sobre Establecimientos de bancos de proteínas
DESCRIPTION:
URL:https://www.una.edu.ni/event/taller-sobre-establecimientos-de-bancos-de-proteinas/
LOCATION:Universidad Nacional Agraria\, Managua\, km 12 1/2\, Managua\, Nicaragua
CATEGORIES:TALLER
END:VEVENT
BEGIN:VEVENT
DTSTART;TZID=America/Managua:20251023T080000
DTEND;TZID=America/Managua:20251023T120000
DTSTAMP:20260423T045827
CREATED:20251022T143717Z
LAST-MODIFIED:20251022T143717Z
UID:27383-1761206400-1761220800@www.una.edu.ni
SUMMARY:Jornada de vacunación antirrábica “Comprometidos con la salud animal”
DESCRIPTION:
URL:https://www.una.edu.ni/event/jornada-de-vacunacion-antirrabica-comprometidos-con-la-salud-animal/
LOCATION:Comunidad Sábana Grande\, Managua\, Nicaragua
CATEGORIES:JORNADA
END:VEVENT
BEGIN:VEVENT
DTSTART;TZID=America/Managua:20251023T080000
DTEND;TZID=America/Managua:20251023T120000
DTSTAMP:20260423T045827
CREATED:20251022T143813Z
LAST-MODIFIED:20251022T143813Z
UID:27386-1761206400-1761220800@www.una.edu.ni
SUMMARY:Jornada de reforestación “Conservando el pulmón de la tierra” en el marco del Programa “Verde que te quiero verde”
DESCRIPTION:
URL:https://www.una.edu.ni/event/jornada-de-reforestacion-conservando-el-pulmon-de-la-tierra-en-el-marco-del-programa-verde-que-te-quiero-verde/
LOCATION:Universidad Nacional Agraria\, Managua\, km 12 1/2\, Managua\, Nicaragua
CATEGORIES:JORNADA
END:VEVENT
BEGIN:VEVENT
DTSTART;TZID=America/Managua:20251023T083000
DTEND;TZID=America/Managua:20251023T120000
DTSTAMP:20260423T045827
CREATED:20251022T143353Z
LAST-MODIFIED:20251022T143353Z
UID:27374-1761208200-1761220800@www.una.edu.ni
SUMMARY:Taller sobre Establecimiento de sistemas silvopastoriles
DESCRIPTION:
URL:https://www.una.edu.ni/event/taller-sobre-establecimiento-de-sistemas-silvopastoriles/
LOCATION:Universidad Nacional Agraria\, Managua\, km 12 1/2\, Managua\, Nicaragua
CATEGORIES:TALLER
END:VEVENT
BEGIN:VEVENT
DTSTART;TZID=America/Managua:20251023T090000
DTEND;TZID=America/Managua:20251023T120000
DTSTAMP:20260423T045827
CREATED:20251022T143104Z
LAST-MODIFIED:20251022T143104Z
UID:27368-1761210000-1761220800@www.una.edu.ni
SUMMARY:Curso sobre Catación y Barismo
DESCRIPTION:
URL:https://www.una.edu.ni/event/curso-sobre-catacion-y-barismo-2/
LOCATION:Centro Universitario “Padre y Comandante Camilo Tórres Restrepo”\, Matagalpa\, Nicaragua
CATEGORIES:CURSO
END:VEVENT
BEGIN:VEVENT
DTSTART;TZID=America/Managua:20251023T100000
DTEND;TZID=America/Managua:20251023T120000
DTSTAMP:20260423T045827
CREATED:20251022T142732Z
LAST-MODIFIED:20251022T142732Z
UID:27360-1761213600-1761220800@www.una.edu.ni
SUMMARY:Presentación de Certificación de Indexación de la Revista “La Calera” -UNA\, a la Red de Revistas de Información Científica de Iberoamérica
DESCRIPTION:
URL:https://www.una.edu.ni/event/presentacion-de-certificacion-de-indexacion-de-la-revista-la-calera-una-a-la-red-de-revistas-de-informacion-cientifica-de-iberoamerica/
LOCATION:Universidad Nacional Agraria\, Managua\, km 12 1/2\, Managua\, Nicaragua
CATEGORIES:PRESENTACIÓN
END:VEVENT
BEGIN:VEVENT
DTSTART;TZID=America/Managua:20251023T110000
DTEND;TZID=America/Managua:20251023T130000
DTSTAMP:20260423T045827
CREATED:20251022T142908Z
LAST-MODIFIED:20251022T142908Z
UID:27364-1761217200-1761224400@www.una.edu.ni
SUMMARY:Sesión No. 38 del Diplomado de Tecnologías productivas\, con el tema “Principales plagas y enfermedades de interés económico en frutales”
DESCRIPTION:
URL:https://www.una.edu.ni/event/sesion-no-38-del-diplomado-de-tecnologias-productivas-con-el-tema-principales-plagas-y-enfermedades-de-interes-economico-en-frutales/
LOCATION:Plataforma UALN\, Nicaragua
CATEGORIES:DIPLOMADO
END:VEVENT
BEGIN:VEVENT
DTSTART;TZID=America/Managua:20251023T110000
DTEND;TZID=America/Managua:20251023T130000
DTSTAMP:20260423T045827
CREATED:20251022T143304Z
LAST-MODIFIED:20251022T143304Z
UID:27372-1761217200-1761224400@www.una.edu.ni
SUMMARY:Taller sobre Control de plagas y enfermedades en cultivos de maíz amarillo
DESCRIPTION:
URL:https://www.una.edu.ni/event/taller-sobre-control-de-plagas-y-enfermedades-en-cultivos-de-maiz-amarillo/
LOCATION:UNICAM Morrito\, Nicaragua
CATEGORIES:TALLER
END:VEVENT
BEGIN:VEVENT
DTSTART;TZID=America/Managua:20251023T130000
DTEND;TZID=America/Managua:20251023T170000
DTSTAMP:20260423T045827
CREATED:20251022T143452Z
LAST-MODIFIED:20251022T143452Z
UID:27376-1761224400-1761238800@www.una.edu.ni
SUMMARY:Taller sobre Elaboración de bloques multinutricionales
DESCRIPTION:
URL:https://www.una.edu.ni/event/taller-sobre-elaboracion-de-bloques-multinutricionales/
LOCATION:UNICAM Coyanchigüe\, Nicaragua
CATEGORIES:TALLER
END:VEVENT
BEGIN:VEVENT
DTSTART;TZID=America/Managua:20251023T130000
DTEND;TZID=America/Managua:20251023T170000
DTSTAMP:20260423T045827
CREATED:20251022T143627Z
LAST-MODIFIED:20251022T143627Z
UID:27380-1761224400-1761238800@www.una.edu.ni
SUMMARY:Taller sobre Establecimiento de huertos escolares con cultivos de plantas medicinales
DESCRIPTION:
URL:https://www.una.edu.ni/event/taller-sobre-establecimiento-de-huertos-escolares-con-cultivos-de-plantas-medicinales-2/
LOCATION:Escuelas Secundarias Distrito 6\, Nicaragua
CATEGORIES:TALLER
END:VEVENT
BEGIN:VEVENT
DTSTART;TZID=America/Managua:20251023T140000
DTEND;TZID=America/Managua:20251023T170000
DTSTAMP:20260423T045827
CREATED:20251022T142820Z
LAST-MODIFIED:20251022T142820Z
UID:27362-1761228000-1761238800@www.una.edu.ni
SUMMARY:Curso sobre Evaluación serológica en ganado bovino
DESCRIPTION:
URL:https://www.una.edu.ni/event/curso-sobre-evaluacion-serologica-en-ganado-bovino/
LOCATION:UNICAM El Rama\, Nicaragua
CATEGORIES:CURSO
END:VEVENT
END:VCALENDAR