BEGIN:VCALENDAR
VERSION:2.0
PRODID:-//Universidad Nacional Agraria - ECPv6.15.20//NONSGML v1.0//EN
CALSCALE:GREGORIAN
METHOD:PUBLISH
X-ORIGINAL-URL:https://www.una.edu.ni
X-WR-CALDESC:Eventos para Universidad Nacional Agraria
REFRESH-INTERVAL;VALUE=DURATION:PT1H
X-Robots-Tag:noindex
X-PUBLISHED-TTL:PT1H
BEGIN:VTIMEZONE
TZID:America/Managua
BEGIN:STANDARD
TZOFFSETFROM:-0600
TZOFFSETTO:-0600
TZNAME:CST
DTSTART:20240101T000000
END:STANDARD
END:VTIMEZONE
BEGIN:VEVENT
DTSTART;TZID=America/Managua:20251025T100000
DTEND;TZID=America/Managua:20251025T130000
DTSTAMP:20260423T045827
CREATED:20251022T195035Z
LAST-MODIFIED:20251022T195035Z
UID:27422-1761386400-1761397200@www.una.edu.ni
SUMMARY:Feria Tecnológica de riego
DESCRIPTION:
URL:https://www.una.edu.ni/event/feria-tecnologica-de-riego-2/
LOCATION:UNICAM San Lorenzo\, Boaco\, Nicaragua
CATEGORIES:FERIA
END:VEVENT
BEGIN:VEVENT
DTSTART;TZID=America/Managua:20251025T130000
DTEND;TZID=America/Managua:20251025T170000
DTSTAMP:20260423T045827
CREATED:20251022T195333Z
LAST-MODIFIED:20251022T195333Z
UID:27426-1761397200-1761411600@www.una.edu.ni
SUMMARY:Encuentro con productores sobre Producción artesanal de hongos bioestimulantes para mejorar la productividad del cultivo plátano
DESCRIPTION:
URL:https://www.una.edu.ni/event/encuentro-con-productores-sobre-produccion-artesanal-de-hongos-bioestimulantes-para-mejorar-la-productividad-del-cultivo-platano/
LOCATION:comunidad San Marcos\, Isla de Ometepe\, Nicaragua
CATEGORIES:ENCUENTRO
END:VEVENT
BEGIN:VEVENT
DTSTART;TZID=America/Managua:20251025T160000
DTEND;TZID=America/Managua:20251025T180000
DTSTAMP:20260423T045827
CREATED:20251022T195236Z
LAST-MODIFIED:20251022T195236Z
UID:27424-1761408000-1761415200@www.una.edu.ni
SUMMARY:Curso Manejo Fitosanitario del Cultivo Plátano
DESCRIPTION:
URL:https://www.una.edu.ni/event/curso-manejo-fitosanitario-del-cultivo-platano-2/
LOCATION:comunidad San Marcos\, Isla de Ometepe\, Nicaragua
CATEGORIES:CURSO
END:VEVENT
END:VCALENDAR