BEGIN:VCALENDAR
VERSION:2.0
PRODID:-//Universidad Nacional Agraria - ECPv6.15.20//NONSGML v1.0//EN
CALSCALE:GREGORIAN
METHOD:PUBLISH
X-WR-CALNAME:Universidad Nacional Agraria
X-ORIGINAL-URL:https://www.una.edu.ni
X-WR-CALDESC:Eventos para Universidad Nacional Agraria
REFRESH-INTERVAL;VALUE=DURATION:PT1H
X-Robots-Tag:noindex
X-PUBLISHED-TTL:PT1H
BEGIN:VTIMEZONE
TZID:America/Managua
BEGIN:STANDARD
TZOFFSETFROM:-0600
TZOFFSETTO:-0600
TZNAME:CST
DTSTART:20240101T000000
END:STANDARD
END:VTIMEZONE
BEGIN:VEVENT
DTSTART;TZID=America/Managua:20251027T160000
DTEND;TZID=America/Managua:20251027T190000
DTSTAMP:20260423T072028
CREATED:20251027T211255Z
LAST-MODIFIED:20251027T211255Z
UID:27565-1761580800-1761591600@www.una.edu.ni
SUMMARY:Festival de los Agüizotes\, Mitos y Leyendas” con representación de la Gastronomía nicaragüense.
DESCRIPTION:
URL:https://www.una.edu.ni/event/festival-de-los-aguizotes-mitos-y-leyendas-con-representacion-de-la-gastronomia-nicaraguense/
LOCATION:Universidad Nacional Agraria\, Managua\, km 12 1/2\, Managua\, Nicaragua
CATEGORIES:FESTIVAL
END:VEVENT
BEGIN:VEVENT
DTSTART;TZID=America/Managua:20251027T160000
DTEND;TZID=America/Managua:20251027T190000
DTSTAMP:20260423T072028
CREATED:20251027T211359Z
LAST-MODIFIED:20251027T211359Z
UID:27567-1761580800-1761591600@www.una.edu.ni
SUMMARY:Feria de emprendimientos agropecuarios innovadores
DESCRIPTION:
URL:https://www.una.edu.ni/event/feria-de-emprendimientos-agropecuarios-innovadores/
LOCATION:Universidad Nacional Agraria\, Managua\, km 12 1/2\, Managua\, Nicaragua
CATEGORIES:FERIA
END:VEVENT
END:VCALENDAR