BEGIN:VCALENDAR
VERSION:2.0
PRODID:-//Universidad Nacional Agraria - ECPv6.15.20//NONSGML v1.0//EN
CALSCALE:GREGORIAN
METHOD:PUBLISH
X-ORIGINAL-URL:https://www.una.edu.ni
X-WR-CALDESC:Eventos para Universidad Nacional Agraria
REFRESH-INTERVAL;VALUE=DURATION:PT1H
X-Robots-Tag:noindex
X-PUBLISHED-TTL:PT1H
BEGIN:VTIMEZONE
TZID:America/Managua
BEGIN:STANDARD
TZOFFSETFROM:-0600
TZOFFSETTO:-0600
TZNAME:CST
DTSTART:20240101T000000
END:STANDARD
END:VTIMEZONE
BEGIN:VEVENT
DTSTART;TZID=America/Managua:20251029T080000
DTEND;TZID=America/Managua:20251029T120000
DTSTAMP:20260423T061211
CREATED:20251028T191817Z
LAST-MODIFIED:20251028T191817Z
UID:27687-1761724800-1761739200@www.una.edu.ni
SUMMARY:Diplomado sobre Inventario forestal de fincas
DESCRIPTION:
URL:https://www.una.edu.ni/event/diplomado-sobre-inventario-forestal-de-fincas/
LOCATION:Universidad Nacional Agraria\, Managua\, km 12 1/2\, Managua\, Nicaragua
CATEGORIES:DIPLOMADO
END:VEVENT
BEGIN:VEVENT
DTSTART;TZID=America/Managua:20251029T080000
DTEND;TZID=America/Managua:20251029T120000
DTSTAMP:20260423T061211
CREATED:20251028T192156Z
LAST-MODIFIED:20251028T192156Z
UID:27694-1761724800-1761739200@www.una.edu.ni
SUMMARY:Taller sobre Establecimiento de variedades de frijol genéticamente mejoradas
DESCRIPTION:
URL:https://www.una.edu.ni/event/taller-sobre-establecimiento-de-variedades-de-frijol-geneticamente-mejoradas/
LOCATION:Centro Universitario Regional UNA Matagalpa\, Nicaragua
CATEGORIES:TALLER
END:VEVENT
BEGIN:VEVENT
DTSTART;TZID=America/Managua:20251029T083000
DTEND;TZID=America/Managua:20251029T120000
DTSTAMP:20260423T061211
CREATED:20251028T192033Z
LAST-MODIFIED:20251028T192033Z
UID:27692-1761726600-1761739200@www.una.edu.ni
SUMMARY:Curso sobre inteligencia artificial para la divulgación de innovaciones pecuarias
DESCRIPTION:
URL:https://www.una.edu.ni/event/curso-sobre-inteligencia-artificial-para-la-divulgacion-de-innovaciones-pecuarias/
LOCATION:Universidad Nacional Agraria\, Managua\, km 12 1/2\, Managua\, Nicaragua
CATEGORIES:CURSO
END:VEVENT
BEGIN:VEVENT
DTSTART;TZID=America/Managua:20251029T090000
DTEND;TZID=America/Managua:20251029T120000
DTSTAMP:20260423T061211
CREATED:20251028T191719Z
LAST-MODIFIED:20251028T191719Z
UID:27684-1761728400-1761739200@www.una.edu.ni
SUMMARY:Lanzamiento del Diplomado en Caficultura sostenible con énfasis en café especial
DESCRIPTION:
URL:https://www.una.edu.ni/event/lanzamiento-del-diplomado-en-caficultura-sostenible-con-enfasis-en-cafe-especial/
LOCATION:Escuela del Café\, Ocotal\, Nicaragua
CATEGORIES:LANZAMIENTO
END:VEVENT
BEGIN:VEVENT
DTSTART;TZID=America/Managua:20251029T100000
DTEND;TZID=America/Managua:20251029T130000
DTSTAMP:20260423T061211
CREATED:20251028T191934Z
LAST-MODIFIED:20251028T191934Z
UID:27689-1761732000-1761742800@www.una.edu.ni
SUMMARY:Curso sobre el uso de tecnologías digitales para la producción de hortalizas
DESCRIPTION:
URL:https://www.una.edu.ni/event/curso-sobre-el-uso-de-tecnologias-digitales-para-la-produccion-de-hortalizas/
LOCATION:Jinotega\, Nicaragua
CATEGORIES:CURSO
END:VEVENT
BEGIN:VEVENT
DTSTART;TZID=America/Managua:20251029T100000
DTEND;TZID=America/Managua:20251029T150000
DTSTAMP:20260423T061211
CREATED:20251028T192330Z
LAST-MODIFIED:20251028T192330Z
UID:27696-1761732000-1761750000@www.una.edu.ni
SUMMARY:Expo feria creativa “Impulsando la Economía local”
DESCRIPTION:
URL:https://www.una.edu.ni/event/expo-feria-creativa-impulsando-la-economia-local/
LOCATION:Centro Universitario Regional UNA Juigalpa\, Juigapa
CATEGORIES:FERIA
END:VEVENT
BEGIN:VEVENT
DTSTART;TZID=America/Managua:20251029T130000
DTEND;TZID=America/Managua:20251029T170000
DTSTAMP:20260423T061211
CREATED:20251027T215941Z
LAST-MODIFIED:20251027T215941Z
UID:27598-1761742800-1761757200@www.una.edu.ni
SUMMARY:Taller sobre Establecimiento de hortalizas en sistemas hidropónicos
DESCRIPTION:
URL:https://www.una.edu.ni/event/taller-sobre-establecimiento-de-hortalizas-en-sistemas-hidroponicos-2/
LOCATION:Centro Integral de mujeres/ Granada\, Nicaragua
CATEGORIES:TALLER
END:VEVENT
BEGIN:VEVENT
DTSTART;TZID=America/Managua:20251029T180000
DTEND;TZID=America/Managua:20251029T210000
DTSTAMP:20260423T061211
CREATED:20251028T192425Z
LAST-MODIFIED:20251028T192425Z
UID:27698-1761760800-1761771600@www.una.edu.ni
SUMMARY:Espectáculo artístico y carnaval tradicional de los agüizotes
DESCRIPTION:
URL:https://www.una.edu.ni/event/espectaculo-artistico-y-carnaval-tradicional-de-los-aguizotes/
LOCATION:Universidad Nacional Agraria\, Managua\, km 12 1/2\, Managua\, Nicaragua
CATEGORIES:OTROS
END:VEVENT
END:VCALENDAR