BEGIN:VCALENDAR
VERSION:2.0
PRODID:-//Universidad Nacional Agraria - ECPv6.15.20//NONSGML v1.0//EN
CALSCALE:GREGORIAN
METHOD:PUBLISH
X-WR-CALNAME:Universidad Nacional Agraria
X-ORIGINAL-URL:https://www.una.edu.ni
X-WR-CALDESC:Eventos para Universidad Nacional Agraria
REFRESH-INTERVAL;VALUE=DURATION:PT1H
X-Robots-Tag:noindex
X-PUBLISHED-TTL:PT1H
BEGIN:VTIMEZONE
TZID:America/Managua
BEGIN:STANDARD
TZOFFSETFROM:-0600
TZOFFSETTO:-0600
TZNAME:CST
DTSTART:20240101T000000
END:STANDARD
END:VTIMEZONE
BEGIN:VEVENT
DTSTART;TZID=America/Managua:20251030T083000
DTEND;TZID=America/Managua:20251031T170000
DTSTAMP:20260423T061140
CREATED:20251028T224654Z
LAST-MODIFIED:20251028T224654Z
UID:27792-1761813000-1761930000@www.una.edu.ni
SUMMARY:Jornada Universitaria de Desarrollo Científico
DESCRIPTION:
URL:https://www.una.edu.ni/event/jornada-universitaria-de-desarrollo-cientifico-2/
LOCATION:Universidad Nacional Agraria\, Managua\, km 12 1/2\, Managua\, Nicaragua
CATEGORIES:JORNADA
END:VEVENT
BEGIN:VEVENT
DTSTART;TZID=America/Managua:20251031T070000
DTEND;TZID=America/Managua:20251031T120000
DTSTAMP:20260423T061140
CREATED:20251029T145300Z
LAST-MODIFIED:20251029T145300Z
UID:27827-1761894000-1761912000@www.una.edu.ni
SUMMARY:Establecimiento de viveros de plantas forestales y frutales en el marco del Programa “Verde que te quiero verde
DESCRIPTION:
URL:https://www.una.edu.ni/event/establecimiento-de-viveros-de-plantas-forestales-y-frutales-en-el-marco-del-programa-verde-que-te-quiero-verde/
LOCATION:Villa El Carmen\, Nicaragua
CATEGORIES:OTROS
END:VEVENT
BEGIN:VEVENT
DTSTART;TZID=America/Managua:20251031T080000
DTEND;TZID=America/Managua:20251031T120000
DTSTAMP:20260423T061140
CREATED:20251029T145621Z
LAST-MODIFIED:20251029T145621Z
UID:27832-1761897600-1761912000@www.una.edu.ni
SUMMARY:Diplomado de Agronegocios en café
DESCRIPTION:
URL:https://www.una.edu.ni/event/diplomado-de-agronegocios-en-cafe/
LOCATION:Museo del Café\, Jinotega\, Nicaragua
CATEGORIES:DIPLOMADO
END:VEVENT
BEGIN:VEVENT
DTSTART;TZID=America/Managua:20251031T090000
DTEND;TZID=America/Managua:20251031T120000
DTSTAMP:20260423T061140
CREATED:20251029T145856Z
LAST-MODIFIED:20251029T145856Z
UID:27834-1761901200-1761912000@www.una.edu.ni
SUMMARY:Presentación de Catálogo de bacterias y hongos que afectan el ganado mayor y menor
DESCRIPTION:
URL:https://www.una.edu.ni/event/presentacion-de-catalogo-de-bacterias-y-hongos-que-afectan-el-ganado-mayor-y-menor/
LOCATION:Universidad Nacional Agraria\, Managua\, km 12 1/2\, Managua\, Nicaragua
CATEGORIES:OTROS
END:VEVENT
BEGIN:VEVENT
DTSTART;TZID=America/Managua:20251031T100000
DTEND;TZID=America/Managua:20251031T120000
DTSTAMP:20260423T061140
CREATED:20251029T145432Z
LAST-MODIFIED:20251029T145432Z
UID:27830-1761904800-1761912000@www.una.edu.ni
SUMMARY:Diplomado sobre Técnicas de Biotecnología reproductiva en bovinos
DESCRIPTION:
URL:https://www.una.edu.ni/event/diplomado-sobre-tecnicas-de-biotecnologia-reproductiva-en-bovinos/
LOCATION:UNICAM El Rama\, Nicaragua
CATEGORIES:DIPLOMADO
END:VEVENT
BEGIN:VEVENT
DTSTART;TZID=America/Managua:20251031T100000
DTEND;TZID=America/Managua:20251031T120000
DTSTAMP:20260423T061140
CREATED:20251029T150049Z
LAST-MODIFIED:20251029T150049Z
UID:27836-1761904800-1761912000@www.una.edu.ni
SUMMARY:Inauguración del Laboratorio de Hongos Comestibles
DESCRIPTION:
URL:https://www.una.edu.ni/event/inauguracion-del-laboratorio-de-hongos-comestibles/
LOCATION:Universidad Nacional Agraria\, Managua\, km 12 1/2\, Managua\, Nicaragua
CATEGORIES:INAUGURACIÓN
END:VEVENT
BEGIN:VEVENT
DTSTART;TZID=America/Managua:20251031T100000
DTEND;TZID=America/Managua:20251031T120000
DTSTAMP:20260423T061140
CREATED:20251029T150154Z
LAST-MODIFIED:20251029T150154Z
UID:27838-1761904800-1761912000@www.una.edu.ni
SUMMARY:Establecimiento de viveros frutales
DESCRIPTION:
URL:https://www.una.edu.ni/event/establecimiento-de-viveros-frutales/
LOCATION:Centro Penitenciario de Juigalpa\, Nicaragua
CATEGORIES:OTROS
END:VEVENT
END:VCALENDAR