BEGIN:VCALENDAR
VERSION:2.0
PRODID:-//Universidad Nacional Agraria - ECPv6.15.20//NONSGML v1.0//EN
CALSCALE:GREGORIAN
METHOD:PUBLISH
X-WR-CALNAME:Universidad Nacional Agraria
X-ORIGINAL-URL:https://www.una.edu.ni
X-WR-CALDESC:Eventos para Universidad Nacional Agraria
REFRESH-INTERVAL;VALUE=DURATION:PT1H
X-Robots-Tag:noindex
X-PUBLISHED-TTL:PT1H
BEGIN:VTIMEZONE
TZID:America/Managua
BEGIN:STANDARD
TZOFFSETFROM:-0600
TZOFFSETTO:-0600
TZNAME:CST
DTSTART:20240101T000000
END:STANDARD
END:VTIMEZONE
BEGIN:VEVENT
DTSTART;TZID=America/Managua:20251115T090000
DTEND;TZID=America/Managua:20251115T120000
DTSTAMP:20260423T112316
CREATED:20251113T150407Z
LAST-MODIFIED:20251113T150407Z
UID:28400-1763197200-1763208000@www.una.edu.ni
SUMMARY:Lanzamiento e inicio del diplomado en valor agregado y transformación de plátano
DESCRIPTION:
URL:https://www.una.edu.ni/event/lanzamiento-e-inicio-del-diplomado-en-valor-agregado-y-transformacion-de-platano-2/
LOCATION:Isla de Ometepe\, Rivas\, Nicaragua
CATEGORIES:LANZAMIENTO
END:VEVENT
BEGIN:VEVENT
DTSTART;TZID=America/Managua:20251115T090000
DTEND;TZID=America/Managua:20251115T120000
DTSTAMP:20260423T112316
CREATED:20251113T152059Z
LAST-MODIFIED:20251113T152059Z
UID:28417-1763197200-1763208000@www.una.edu.ni
SUMMARY:Feria de emprendimientos agropecuarios “Comandante Carlos”
DESCRIPTION:
URL:https://www.una.edu.ni/event/feria-de-emprendimientos-agropecuarios-comandante-carlos-2/
LOCATION:UNICAM EL Plantel\, Nicaragua
CATEGORIES:FERIA
END:VEVENT
END:VCALENDAR