BEGIN:VCALENDAR
VERSION:2.0
PRODID:-//Universidad Nacional Agraria - ECPv6.15.20//NONSGML v1.0//EN
CALSCALE:GREGORIAN
METHOD:PUBLISH
X-WR-CALNAME:Universidad Nacional Agraria
X-ORIGINAL-URL:https://www.una.edu.ni
X-WR-CALDESC:Eventos para Universidad Nacional Agraria
REFRESH-INTERVAL;VALUE=DURATION:PT1H
X-Robots-Tag:noindex
X-PUBLISHED-TTL:PT1H
BEGIN:VTIMEZONE
TZID:America/Managua
BEGIN:STANDARD
TZOFFSETFROM:-0600
TZOFFSETTO:-0600
TZNAME:CST
DTSTART:20240101T000000
END:STANDARD
END:VTIMEZONE
BEGIN:VEVENT
DTSTART;TZID=America/Managua:20251124T080000
DTEND;TZID=America/Managua:20251124T120000
DTSTAMP:20260423T072029
CREATED:20251124T142639Z
LAST-MODIFIED:20251124T142639Z
UID:28626-1763971200-1763985600@www.una.edu.ni
SUMMARY:Entrega de Certificados a protagonistas del Curso sobre Tecnologías para la producción de semillas de calidad
DESCRIPTION:
URL:https://www.una.edu.ni/event/entrega-de-certificados-a-protagonistas-del-curso-sobre-tecnologias-para-la-produccion-de-semillas-de-calidad/
LOCATION:Centro Universitario Regional UNA Camoapa\, Camoapa
CATEGORIES:OTROS
END:VEVENT
BEGIN:VEVENT
DTSTART;TZID=America/Managua:20251124T080000
DTEND;TZID=America/Managua:20251124T120000
DTSTAMP:20260423T072029
CREATED:20251124T142740Z
LAST-MODIFIED:20251124T142740Z
UID:28628-1763971200-1763985600@www.una.edu.ni
SUMMARY:Diplomado en Biotecnología de la reproducción porcina
DESCRIPTION:
URL:https://www.una.edu.ni/event/diplomado-en-biotecnologia-de-la-reproduccion-porcina/
LOCATION:Programa Porcino “Cocibolca”\, Nicaragua
CATEGORIES:DIPLOMADO
END:VEVENT
BEGIN:VEVENT
DTSTART;TZID=America/Managua:20251124T100000
DTEND;TZID=America/Managua:20251124T120000
DTSTAMP:20260423T072029
CREATED:20251124T142942Z
LAST-MODIFIED:20251124T142942Z
UID:28630-1763978400-1763985600@www.una.edu.ni
SUMMARY:Feria de salud animal\, con atención a mascotas y ganado bovino
DESCRIPTION:
URL:https://www.una.edu.ni/event/feria-de-salud-animal-con-atencion-a-mascotas-y-ganado-bovino/
LOCATION:UNICAM Mulukukú\, Nicaragua
CATEGORIES:FERIA
END:VEVENT
END:VCALENDAR