BEGIN:VCALENDAR
VERSION:2.0
PRODID:-//Universidad Nacional Agraria - ECPv6.15.20//NONSGML v1.0//EN
CALSCALE:GREGORIAN
METHOD:PUBLISH
X-ORIGINAL-URL:https://www.una.edu.ni
X-WR-CALDESC:Eventos para Universidad Nacional Agraria
REFRESH-INTERVAL;VALUE=DURATION:PT1H
X-Robots-Tag:noindex
X-PUBLISHED-TTL:PT1H
BEGIN:VTIMEZONE
TZID:America/Managua
BEGIN:STANDARD
TZOFFSETFROM:-0600
TZOFFSETTO:-0600
TZNAME:CST
DTSTART:20240101T000000
END:STANDARD
END:VTIMEZONE
BEGIN:VEVENT
DTSTART;TZID=America/Managua:20251125T080000
DTEND;TZID=America/Managua:20251125T120000
DTSTAMP:20260423T045826
CREATED:20251124T175906Z
LAST-MODIFIED:20251124T175906Z
UID:28648-1764057600-1764072000@www.una.edu.ni
SUMMARY:Feria de exposición de estructuras anatómicas y fisiológicas de animales de granja
DESCRIPTION:
URL:https://www.una.edu.ni/event/feria-de-exposicion-de-estructuras-anatomicas-y-fisiologicas-de-animales-de-granja/
LOCATION:Universidad Nacional Agraria\, Managua\, km 12 1/2\, Managua\, Nicaragua
CATEGORIES:EXPOFERIA
END:VEVENT
BEGIN:VEVENT
DTSTART;TZID=America/Managua:20251125T090000
DTEND;TZID=America/Managua:20251125T120000
DTSTAMP:20260423T045826
CREATED:20251124T143127Z
LAST-MODIFIED:20251124T143127Z
UID:28632-1764061200-1764072000@www.una.edu.ni
SUMMARY:Congreso universitario\, Moringa\, Comandante Fidel
DESCRIPTION:
URL:https://www.una.edu.ni/event/congreso-universitario-moringa-comandante-fidel/
LOCATION:Centro de Desarrollo Moringa Comandante Fidel\, municipio de León\, Nicaragua
CATEGORIES:CONGRESO
END:VEVENT
BEGIN:VEVENT
DTSTART;TZID=America/Managua:20251125T090000
DTEND;TZID=America/Managua:20251125T120000
DTSTAMP:20260423T045826
CREATED:20251124T174810Z
LAST-MODIFIED:20251124T174810Z
UID:28639-1764061200-1764072000@www.una.edu.ni
SUMMARY:Curso sobre elaboración de subproductos cárnicos porcinos
DESCRIPTION:
URL:https://www.una.edu.ni/event/curso-sobre-elaboracion-de-subproductos-carnicos-porcinos/
LOCATION:Programa Porcino “Cocibolca”\, Nicaragua
CATEGORIES:OTROS
END:VEVENT
BEGIN:VEVENT
DTSTART;TZID=America/Managua:20251125T090000
DTEND;TZID=America/Managua:20251125T120000
DTSTAMP:20260423T045826
CREATED:20251124T175420Z
LAST-MODIFIED:20251124T175420Z
UID:28641-1764061200-1764072000@www.una.edu.ni
SUMMARY:Encuentro con productores para el intercambio de experiencia sobre mejoramiento genético del cultivo de frijol
DESCRIPTION:
URL:https://www.una.edu.ni/event/encuentro-con-productores-para-el-intercambio-de-experiencia-sobre-mejoramiento-genetico-del-cultivo-de-frijol/
LOCATION:Centro Universitario “Don Orlando”\, Niquinohomo\, Nicaragua
CATEGORIES:ENCUENTRO
END:VEVENT
BEGIN:VEVENT
DTSTART;TZID=America/Managua:20251125T093000
DTEND;TZID=America/Managua:20251125T120000
DTSTAMP:20260423T045826
CREATED:20251124T144616Z
LAST-MODIFIED:20251124T144616Z
UID:28637-1764063000-1764072000@www.una.edu.ni
SUMMARY:Entrega de Certificados a protagonistas del Curso sobre Inventario forestal de plantaciones de moringa
DESCRIPTION:
URL:https://www.una.edu.ni/event/entrega-de-certificados-a-protagonistas-del-curso-sobre-inventario-forestal-de-plantaciones-de-moringa/
LOCATION:Centro de Desarrollo Moringa Comandante Fidel\, municipio de León\, Nicaragua
CATEGORIES:OTROS
END:VEVENT
BEGIN:VEVENT
DTSTART;TZID=America/Managua:20251125T100000
DTEND;TZID=America/Managua:20251125T140000
DTSTAMP:20260423T045826
CREATED:20251124T175600Z
LAST-MODIFIED:20251124T175600Z
UID:28643-1764064800-1764079200@www.una.edu.ni
SUMMARY:Expo feria de innovaciones en Moringa
DESCRIPTION:
URL:https://www.una.edu.ni/event/expo-feria-de-innovaciones-en-moringa/
LOCATION:Centro de Desarrollo Moringa Comandante Fidel\, municipio de León\, Nicaragua
CATEGORIES:EXPOFERIA
END:VEVENT
BEGIN:VEVENT
DTSTART;TZID=America/Managua:20251125T130000
DTEND;TZID=America/Managua:20251125T170000
DTSTAMP:20260423T045826
CREATED:20251124T144401Z
LAST-MODIFIED:20251124T144522Z
UID:28634-1764075600-1764090000@www.una.edu.ni
SUMMARY:Entrega de Certificados a protagonistas del Curso sobre elaboración de concentrados para aves\, cerdos y bovinos
DESCRIPTION:
URL:https://www.una.edu.ni/event/entrega-de-certificados-a-protagonistas-de-curso-sobre-elaboracion-de-concentrados-para-aves-cerdos-y-bovinos/
LOCATION:UNICAM San José de los Remates\, Nicaragua
CATEGORIES:OTROS
END:VEVENT
END:VCALENDAR