BEGIN:VCALENDAR
VERSION:2.0
PRODID:-//Universidad Nacional Agraria - ECPv6.15.20//NONSGML v1.0//EN
CALSCALE:GREGORIAN
METHOD:PUBLISH
X-ORIGINAL-URL:https://www.una.edu.ni
X-WR-CALDESC:Eventos para Universidad Nacional Agraria
REFRESH-INTERVAL;VALUE=DURATION:PT1H
X-Robots-Tag:noindex
X-PUBLISHED-TTL:PT1H
BEGIN:VTIMEZONE
TZID:America/Managua
BEGIN:STANDARD
TZOFFSETFROM:-0600
TZOFFSETTO:-0600
TZNAME:CST
DTSTART:20240101T000000
END:STANDARD
END:VTIMEZONE
BEGIN:VEVENT
DTSTART;TZID=America/Managua:20251203T080000
DTEND;TZID=America/Managua:20251203T120000
DTSTAMP:20260423T100720
CREATED:20251201T142426Z
LAST-MODIFIED:20251201T142426Z
UID:28751-1764748800-1764763200@www.una.edu.ni
SUMMARY:Diplomado sobre Emprendimientos de cafeterías rentables
DESCRIPTION:
URL:https://www.una.edu.ni/event/diplomado-sobre-emprendimientos-de-cafeterias-rentables/
LOCATION:Palacio de Bellas Artes\, Carazo\, Nicaragua
CATEGORIES:DIPLOMADO
END:VEVENT
BEGIN:VEVENT
DTSTART;TZID=America/Managua:20251203T080000
DTEND;TZID=America/Managua:20251203T120000
DTSTAMP:20260423T100720
CREATED:20251201T142719Z
LAST-MODIFIED:20251201T142719Z
UID:28757-1764748800-1764763200@www.una.edu.ni
SUMMARY:Taller sobre Indicadores de eficiencia reproductiva porcina
DESCRIPTION:
URL:https://www.una.edu.ni/event/taller-sobre-indicadores-de-eficiencia-reproductiva-porcina/
LOCATION:Centro Universitario Regional UNA Juigalpa\, Juigapa
CATEGORIES:TALLER
END:VEVENT
BEGIN:VEVENT
DTSTART;TZID=America/Managua:20251203T083000
DTEND;TZID=America/Managua:20251203T120000
DTSTAMP:20260423T100720
CREATED:20251201T142618Z
LAST-MODIFIED:20251201T142618Z
UID:28755-1764750600-1764763200@www.una.edu.ni
SUMMARY:Conferencia sobre suplementación mineral y vitamínica en bovinos y equinos
DESCRIPTION:
URL:https://www.una.edu.ni/event/conferencia-sobre-suplementacion-mineral-y-vitaminica-en-bovinos-y-equinos/
LOCATION:Universidad Nacional Agraria\, Managua\, km 12 1/2\, Managua\, Nicaragua
CATEGORIES:CONFERENCIA
END:VEVENT
BEGIN:VEVENT
DTSTART;TZID=America/Managua:20251203T090000
DTEND;TZID=America/Managua:20251203T120000
DTSTAMP:20260423T100720
CREATED:20251201T142523Z
LAST-MODIFIED:20251201T142523Z
UID:28753-1764752400-1764763200@www.una.edu.ni
SUMMARY:Curso sobre valor agregado de moringa y café
DESCRIPTION:
URL:https://www.una.edu.ni/event/curso-sobre-valor-agregado-de-moringa-y-cafe/
LOCATION:Centro de Desarrollo Moringa Comandante Fidel\, municipio de León\, Nicaragua
CATEGORIES:CURSO
END:VEVENT
BEGIN:VEVENT
DTSTART;TZID=America/Managua:20251203T093000
DTEND;TZID=America/Managua:20251203T120000
DTSTAMP:20260423T100720
CREATED:20251201T142335Z
LAST-MODIFIED:20251201T142335Z
UID:28749-1764754200-1764763200@www.una.edu.ni
SUMMARY:Entrega de Certificados a participantes del Curso sobre Manejo y reproducción de colmenas apícolas
DESCRIPTION:
URL:https://www.una.edu.ni/event/entrega-de-certificados-a-participantes-del-curso-sobre-manejo-y-reproduccion-de-colmenas-apicolas/
LOCATION:Centro Universitario Regional UNA Camoapa\, Camoapa
CATEGORIES:OTROS
END:VEVENT
END:VCALENDAR