BEGIN:VCALENDAR
VERSION:2.0
PRODID:-//Universidad Nacional Agraria - ECPv6.15.20//NONSGML v1.0//EN
CALSCALE:GREGORIAN
METHOD:PUBLISH
X-WR-CALNAME:Universidad Nacional Agraria
X-ORIGINAL-URL:https://www.una.edu.ni
X-WR-CALDESC:Eventos para Universidad Nacional Agraria
REFRESH-INTERVAL;VALUE=DURATION:PT1H
X-Robots-Tag:noindex
X-PUBLISHED-TTL:PT1H
BEGIN:VTIMEZONE
TZID:America/Managua
BEGIN:STANDARD
TZOFFSETFROM:-0600
TZOFFSETTO:-0600
TZNAME:CST
DTSTART:20240101T000000
END:STANDARD
END:VTIMEZONE
BEGIN:VEVENT
DTSTART;TZID=America/Managua:20251204T080000
DTEND;TZID=America/Managua:20251204T120000
DTSTAMP:20260423T134248
CREATED:20251201T143456Z
LAST-MODIFIED:20251201T143456Z
UID:28767-1764835200-1764849600@www.una.edu.ni
SUMMARY:Diplomado en inseminación artificial bovina
DESCRIPTION:
URL:https://www.una.edu.ni/event/diplomado-en-inseminacion-artificial-bovina/
LOCATION:Universidad Nacional Agraria\, Managua\, km 12 1/2\, Managua\, Nicaragua
CATEGORIES:DIPLOMADO
END:VEVENT
BEGIN:VEVENT
DTSTART;TZID=America/Managua:20251204T080000
DTEND;TZID=America/Managua:20251204T120000
DTSTAMP:20260423T134248
CREATED:20251201T143707Z
LAST-MODIFIED:20251201T143707Z
UID:28771-1764835200-1764849600@www.una.edu.ni
SUMMARY:Taller sobre Manejo eficiente de aves de patio para incrementar la producción
DESCRIPTION:
URL:https://www.una.edu.ni/event/taller-sobre-manejo-eficiente-de-aves-de-patio-para-incrementar-la-produccion/
LOCATION:UNICAM Muelle de los Bueyes\, Nicaragua
CATEGORIES:TALLER
END:VEVENT
BEGIN:VEVENT
DTSTART;TZID=America/Managua:20251204T080000
DTEND;TZID=America/Managua:20251204T120000
DTSTAMP:20260423T134248
CREATED:20251201T143807Z
LAST-MODIFIED:20251201T143807Z
UID:28773-1764835200-1764849600@www.una.edu.ni
SUMMARY:Taller sobre Análisis de rendimientos productivos en sistemas acuapónicos
DESCRIPTION:
URL:https://www.una.edu.ni/event/taller-sobre-analisis-de-rendimientos-productivos-en-sistemas-acuaponicos/
LOCATION:Universidad Nacional Agraria\, Managua\, km 12 1/2\, Managua\, Nicaragua
CATEGORIES:TALLER
END:VEVENT
BEGIN:VEVENT
DTSTART;TZID=America/Managua:20251204T080000
DTEND;TZID=America/Managua:20251204T120000
DTSTAMP:20260423T134248
CREATED:20251201T143857Z
LAST-MODIFIED:20251201T143857Z
UID:28775-1764835200-1764849600@www.una.edu.ni
SUMMARY:Feria Ambientalista para la conservación y preservación de la madre tierra
DESCRIPTION:
URL:https://www.una.edu.ni/event/feria-ambientalista-para-la-conservacion-y-preservacion-de-la-madre-tierra/
LOCATION:Universidad Nacional Agraria\, Managua\, km 12 1/2\, Managua\, Nicaragua
CATEGORIES:FERIA
END:VEVENT
BEGIN:VEVENT
DTSTART;TZID=America/Managua:20251204T090000
DTEND;TZID=America/Managua:20251204T120000
DTSTAMP:20260423T134248
CREATED:20251201T143054Z
LAST-MODIFIED:20251201T143128Z
UID:28763-1764838800-1764849600@www.una.edu.ni
SUMMARY:Entrega de Certificados a participantes del Curso sobre Diagnóstico clínico veterinario
DESCRIPTION:
URL:https://www.una.edu.ni/event/entrega-de-certificados-a-participantes-del-curso-sobre-diagnostico-clinico-veterinario/
LOCATION:UNICAM Coyanchigüe\, Nicaragua
CATEGORIES:OTROS
END:VEVENT
BEGIN:VEVENT
DTSTART;TZID=America/Managua:20251204T090000
DTEND;TZID=America/Managua:20251204T120000
DTSTAMP:20260423T134248
CREATED:20251201T143609Z
LAST-MODIFIED:20251201T143609Z
UID:28769-1764838800-1764849600@www.una.edu.ni
SUMMARY:Diplomado en Diagnóstico por imágenes
DESCRIPTION:
URL:https://www.una.edu.ni/event/diplomado-en-diagnostico-por-imagenes/
LOCATION:Universidad Nacional Agraria\, Managua\, km 12 1/2\, Managua\, Nicaragua
CATEGORIES:DIPLOMADO
END:VEVENT
BEGIN:VEVENT
DTSTART;TZID=America/Managua:20251204T100000
DTEND;TZID=America/Managua:20251204T130000
DTSTAMP:20260423T134248
CREATED:20251201T142945Z
LAST-MODIFIED:20251201T142945Z
UID:28761-1764842400-1764853200@www.una.edu.ni
SUMMARY:Inicio del Programa de Fortalecimiento Docente
DESCRIPTION:
URL:https://www.una.edu.ni/event/inicio-del-programa-de-fortalecimiento-docente/
LOCATION:Universidad Nacional Agraria\, Managua\, km 12 1/2\, Managua\, Nicaragua
CATEGORIES:OTROS
END:VEVENT
BEGIN:VEVENT
DTSTART;TZID=America/Managua:20251204T110000
DTEND;TZID=America/Managua:20251204T130000
DTSTAMP:20260423T134248
CREATED:20251201T143349Z
LAST-MODIFIED:20251201T143349Z
UID:28765-1764846000-1764853200@www.una.edu.ni
SUMMARY:Sesión No. 44\, del Diplomado de Tecnologías productivas\, con el tema “Mejoramiento en los procesos de beneficiado húmedo para producir café de calidad”
DESCRIPTION:
URL:https://www.una.edu.ni/event/sesion-no-44-del-diplomado-de-tecnologias-productivas-con-el-tema-mejoramiento-en-los-procesos-de-beneficiado-humedo-para-producir-cafe-de-calidad/
LOCATION:Plataforma UALN\, Nicaragua
CATEGORIES:DIPLOMADO
END:VEVENT
BEGIN:VEVENT
DTSTART;TZID=America/Managua:20251204T130000
DTEND;TZID=America/Managua:20251204T170000
DTSTAMP:20260423T134248
CREATED:20251201T142848Z
LAST-MODIFIED:20251201T142848Z
UID:28759-1764853200-1764867600@www.una.edu.ni
SUMMARY:Inauguración de sala de conferencias “Comandante Gaspar García Laviana”
DESCRIPTION:
URL:https://www.una.edu.ni/event/inauguracion-de-sala-de-conferencias-comandante-gaspar-garcia-laviana/
LOCATION:Universidad Nacional Agraria\, Managua\, km 12 1/2\, Managua\, Nicaragua
CATEGORIES:INAUGURACIÓN
END:VEVENT
END:VCALENDAR