BEGIN:VCALENDAR
VERSION:2.0
PRODID:-//Universidad Nacional Agraria - ECPv6.15.20//NONSGML v1.0//EN
CALSCALE:GREGORIAN
METHOD:PUBLISH
X-WR-CALNAME:Universidad Nacional Agraria
X-ORIGINAL-URL:https://www.una.edu.ni
X-WR-CALDESC:Eventos para Universidad Nacional Agraria
REFRESH-INTERVAL;VALUE=DURATION:PT1H
X-Robots-Tag:noindex
X-PUBLISHED-TTL:PT1H
BEGIN:VTIMEZONE
TZID:America/Managua
BEGIN:STANDARD
TZOFFSETFROM:-0600
TZOFFSETTO:-0600
TZNAME:CST
DTSTART:20240101T000000
END:STANDARD
END:VTIMEZONE
BEGIN:VEVENT
DTSTART;TZID=America/Managua:20251216T100000
DTEND;TZID=America/Managua:20251216T120000
DTSTAMP:20260423T110849
CREATED:20251215T165340Z
LAST-MODIFIED:20251215T165340Z
UID:28836-1765879200-1765886400@www.una.edu.ni
SUMMARY:Inauguración de Sala de Conferencias para la formación profesional
DESCRIPTION:
URL:https://www.una.edu.ni/event/inauguracion-de-sala-de-conferencias-para-la-formacion-profesional/
LOCATION:Universidad Nacional Agraria\, Managua\, km 12 1/2\, Managua\, Nicaragua
CATEGORIES:INAUGURACIÓN
END:VEVENT
BEGIN:VEVENT
DTSTART;TZID=America/Managua:20251216T113000
DTEND;TZID=America/Managua:20251216T130000
DTSTAMP:20260423T110849
CREATED:20251215T165213Z
LAST-MODIFIED:20251215T165213Z
UID:28834-1765884600-1765890000@www.una.edu.ni
SUMMARY:Taller sobre análisis de especies arbóreas
DESCRIPTION:
URL:https://www.una.edu.ni/event/taller-sobre-analisis-de-especies-arboreas-2/
LOCATION:Universidad Nacional Agraria\, Managua\, km 12 1/2\, Managua\, Nicaragua
CATEGORIES:TALLER
END:VEVENT
END:VCALENDAR