BEGIN:VCALENDAR
VERSION:2.0
PRODID:-//Universidad Nacional Agraria - ECPv6.15.20//NONSGML v1.0//EN
CALSCALE:GREGORIAN
METHOD:PUBLISH
X-ORIGINAL-URL:https://www.una.edu.ni
X-WR-CALDESC:Eventos para Universidad Nacional Agraria
REFRESH-INTERVAL;VALUE=DURATION:PT1H
X-Robots-Tag:noindex
X-PUBLISHED-TTL:PT1H
BEGIN:VTIMEZONE
TZID:America/Managua
BEGIN:STANDARD
TZOFFSETFROM:-0600
TZOFFSETTO:-0600
TZNAME:CST
DTSTART:20240101T000000
END:STANDARD
END:VTIMEZONE
BEGIN:VEVENT
DTSTART;TZID=America/Managua:20251218T080000
DTEND;TZID=America/Managua:20251218T120000
DTSTAMP:20260423T100719
CREATED:20251216T165450Z
LAST-MODIFIED:20251216T165450Z
UID:28849-1766044800-1766059200@www.una.edu.ni
SUMMARY:Entrega de certificados a más de 200 protagonistas del Diplomado de Tecnologías Productivas
DESCRIPTION:
URL:https://www.una.edu.ni/event/entrega-de-certificados-a-mas-de-200-protagonistas-del-diplomado-de-tecnologias-productivas/
LOCATION:Casa de Cultura. Municipio de Nandaime\, Nicaragua
CATEGORIES:OTROS
END:VEVENT
BEGIN:VEVENT
DTSTART;TZID=America/Managua:20251218T080000
DTEND;TZID=America/Managua:20251218T120000
DTSTAMP:20260423T100719
CREATED:20251216T165814Z
LAST-MODIFIED:20251216T165814Z
UID:28852-1766044800-1766059200@www.una.edu.ni
SUMMARY:Curso sobre uso de sistemas de información geográfica
DESCRIPTION:
URL:https://www.una.edu.ni/event/curso-sobre-uso-de-sistemas-de-informacion-geografica/
LOCATION:Universidad Nacional Agraria\, Managua\, km 12 1/2\, Managua\, Nicaragua
CATEGORIES:CURSO
END:VEVENT
BEGIN:VEVENT
DTSTART;TZID=America/Managua:20251218T100000
DTEND;TZID=America/Managua:20251218T120000
DTSTAMP:20260423T100719
CREATED:20251216T170241Z
LAST-MODIFIED:20251216T170241Z
UID:28856-1766052000-1766059200@www.una.edu.ni
SUMMARY:Foro sobre Manejo fitosanitario del cultivo de frijol
DESCRIPTION:
URL:https://www.una.edu.ni/event/foro-sobre-manejo-fitosanitario-del-cultivo-de-frijol/
LOCATION:UNICAM El Rama\, Nicaragua
CATEGORIES:FORO
END:VEVENT
END:VCALENDAR