BEGIN:VCALENDAR
VERSION:2.0
PRODID:-//Universidad Nacional Agraria - ECPv6.15.20//NONSGML v1.0//EN
CALSCALE:GREGORIAN
METHOD:PUBLISH
X-ORIGINAL-URL:https://www.una.edu.ni
X-WR-CALDESC:Eventos para Universidad Nacional Agraria
REFRESH-INTERVAL;VALUE=DURATION:PT1H
X-Robots-Tag:noindex
X-PUBLISHED-TTL:PT1H
BEGIN:VTIMEZONE
TZID:America/Managua
BEGIN:STANDARD
TZOFFSETFROM:-0600
TZOFFSETTO:-0600
TZNAME:CST
DTSTART:20250101T000000
END:STANDARD
END:VTIMEZONE
BEGIN:VEVENT
DTSTART;TZID=America/Managua:20260211T080000
DTEND;TZID=America/Managua:20260211T120000
DTSTAMP:20260423T201017
CREATED:20260209T144846Z
LAST-MODIFIED:20260209T144846Z
UID:29535-1770796800-1770811200@www.una.edu.ni
SUMMARY:Diplomado sobre Emprendimiento de Cafeterías rentables
DESCRIPTION:
URL:https://www.una.edu.ni/event/diplomado-sobre-emprendimiento-de-cafeterias-rentables/
LOCATION:Escuela Boutique de Café\, Managua\, Nicaragua
CATEGORIES:DIPLOMADO
END:VEVENT
BEGIN:VEVENT
DTSTART;TZID=America/Managua:20260211T080000
DTEND;TZID=America/Managua:20260211T120000
DTSTAMP:20260423T201017
CREATED:20260209T145319Z
LAST-MODIFIED:20260209T145319Z
UID:29544-1770796800-1770811200@www.una.edu.ni
SUMMARY:Taller sobre Elaboración de productos medicinales a base de marango
DESCRIPTION:
URL:https://www.una.edu.ni/event/taller-sobre-elaboracion-de-productos-medicinales-a-base-de-marango/
LOCATION:Centro de Desarrollo Moringa Comandante Fidel\, municipio de León\, Nicaragua
CATEGORIES:TALLER
END:VEVENT
BEGIN:VEVENT
DTSTART;TZID=America/Managua:20260211T090000
DTEND;TZID=America/Managua:20260211T120000
DTSTAMP:20260423T201017
CREATED:20260209T144944Z
LAST-MODIFIED:20260209T144944Z
UID:29538-1770800400-1770811200@www.una.edu.ni
SUMMARY:Encuentro de formación docente en la aplicación en uso de equipos tecnológicos para la atención veterinaria
DESCRIPTION:
URL:https://www.una.edu.ni/event/encuentro-de-formacion-docente-en-la-aplicacion-en-uso-de-equipos-tecnologicos-para-la-atencion-veterinaria/
LOCATION:Universidad Nacional Agraria\, Managua\, km 12 1/2\, Managua\, Nicaragua
CATEGORIES:OTROS
END:VEVENT
BEGIN:VEVENT
DTSTART;TZID=America/Managua:20260211T100000
DTEND;TZID=America/Managua:20260211T160000
DTSTAMP:20260423T201017
CREATED:20260209T144723Z
LAST-MODIFIED:20260209T144723Z
UID:29533-1770804000-1770825600@www.una.edu.ni
SUMMARY:Certificados a protagonistas del Diplomado en Valor agregado de moringa
DESCRIPTION:
URL:https://www.una.edu.ni/event/certificados-a-protagonistas-del-diplomado-en-valor-agregado-de-moringa/
LOCATION:Universidad Nacional Agraria\, Managua\, km 12 1/2\, Managua\, Nicaragua
CATEGORIES:DIPLOMADO
END:VEVENT
BEGIN:VEVENT
DTSTART;TZID=America/Managua:20260211T110000
DTEND;TZID=America/Managua:20260211T160000
DTSTAMP:20260423T201017
CREATED:20260209T145047Z
LAST-MODIFIED:20260209T145047Z
UID:29540-1770807600-1770825600@www.una.edu.ni
SUMMARY:Jornada de aprendizaje sobre Diagnóstico de gestación bovina y caprina
DESCRIPTION:
URL:https://www.una.edu.ni/event/jornada-de-aprendizaje-sobre-diagnostico-de-gestacion-bovina-y-caprina/
LOCATION:Universidad Nacional Agraria\, Managua\, km 12 1/2\, Managua\, Nicaragua
CATEGORIES:JORNADA
END:VEVENT
BEGIN:VEVENT
DTSTART;TZID=America/Managua:20260211T140000
DTEND;TZID=America/Managua:20260211T160000
DTSTAMP:20260423T201017
CREATED:20260209T144400Z
LAST-MODIFIED:20260209T144400Z
UID:29531-1770818400-1770825600@www.una.edu.ni
SUMMARY:Entrega de Equipos para la enseñanza en medicina veterinaria
DESCRIPTION:
URL:https://www.una.edu.ni/event/entrega-de-equipos-para-la-ensenanza-en-medicina-veterinaria/
LOCATION:Universidad Nacional Agraria\, Managua\, km 12 1/2\, Managua\, Nicaragua
CATEGORIES:OTROS
END:VEVENT
BEGIN:VEVENT
DTSTART;TZID=America/Managua:20260211T140000
DTEND;TZID=America/Managua:20260211T170000
DTSTAMP:20260423T201017
CREATED:20260209T145201Z
LAST-MODIFIED:20260209T145201Z
UID:29542-1770818400-1770829200@www.una.edu.ni
SUMMARY:Taller sobre Buenas prácticas de ordeño
DESCRIPTION:
URL:https://www.una.edu.ni/event/taller-sobre-buenas-practicas-de-ordeno-5/
LOCATION:UNICAM Bocana de Paiwas\, Nicaragua
CATEGORIES:TALLER
END:VEVENT
BEGIN:VEVENT
DTSTART;TZID=America/Managua:20260211T150000
DTEND;TZID=America/Managua:20260211T170000
DTSTAMP:20260423T201017
CREATED:20260209T145419Z
LAST-MODIFIED:20260209T145419Z
UID:29546-1770822000-1770829200@www.una.edu.ni
SUMMARY:Taller sobre Manejo agronómico de cultivo de cacao
DESCRIPTION:
URL:https://www.una.edu.ni/event/taller-sobre-manejo-agronomico-de-cultivo-de-cacao/
LOCATION:Centro Universitario Regional UNA Juigalpa\, Juigapa
CATEGORIES:TALLER
END:VEVENT
END:VCALENDAR