BEGIN:VCALENDAR
VERSION:2.0
PRODID:-//Universidad Nacional Agraria - ECPv6.15.20//NONSGML v1.0//EN
CALSCALE:GREGORIAN
METHOD:PUBLISH
X-WR-CALNAME:Universidad Nacional Agraria
X-ORIGINAL-URL:https://www.una.edu.ni
X-WR-CALDESC:Eventos para Universidad Nacional Agraria
REFRESH-INTERVAL;VALUE=DURATION:PT1H
X-Robots-Tag:noindex
X-PUBLISHED-TTL:PT1H
BEGIN:VTIMEZONE
TZID:Europe/Madrid
BEGIN:DAYLIGHT
TZOFFSETFROM:+0100
TZOFFSETTO:+0200
TZNAME:CEST
DTSTART:20240331T010000
END:DAYLIGHT
BEGIN:STANDARD
TZOFFSETFROM:+0200
TZOFFSETTO:+0100
TZNAME:CET
DTSTART:20241027T010000
END:STANDARD
BEGIN:DAYLIGHT
TZOFFSETFROM:+0100
TZOFFSETTO:+0200
TZNAME:CEST
DTSTART:20250330T010000
END:DAYLIGHT
BEGIN:STANDARD
TZOFFSETFROM:+0200
TZOFFSETTO:+0100
TZNAME:CET
DTSTART:20251026T010000
END:STANDARD
BEGIN:DAYLIGHT
TZOFFSETFROM:+0100
TZOFFSETTO:+0200
TZNAME:CEST
DTSTART:20260329T010000
END:DAYLIGHT
BEGIN:STANDARD
TZOFFSETFROM:+0200
TZOFFSETTO:+0100
TZNAME:CET
DTSTART:20261025T010000
END:STANDARD
END:VTIMEZONE
BEGIN:VEVENT
DTSTART;TZID=Europe/Madrid:20250117T100000
DTEND;TZID=Europe/Madrid:20250117T120000
DTSTAMP:20260423T201315
CREATED:20250115T174505Z
LAST-MODIFIED:20250115T174505Z
UID:19757-1737108000-1737115200@www.una.edu.ni
SUMMARY:Capacitación a productores sobre injertos frutales
DESCRIPTION:
URL:https://www.una.edu.ni/event/capacitacion-a-productores-sobre-injertos-frutales/
LOCATION:Universidad Nacional Agraria\, Managua\, km 12 1/2\, Managua\, Nicaragua
CATEGORIES:CAPACITACION
END:VEVENT
BEGIN:VEVENT
DTSTART;TZID=Europe/Madrid:20250120T090000
DTEND;TZID=Europe/Madrid:20250120T120000
DTSTAMP:20260423T201315
CREATED:20250118T164830Z
LAST-MODIFIED:20250118T164830Z
UID:19778-1737363600-1737374400@www.una.edu.ni
SUMMARY:Capacitación a productores sobre métodos de solución a problemáticas presentadas en los suelos\, agua y contaminación con patógenos y plaguicidas
DESCRIPTION:
URL:https://www.una.edu.ni/event/capacitacion-a-productores-sobre-metodos-de-solucion-a-problematicas-presentadas-en-los-suelos-agua-y-contaminacion-con-patogenos-y-plaguicidas/
LOCATION:Universidad Nacional Agraria\, Managua\, km 12 1/2\, Managua\, Nicaragua
CATEGORIES:CAPACITACION
END:VEVENT
END:VCALENDAR