BEGIN:VCALENDAR
VERSION:2.0
PRODID:-//Universidad Nacional Agraria - ECPv6.15.20//NONSGML v1.0//EN
CALSCALE:GREGORIAN
METHOD:PUBLISH
X-ORIGINAL-URL:https://www.una.edu.ni
X-WR-CALDESC:Eventos para Universidad Nacional Agraria
REFRESH-INTERVAL;VALUE=DURATION:PT1H
X-Robots-Tag:noindex
X-PUBLISHED-TTL:PT1H
BEGIN:VTIMEZONE
TZID:America/Managua
BEGIN:STANDARD
TZOFFSETFROM:-0600
TZOFFSETTO:-0600
TZNAME:CST
DTSTART:20240101T000000
END:STANDARD
END:VTIMEZONE
BEGIN:VTIMEZONE
TZID:Europe/Madrid
BEGIN:DAYLIGHT
TZOFFSETFROM:+0100
TZOFFSETTO:+0200
TZNAME:CEST
DTSTART:20240331T010000
END:DAYLIGHT
BEGIN:STANDARD
TZOFFSETFROM:+0200
TZOFFSETTO:+0100
TZNAME:CET
DTSTART:20241027T010000
END:STANDARD
BEGIN:DAYLIGHT
TZOFFSETFROM:+0100
TZOFFSETTO:+0200
TZNAME:CEST
DTSTART:20250330T010000
END:DAYLIGHT
BEGIN:STANDARD
TZOFFSETFROM:+0200
TZOFFSETTO:+0100
TZNAME:CET
DTSTART:20251026T010000
END:STANDARD
BEGIN:DAYLIGHT
TZOFFSETFROM:+0100
TZOFFSETTO:+0200
TZNAME:CEST
DTSTART:20260329T010000
END:DAYLIGHT
BEGIN:STANDARD
TZOFFSETFROM:+0200
TZOFFSETTO:+0100
TZNAME:CET
DTSTART:20261025T010000
END:STANDARD
END:VTIMEZONE
BEGIN:VEVENT
DTSTART;TZID=America/Managua:20250210T083000
DTEND;TZID=America/Managua:20250210T120000
DTSTAMP:20260423T174000
CREATED:20250207T222714Z
LAST-MODIFIED:20250207T222714Z
UID:21174-1739176200-1739188800@www.una.edu.ni
SUMMARY:Capacitación sobre “Prevención de Enfermedades en Bovinos: La Importancia del Manejo Adecuado de Vacunas”
DESCRIPTION:
URL:https://www.una.edu.ni/event/capacitacion-sobre-prevencion-de-enfermedades-en-bovinos-la-importancia-del-manejo-adecuado-de-vacunas/
LOCATION:Centro de Práctica Bovino. UNA Managua\, Nicaragua
CATEGORIES:CAPACITACION
END:VEVENT
BEGIN:VEVENT
DTSTART;TZID=Europe/Madrid:20250211T140000
DTEND;TZID=Europe/Madrid:20250211T170000
DTSTAMP:20260423T174000
CREATED:20250207T222839Z
LAST-MODIFIED:20250207T222839Z
UID:21177-1739282400-1739293200@www.una.edu.ni
SUMMARY:Capacitación sobre medidas de prevención de enfermedades en gallinas de patio
DESCRIPTION:
URL:https://www.una.edu.ni/event/capacitacion-sobre-medidas-de-prevencion-de-enfermedades-en-gallinas-de-patio/
LOCATION:Comunidad El barro\, Esquipulas
CATEGORIES:CAPACITACION
END:VEVENT
BEGIN:VEVENT
DTSTART;TZID=America/Managua:20250215T130000
DTEND;TZID=America/Managua:20250215T170000
DTSTAMP:20260423T174000
CREATED:20250211T162151Z
LAST-MODIFIED:20250211T162259Z
UID:21223-1739624400-1739638800@www.una.edu.ni
SUMMARY:Capacitación sobre manejo\, prevención y tratamiento de enfermedades reproductivas en ganado bovino
DESCRIPTION:
URL:https://www.una.edu.ni/event/capacitacion-sobre-manejo-prevencion-y-tratamiento-de-enfermedades-reproductivas-en-ganado-bovino/
LOCATION:UNICAM Muelle de los Bueyes\, Nicaragua
CATEGORIES:CAPACITACION
END:VEVENT
BEGIN:VEVENT
DTSTART;TZID=America/Managua:20250228T090000
DTEND;TZID=America/Managua:20250228T120000
DTSTAMP:20260423T174000
CREATED:20250226T142240Z
LAST-MODIFIED:20250226T142240Z
UID:21444-1740733200-1740744000@www.una.edu.ni
SUMMARY:Capacitación a productores y estudiantes sobre técnicas de fermentación de productos y subproductos a base de frutas
DESCRIPTION:
URL:https://www.una.edu.ni/event/capacitacion-a-productores-y-estudiantes-sobre-tecnicas-de-fermentacion-de-productos-y-subproductos-a-base-de-frutas/
LOCATION:Centro de Desarrollo Moringa Comandante Fidel\, municipio de León\, Nicaragua
CATEGORIES:CAPACITACION
END:VEVENT
END:VCALENDAR