BEGIN:VCALENDAR
VERSION:2.0
PRODID:-//Universidad Nacional Agraria - ECPv6.15.20//NONSGML v1.0//EN
CALSCALE:GREGORIAN
METHOD:PUBLISH
X-ORIGINAL-URL:https://www.una.edu.ni
X-WR-CALDESC:Eventos para Universidad Nacional Agraria
REFRESH-INTERVAL;VALUE=DURATION:PT1H
X-Robots-Tag:noindex
X-PUBLISHED-TTL:PT1H
BEGIN:VTIMEZONE
TZID:America/Managua
BEGIN:STANDARD
TZOFFSETFROM:-0600
TZOFFSETTO:-0600
TZNAME:CST
DTSTART:20230101T000000
END:STANDARD
END:VTIMEZONE
BEGIN:VEVENT
DTSTART;TZID=America/Managua:20240903T100000
DTEND;TZID=America/Managua:20240903T120000
DTSTAMP:20260425T125349
CREATED:20240830T214628Z
LAST-MODIFIED:20240904T141247Z
UID:14330-1725357600-1725364800@www.una.edu.ni
SUMMARY:Conferencia “Tipos de flora y su impacto positivo en las comunidades de nicaragua”
DESCRIPTION:
URL:https://www.una.edu.ni/event/conferencia-tipos-de-flora-y-su-impacto-positivo-en-las-comunidades-de-nicaragua/
LOCATION:Universidad Nacional Agraria\, Managua\, km 12 1/2\, Managua\, Nicaragua
CATEGORIES:CONFERENCIA
END:VEVENT
BEGIN:VEVENT
DTSTART;TZID=America/Managua:20240905T090000
DTEND;TZID=America/Managua:20240905T120000
DTSTAMP:20260425T125349
CREATED:20240902T143034Z
LAST-MODIFIED:20240904T203500Z
UID:14338-1725526800-1725537600@www.una.edu.ni
SUMMARY:Conferencia "Bioinsumos para el manejo de enfermedades en viveros de café"
DESCRIPTION:
URL:https://www.una.edu.ni/event/conferencia-bioinsumos-para-el-manejo-de-enfermedades-en-viveros-de-cafe/
LOCATION:Universidad Nacional Agraria\, Managua\, km 12 1/2\, Managua\, Nicaragua
CATEGORIES:CONFERENCIA
ATTACH;FMTTYPE=image/jpeg:https://www.una.edu.ni/wp-content/uploads/2024/09/ConferenciaBioinsumos.jpg
END:VEVENT
BEGIN:VEVENT
DTSTART;TZID=America/Managua:20240907T100000
DTEND;TZID=America/Managua:20240907T120000
DTSTAMP:20260425T125349
CREATED:20240905T143238Z
LAST-MODIFIED:20240905T143238Z
UID:14526-1725703200-1725710400@www.una.edu.ni
SUMMARY:Conferencia Científica sobre Innovacciones Tecnológicas para el control de plagas que afectan la producción de miel de abejas
DESCRIPTION:
URL:https://www.una.edu.ni/event/conferencia-cientifica-sobre-innovacciones-tecnologicas-para-el-control-de-plagas-que-afectan-la-produccion-de-miel-de-abejas/
LOCATION:Auditorio Odilio González\, Managua\, Nicaragua
CATEGORIES:CONFERENCIA
END:VEVENT
BEGIN:VEVENT
DTSTART;TZID=America/Managua:20240909T160000
DTEND;TZID=America/Managua:20240909T170000
DTSTAMP:20260425T125349
CREATED:20240907T220655Z
LAST-MODIFIED:20240909T162407Z
UID:14562-1725897600-1725901200@www.una.edu.ni
SUMMARY:Conferencia “Semillas nativas de Maíz”\, abordando nuestros orígenes ancestrales y culturales
DESCRIPTION:
URL:https://www.una.edu.ni/event/conferencia-semillas-nativas-de-maiz-abordando-nuestros-origenes-ancestrales-y-culturales/
LOCATION:Museo de la revolución – Bocana de Paiwas\, Bocana de Paiwas\, Nicaragua
CATEGORIES:CONFERENCIA
ATTACH;FMTTYPE=image/jpeg:https://www.una.edu.ni/wp-content/uploads/2024/09/conferenciaSemillas.jpg
END:VEVENT
BEGIN:VEVENT
DTSTART;TZID=America/Managua:20240912T090000
DTEND;TZID=America/Managua:20240912T120000
DTSTAMP:20260425T125349
CREATED:20240908T212437Z
LAST-MODIFIED:20240908T212437Z
UID:14588-1726131600-1726142400@www.una.edu.ni
SUMMARY:Conferencia sobre “Apropiación de la Estrategia Nacional de Educación “Bendiciones y Victorias”
DESCRIPTION:
URL:https://www.una.edu.ni/event/conferencia-sobre-apropiacion-de-la-estrategia-nacional-de-educacion-bendiciones-y-victorias/
LOCATION:Universidad Nacional Agraria\, Managua\, km 12 1/2\, Managua\, Nicaragua
CATEGORIES:CONFERENCIA
END:VEVENT
BEGIN:VEVENT
DTSTART;TZID=America/Managua:20240926T090000
DTEND;TZID=America/Managua:20240926T120000
DTSTAMP:20260425T125349
CREATED:20240925T162704Z
LAST-MODIFIED:20240925T213103Z
UID:14992-1727341200-1727352000@www.una.edu.ni
SUMMARY:Conferencia “Aflatoxinas y su impacto en la calidad de los productos agrícolas”
DESCRIPTION:
URL:https://www.una.edu.ni/event/conferencia-aflatoxinas-y-su-impacto-en-la-calidad-de-los-productos-agricolas/
LOCATION:Universidad Nacional Agraria\, Managua\, km 12 1/2\, Managua\, Nicaragua
CATEGORIES:CONFERENCIA
ATTACH;FMTTYPE=image/jpeg:https://www.una.edu.ni/wp-content/uploads/2024/09/ConferenciaAflatoxinas.jpg
END:VEVENT
END:VCALENDAR