BEGIN:VCALENDAR
VERSION:2.0
PRODID:-//Universidad Nacional Agraria - ECPv6.15.20//NONSGML v1.0//EN
CALSCALE:GREGORIAN
METHOD:PUBLISH
X-WR-CALNAME:Universidad Nacional Agraria
X-ORIGINAL-URL:https://www.una.edu.ni
X-WR-CALDESC:Eventos para Universidad Nacional Agraria
REFRESH-INTERVAL;VALUE=DURATION:PT1H
X-Robots-Tag:noindex
X-PUBLISHED-TTL:PT1H
BEGIN:VTIMEZONE
TZID:America/Managua
BEGIN:STANDARD
TZOFFSETFROM:-0600
TZOFFSETTO:-0600
TZNAME:CST
DTSTART:20240101T000000
END:STANDARD
END:VTIMEZONE
BEGIN:VEVENT
DTSTART;TZID=America/Managua:20250401T090000
DTEND;TZID=America/Managua:20250401T120000
DTSTAMP:20260422T153918
CREATED:20250331T155514Z
LAST-MODIFIED:20250331T155514Z
UID:22450-1743498000-1743508800@www.una.edu.ni
SUMMARY:Conferencia con productores “Agricultura protegida con énfasis en el cultivo de tomate\, retos y oportunidades
DESCRIPTION:
URL:https://www.una.edu.ni/event/conferencia-con-productores-agricultura-protegida-con-enfasis-en-el-cultivo-de-tomate-retos-y-oportunidades/
LOCATION:Universidad Nacional Agraria\, Managua\, km 12 1/2\, Managua\, Nicaragua
CATEGORIES:CONFERENCIA
END:VEVENT
BEGIN:VEVENT
DTSTART;TZID=America/Managua:20250403T083000
DTEND;TZID=America/Managua:20250403T120000
DTSTAMP:20260422T153918
CREATED:20250401T164518Z
LAST-MODIFIED:20250401T164518Z
UID:22509-1743669000-1743681600@www.una.edu.ni
SUMMARY:Conferencia “Avances y Desafíos actuales en la medicina veterinaria” a nivel internacional
DESCRIPTION:
URL:https://www.una.edu.ni/event/conferencia-avances-y-desafios-actuales-en-la-medicina-veterinaria-a-nivel-internacional/
LOCATION:Universidad Nacional Agraria\, Managua\, km 12 1/2\, Managua\, Nicaragua
CATEGORIES:CONFERENCIA
END:VEVENT
BEGIN:VEVENT
DTSTART;TZID=America/Managua:20250403T133000
DTEND;TZID=America/Managua:20250403T170000
DTSTAMP:20260422T153918
CREATED:20250401T164342Z
LAST-MODIFIED:20250401T164342Z
UID:22507-1743687000-1743699600@www.una.edu.ni
SUMMARY:Conferencia sobre el “Cultivo de arroz y los principales desafíos ante el cambio climático”
DESCRIPTION:
URL:https://www.una.edu.ni/event/conferencia-sobre-el-cultivo-de-arroz-y-los-principales-desafios-ante-el-cambio-climatico/
LOCATION:Universidad Nacional Agraria\, Managua\, km 12 1/2\, Managua\, Nicaragua
CATEGORIES:CONFERENCIA
END:VEVENT
BEGIN:VEVENT
DTSTART;TZID=America/Managua:20250407T100000
DTEND;TZID=America/Managua:20250407T120000
DTSTAMP:20260422T153918
CREATED:20250407T144723Z
LAST-MODIFIED:20250407T144723Z
UID:22597-1744020000-1744027200@www.una.edu.ni
SUMMARY:Conferencia “Uso de Bioestimulantes en Cultivos de Granos Básicos”
DESCRIPTION:
URL:https://www.una.edu.ni/event/conferencia-uso-de-bioestimulantes-en-cultivos-de-granos-basicos/
LOCATION:UNICAM El Ayote\, Juigalpa\, Nicaragua
CATEGORIES:CONFERENCIA
END:VEVENT
BEGIN:VEVENT
DTSTART;TZID=America/Managua:20250408T130000
DTEND;TZID=America/Managua:20250408T170000
DTSTAMP:20260422T153918
CREATED:20250407T145122Z
LAST-MODIFIED:20250407T145122Z
UID:22603-1744117200-1744131600@www.una.edu.ni
SUMMARY:Conferencia “Manejo del cultivo de repollo”
DESCRIPTION:
URL:https://www.una.edu.ni/event/conferencia-manejo-del-cultivo-de-repollo/
LOCATION:Universidad Nacional Agraria\, Managua\, km 12 1/2\, Managua\, Nicaragua
CATEGORIES:CONFERENCIA
END:VEVENT
BEGIN:VEVENT
DTSTART;TZID=America/Managua:20250409T083000
DTEND;TZID=America/Managua:20250409T120000
DTSTAMP:20260422T153918
CREATED:20250408T143450Z
LAST-MODIFIED:20250408T143450Z
UID:22646-1744187400-1744200000@www.una.edu.ni
SUMMARY:Conferencia “Intervenciones quirúrgicas en animales Domésticos”
DESCRIPTION:
URL:https://www.una.edu.ni/event/conferencia-intervenciones-quirurgicas-en-animales-domesticos/
LOCATION:Universidad Nacional Agraria\, Managua\, km 12 1/2\, Managua\, Nicaragua
CATEGORIES:CONFERENCIA
END:VEVENT
BEGIN:VEVENT
DTSTART;TZID=America/Managua:20250410T090000
DTEND;TZID=America/Managua:20250410T120000
DTSTAMP:20260422T153918
CREATED:20250409T160509Z
LAST-MODIFIED:20250409T160509Z
UID:22729-1744275600-1744286400@www.una.edu.ni
SUMMARY:Conferencia “Manejo de plagas en granos almacenados”
DESCRIPTION:
URL:https://www.una.edu.ni/event/conferencia-manejo-de-plagas-en-granos-almacenados/
LOCATION:Universidad Nacional Agraria\, Managua\, km 12 1/2\, Managua\, Nicaragua
CATEGORIES:CONFERENCIA
END:VEVENT
BEGIN:VEVENT
DTSTART;TZID=America/Managua:20250428T130000
DTEND;TZID=America/Managua:20250428T170000
DTSTAMP:20260422T153918
CREATED:20250428T162500Z
LAST-MODIFIED:20250428T162500Z
UID:22880-1745845200-1745859600@www.una.edu.ni
SUMMARY:Conferencia sobre Importancia y Beneficios de insectos en el control de plagas de cultivos agrícolas
DESCRIPTION:
URL:https://www.una.edu.ni/event/conferencia-sobre-importancia-y-beneficios-de-insectos-en-el-control-de-plagas-de-cultivos-agricolas/
LOCATION:Universidad Nacional Agraria\, Managua\, km 12 1/2\, Managua\, Nicaragua
CATEGORIES:CONFERENCIA
END:VEVENT
BEGIN:VEVENT
DTSTART;TZID=America/Managua:20250429T090000
DTEND;TZID=America/Managua:20250429T120000
DTSTAMP:20260422T153918
CREATED:20250428T162557Z
LAST-MODIFIED:20250428T162557Z
UID:22882-1745917200-1745928000@www.una.edu.ni
SUMMARY:Conferencia “Uso de semillas certificadas para mejorar el rendimiento productivo de los cultivos agrícolas”
DESCRIPTION:
URL:https://www.una.edu.ni/event/conferencia-uso-de-semillas-certificadas-para-mejorar-el-rendimiento-productivo-de-los-cultivos-agricolas/
LOCATION:UNICAM Achuapa\, León\, Nicaragua
CATEGORIES:CONFERENCIA
END:VEVENT
BEGIN:VEVENT
DTSTART;TZID=America/Managua:20250430T130000
DTEND;TZID=America/Managua:20250430T160000
DTSTAMP:20260422T153918
CREATED:20250428T162822Z
LAST-MODIFIED:20250428T162822Z
UID:22884-1746018000-1746028800@www.una.edu.ni
SUMMARY:Conferencia “Función de los microorganismos en la fermentación y aroma del cacao”
DESCRIPTION:
URL:https://www.una.edu.ni/event/conferencia-funcion-de-los-microorganismos-en-la-fermentacion-y-aroma-del-cacao/
LOCATION:Universidad Nacional Agraria\, Managua\, km 12 1/2\, Managua\, Nicaragua
CATEGORIES:CONFERENCIA
END:VEVENT
END:VCALENDAR