BEGIN:VCALENDAR
VERSION:2.0
PRODID:-//Universidad Nacional Agraria - ECPv6.15.20//NONSGML v1.0//EN
CALSCALE:GREGORIAN
METHOD:PUBLISH
X-WR-CALNAME:Universidad Nacional Agraria
X-ORIGINAL-URL:https://www.una.edu.ni
X-WR-CALDESC:Eventos para Universidad Nacional Agraria
REFRESH-INTERVAL;VALUE=DURATION:PT1H
X-Robots-Tag:noindex
X-PUBLISHED-TTL:PT1H
BEGIN:VTIMEZONE
TZID:America/Managua
BEGIN:STANDARD
TZOFFSETFROM:-0600
TZOFFSETTO:-0600
TZNAME:CST
DTSTART:20240101T000000
END:STANDARD
END:VTIMEZONE
BEGIN:VEVENT
DTSTART;TZID=America/Managua:20250903T100000
DTEND;TZID=America/Managua:20250903T120000
DTSTAMP:20260421T191916
CREATED:20250902T144037Z
LAST-MODIFIED:20250902T144037Z
UID:26080-1756893600-1756900800@www.una.edu.ni
SUMMARY:Conferencia sobre vigilancia fitosanitaria en Nicaragua
DESCRIPTION:
URL:https://www.una.edu.ni/event/conferencia-sobre-vigilancia-fitosanitaria-en-nicaragua/
LOCATION:Universidad Nacional Agraria\, Managua\, km 12 1/2\, Managua\, Nicaragua
CATEGORIES:CONFERENCIA
END:VEVENT
BEGIN:VEVENT
DTSTART;TZID=America/Managua:20250908T140000
DTEND;TZID=America/Managua:20250908T170000
DTSTAMP:20260421T191916
CREATED:20250908T161628Z
LAST-MODIFIED:20250908T161628Z
UID:26182-1757340000-1757350800@www.una.edu.ni
SUMMARY:Conferencia magistral “La Batalla de San Jacinto\, héroes\, identidad y memoria histórica”
DESCRIPTION:
URL:https://www.una.edu.ni/event/conferencia-magistral-la-batalla-de-san-jacinto-heroes-identidad-y-memoria-historica/
LOCATION:Universidad La Sandino\, Nicaragua
CATEGORIES:CONFERENCIA
END:VEVENT
BEGIN:VEVENT
DTSTART;TZID=America/Managua:20250922T100000
DTEND;TZID=America/Managua:20250922T120000
DTSTAMP:20260421T191916
CREATED:20250922T142733Z
LAST-MODIFIED:20250922T142733Z
UID:26342-1758535200-1758542400@www.una.edu.ni
SUMMARY:Conferencia sobre la Gesta heroica de Rigoberto López Pérez
DESCRIPTION:
URL:https://www.una.edu.ni/event/conferencia-sobre-la-gesta-heroica-de-rigoberto-lopez-perez/
LOCATION:Sistema Penitenciario Waswalí\, Matagalpa\, Nicaragua
CATEGORIES:CONFERENCIA
END:VEVENT
END:VCALENDAR