BEGIN:VCALENDAR
VERSION:2.0
PRODID:-//Universidad Nacional Agraria - ECPv6.15.20//NONSGML v1.0//EN
CALSCALE:GREGORIAN
METHOD:PUBLISH
X-WR-CALNAME:Universidad Nacional Agraria
X-ORIGINAL-URL:https://www.una.edu.ni
X-WR-CALDESC:Eventos para Universidad Nacional Agraria
REFRESH-INTERVAL;VALUE=DURATION:PT1H
X-Robots-Tag:noindex
X-PUBLISHED-TTL:PT1H
BEGIN:VTIMEZONE
TZID:America/Managua
BEGIN:STANDARD
TZOFFSETFROM:-0600
TZOFFSETTO:-0600
TZNAME:CST
DTSTART:20240101T000000
END:STANDARD
END:VTIMEZONE
BEGIN:VEVENT
DTSTART;TZID=America/Managua:20251007T083000
DTEND;TZID=America/Managua:20251007T120000
DTSTAMP:20260421T163732
CREATED:20251006T142707Z
LAST-MODIFIED:20251006T142707Z
UID:26664-1759825800-1759838400@www.una.edu.ni
SUMMARY:Conferencia sobre Emprendimiento e innovación agrícola
DESCRIPTION:
URL:https://www.una.edu.ni/event/conferencia-sobre-emprendimiento-e-innovacion-agricola/
LOCATION:Universidad Nacional Agraria\, Managua\, km 12 1/2\, Managua\, Nicaragua
CATEGORIES:CONFERENCIA
END:VEVENT
BEGIN:VEVENT
DTSTART;TZID=America/Managua:20251015T083000
DTEND;TZID=America/Managua:20251015T120000
DTSTAMP:20260421T163732
CREATED:20251013T170441Z
LAST-MODIFIED:20251013T170441Z
UID:26799-1760517000-1760529600@www.una.edu.ni
SUMMARY:Conferencia sobre Innovación y diseño de marca para emprendedores del sector agropecuario
DESCRIPTION:
URL:https://www.una.edu.ni/event/conferencia-sobre-innovacion-y-diseno-de-marca-para-emprendedores-del-sector-agropecuario/
LOCATION:Universidad Nacional Agraria\, Managua\, km 12 1/2\, Managua\, Nicaragua
CATEGORIES:CONFERENCIA
END:VEVENT
BEGIN:VEVENT
DTSTART;TZID=America/Managua:20251022T100000
DTEND;TZID=America/Managua:20251022T120000
DTSTAMP:20260421T163732
CREATED:20251021T204555Z
LAST-MODIFIED:20251021T204555Z
UID:27299-1761127200-1761134400@www.una.edu.ni
SUMMARY:Conferencia sobre Manejo de plagas y enfermedades en cultivos de café
DESCRIPTION:
URL:https://www.una.edu.ni/event/conferencia-sobre-manejo-de-plagas-y-enfermedades-en-cultivos-de-cafe-2/
LOCATION:Universidad Nacional Agraria\, Managua\, km 12 1/2\, Managua\, Nicaragua
CATEGORIES:CONFERENCIA
END:VEVENT
BEGIN:VEVENT
DTSTART;TZID=America/Managua:20251024T080000
DTEND;TZID=America/Managua:20251024T120000
DTSTAMP:20260421T163732
CREATED:20251022T193900Z
LAST-MODIFIED:20251022T193900Z
UID:27406-1761292800-1761307200@www.una.edu.ni
SUMMARY:Conferencia sobre Manejo reproductivo de abejas
DESCRIPTION:
URL:https://www.una.edu.ni/event/conferencia-sobre-manejo-reproductivo-de-abejas/
LOCATION:UNICAM Esquipulas\, Nicaragua
CATEGORIES:CONFERENCIA
END:VEVENT
BEGIN:VEVENT
DTSTART;TZID=America/Managua:20251024T130000
DTEND;TZID=America/Managua:20251024T170000
DTSTAMP:20260421T163732
CREATED:20251022T194000Z
LAST-MODIFIED:20251022T194000Z
UID:27408-1761310800-1761325200@www.una.edu.ni
SUMMARY:Conferencia sobre diagnóstico de enfermedades en aves de granja
DESCRIPTION:
URL:https://www.una.edu.ni/event/conferencia-sobre-diagnostico-de-enfermedades-en-aves-de-granja/
LOCATION:Universidad Nacional Agraria\, Managua\, km 12 1/2\, Managua\, Nicaragua
CATEGORIES:CONFERENCIA
END:VEVENT
BEGIN:VEVENT
DTSTART;TZID=America/Managua:20251024T130000
DTEND;TZID=America/Managua:20251024T170000
DTSTAMP:20260421T163732
CREATED:20251022T194052Z
LAST-MODIFIED:20251022T194052Z
UID:27410-1761310800-1761325200@www.una.edu.ni
SUMMARY:Conferencia científica sobre Nutrición en ganado bovino para comercialización
DESCRIPTION:
URL:https://www.una.edu.ni/event/conferencia-cientifica-sobre-nutricion-en-ganado-bovino-para-comercializacion/
LOCATION:Universidad Nacional Agraria\, Managua\, km 12 1/2\, Managua\, Nicaragua
CATEGORIES:CONFERENCIA
END:VEVENT
BEGIN:VEVENT
DTSTART;TZID=America/Managua:20251030T130000
DTEND;TZID=America/Managua:20251030T170000
DTSTAMP:20260421T163732
CREATED:20251029T144128Z
LAST-MODIFIED:20251029T144128Z
UID:27820-1761829200-1761843600@www.una.edu.ni
SUMMARY:Conferencia sobre mejora genética en especies acuícolas
DESCRIPTION:
URL:https://www.una.edu.ni/event/conferencia-sobre-mejora-genetica-en-especies-acuicolas/
LOCATION:Universidad Nacional Agraria\, Managua\, km 12 1/2\, Managua\, Nicaragua
CATEGORIES:CONFERENCIA
END:VEVENT
END:VCALENDAR