BEGIN:VCALENDAR
VERSION:2.0
PRODID:-//Universidad Nacional Agraria - ECPv6.15.20//NONSGML v1.0//EN
CALSCALE:GREGORIAN
METHOD:PUBLISH
X-WR-CALNAME:Universidad Nacional Agraria
X-ORIGINAL-URL:https://www.una.edu.ni
X-WR-CALDESC:Eventos para Universidad Nacional Agraria
REFRESH-INTERVAL;VALUE=DURATION:PT1H
X-Robots-Tag:noindex
X-PUBLISHED-TTL:PT1H
BEGIN:VTIMEZONE
TZID:America/Managua
BEGIN:STANDARD
TZOFFSETFROM:-0600
TZOFFSETTO:-0600
TZNAME:CST
DTSTART:20230101T000000
END:STANDARD
END:VTIMEZONE
BEGIN:VEVENT
DTSTART;TZID=America/Managua:20241017T090000
DTEND;TZID=America/Managua:20241017T120000
DTSTAMP:20260425T000909
CREATED:20241017T134040Z
LAST-MODIFIED:20241017T134040Z
UID:15981-1729155600-1729166400@www.una.edu.ni
SUMMARY:Conferencia “Sistema de información geográfica para apoyar la adaptación al cambio climático de pequeños sistemas de producción de café en la zona norte de Nicaragua”
DESCRIPTION:
URL:https://www.una.edu.ni/event/conferencia-sistema-de-informacion-geografica-para-apoyar-la-adaptacion-al-cambio-climatico-de-pequenos-sistemas-de-produccion-de-cafe-en-la-zona-norte-de-nicaragua/
LOCATION:Universidad Nacional Agraria\, Managua\, km 12 1/2\, Managua\, Nicaragua
CATEGORIES:CONFERENCIA
END:VEVENT
BEGIN:VEVENT
DTSTART;TZID=America/Managua:20241017T090000
DTEND;TZID=America/Managua:20241017T120000
DTSTAMP:20260425T000909
CREATED:20241017T135412Z
LAST-MODIFIED:20241017T135412Z
UID:15993-1729155600-1729166400@www.una.edu.ni
SUMMARY:Conferencia “Aplicación de técnicas de almacenamiento de forraje en base seca\, húmeda y fermentación en estado sólido para mejorar la alimentación animal y la sostenibilidad rural”\, con estudiantes de UNICAM y productores locales
DESCRIPTION:
URL:https://www.una.edu.ni/event/conferencia-aplicacion-de-tecnicas-de-almacenamiento-de-forraje-en-base-seca-humeda-y-fermentacion-en-estado-solido-para-mejorar-la-alimentacion-animal-y-la-sostenibilidad-rural-co/
LOCATION:Comarca los caraos\, Achuapa\, Nicaragua
CATEGORIES:CONFERENCIA
END:VEVENT
BEGIN:VEVENT
DTSTART;TZID=America/Managua:20241017T103000
DTEND;TZID=America/Managua:20241017T120000
DTSTAMP:20260425T000909
CREATED:20241017T134153Z
LAST-MODIFIED:20241017T134153Z
UID:15983-1729161000-1729166400@www.una.edu.ni
SUMMARY:Conferencia “Tendencias de la biotecnología\, aplicación en Nicaragua y su aporte al sector agrario”
DESCRIPTION:
URL:https://www.una.edu.ni/event/conferencia-tendencias-de-la-biotecnologia-aplicacion-en-nicaragua-y-su-aporte-al-sector-agrario/
LOCATION:Universidad Nacional Agraria\, Managua\, km 12 1/2\, Managua\, Nicaragua
CATEGORIES:CONFERENCIA
END:VEVENT
BEGIN:VEVENT
DTSTART;TZID=America/Managua:20241017T150000
DTEND;TZID=America/Managua:20241017T170000
DTSTAMP:20260425T000909
CREATED:20241017T134843Z
LAST-MODIFIED:20241017T134843Z
UID:15989-1729177200-1729184400@www.una.edu.ni
SUMMARY:Conferencia Didáctica y Espectáculo performático Interdisciplinario sobre la “Vigencia y sincretismo de celebraciones rituales de la nación Sumu-Mayangna presentes en dos representaciones danzarías del pacífico de Nicaragua: el Baile del Toro Huaco de Diriamba y el Baile de los Chilegros de Nindirí
DESCRIPTION:
URL:https://www.una.edu.ni/event/conferencia-didactica-y-espectaculo-performatico-interdisciplinario-sobre-la-vigencia-y-sincretismo-de-celebraciones-rituales-de-la-nacion-sumu-mayangna-presentes-en-dos-representaciones-danz/
LOCATION:Universidad Nacional Agraria\, Managua\, km 12 1/2\, Managua\, Nicaragua
CATEGORIES:CONFERENCIA
END:VEVENT
BEGIN:VEVENT
DTSTART;TZID=America/Managua:20241017T150000
DTEND;TZID=America/Managua:20241017T170000
DTSTAMP:20260425T000909
CREATED:20241017T135850Z
LAST-MODIFIED:20241017T135850Z
UID:15996-1729177200-1729184400@www.una.edu.ni
SUMMARY:Conferencia “Situación Actual de la trazabilidad Bovina en Nicaragua” con expertos del IPSA
DESCRIPTION:
URL:https://www.una.edu.ni/event/conferencia-situacion-actual-de-la-trazabilidad-bovina-en-nicaragua-con-expertos-del-ipsa/
LOCATION:Universidad Nacional Agraria\, Managua\, km 12 1/2\, Managua\, Nicaragua
CATEGORIES:CONFERENCIA
END:VEVENT
END:VCALENDAR