BEGIN:VCALENDAR
VERSION:2.0
PRODID:-//Universidad Nacional Agraria - ECPv6.15.20//NONSGML v1.0//EN
CALSCALE:GREGORIAN
METHOD:PUBLISH
X-WR-CALNAME:Universidad Nacional Agraria
X-ORIGINAL-URL:https://www.una.edu.ni
X-WR-CALDESC:Eventos para Universidad Nacional Agraria
REFRESH-INTERVAL;VALUE=DURATION:PT1H
X-Robots-Tag:noindex
X-PUBLISHED-TTL:PT1H
BEGIN:VTIMEZONE
TZID:America/Managua
BEGIN:STANDARD
TZOFFSETFROM:-0600
TZOFFSETTO:-0600
TZNAME:CST
DTSTART:20230101T000000
END:STANDARD
END:VTIMEZONE
BEGIN:VEVENT
DTSTART;TZID=America/Managua:20241022T083000
DTEND;TZID=America/Managua:20241022T120000
DTSTAMP:20260425T194737
CREATED:20241021T150407Z
LAST-MODIFIED:20241021T150421Z
UID:16111-1729585800-1729598400@www.una.edu.ni
SUMMARY:Conferencia “Inocuidad Alimentaria y Patología Veterinaria: Retos y Oportunidades en la Medicina Veterinaria Actual”
DESCRIPTION:
URL:https://www.una.edu.ni/event/conferencia-inocuidad-alimentaria-y-patologia-veterinaria-retos-y-oportunidades-en-la-medicina-veterinaria-actual/
LOCATION:Universidad Nacional Agraria\, Managua\, km 12 1/2\, Managua\, Nicaragua
CATEGORIES:CONFERENCIA
END:VEVENT
BEGIN:VEVENT
DTSTART;TZID=America/Managua:20241022T090000
DTEND;TZID=America/Managua:20241022T120000
DTSTAMP:20260425T194737
CREATED:20241021T150526Z
LAST-MODIFIED:20241021T150526Z
UID:16113-1729587600-1729598400@www.una.edu.ni
SUMMARY:Conferencia “Normas y Directrices para Intervenciones Ganaderas en Emergencias (LEGS)”
DESCRIPTION:
URL:https://www.una.edu.ni/event/conferencia-normas-y-directrices-para-intervenciones-ganaderas-en-emergencias-legs/
LOCATION:Universidad Nacional Agraria\, Managua\, km 12 1/2\, Managua\, Nicaragua
CATEGORIES:CONFERENCIA
END:VEVENT
BEGIN:VEVENT
DTSTART;TZID=America/Managua:20241022T090000
DTEND;TZID=America/Managua:20241022T120000
DTSTAMP:20260425T194737
CREATED:20241021T151257Z
LAST-MODIFIED:20241021T151257Z
UID:16123-1729587600-1729598400@www.una.edu.ni
SUMMARY:Conferencia sobre normativas para la atención de emergencias sanitarias en el ganado bovino
DESCRIPTION:
URL:https://www.una.edu.ni/event/conferencia-sobre-normativas-para-la-atencion-de-emergencias-sanitarias-en-el-ganado-bovino/
LOCATION:Universidad Nacional Agraria\, Managua\, km 12 1/2\, Managua\, Nicaragua
CATEGORIES:CONFERENCIA
END:VEVENT
BEGIN:VEVENT
DTSTART;TZID=America/Managua:20241022T100000
DTEND;TZID=America/Managua:20241022T120000
DTSTAMP:20260425T194737
CREATED:20241021T151039Z
LAST-MODIFIED:20241021T151039Z
UID:16119-1729591200-1729598400@www.una.edu.ni
SUMMARY:Conferencia: “Perspectivas del uso de la biotecnología en el cultivo del Café nicaragüense” en coordinación con el Sistema Nacional de Producción y ex becarios de JICA
DESCRIPTION:
URL:https://www.una.edu.ni/event/conferencia-perspectivas-del-uso-de-la-biotecnologia-en-el-cultivo-del-cafe-nicaraguense-en-coordinacion-con-el-sistema-nacional-de-produccion-y-ex-becarios-de-jica/
LOCATION:Universidad Nacional Agraria\, Managua\, km 12 1/2\, Managua\, Nicaragua
CATEGORIES:CONFERENCIA
END:VEVENT
END:VCALENDAR