BEGIN:VCALENDAR
VERSION:2.0
PRODID:-//Universidad Nacional Agraria - ECPv6.15.20//NONSGML v1.0//EN
CALSCALE:GREGORIAN
METHOD:PUBLISH
X-WR-CALNAME:Universidad Nacional Agraria
X-ORIGINAL-URL:https://www.una.edu.ni
X-WR-CALDESC:Eventos para Universidad Nacional Agraria
REFRESH-INTERVAL;VALUE=DURATION:PT1H
X-Robots-Tag:noindex
X-PUBLISHED-TTL:PT1H
BEGIN:VTIMEZONE
TZID:America/Managua
BEGIN:STANDARD
TZOFFSETFROM:-0600
TZOFFSETTO:-0600
TZNAME:CST
DTSTART:20230101T000000
END:STANDARD
END:VTIMEZONE
BEGIN:VEVENT
DTSTART;TZID=America/Managua:20241023T130000
DTEND;TZID=America/Managua:20241023T150000
DTSTAMP:20260425T180432
CREATED:20241021T152112Z
LAST-MODIFIED:20241021T152112Z
UID:16127-1729688400-1729695600@www.una.edu.ni
SUMMARY:Conferencia “Calidad de agua para el consumo humano”\, compartiendo experiencias sobre la determinación de la calidad de agua para consumo humano
DESCRIPTION:
URL:https://www.una.edu.ni/event/conferencia-calidad-de-agua-para-el-consumo-humano-compartiendo-experiencias-sobre-la-determinacion-de-la-calidad-de-agua-para-consumo-humano/
CATEGORIES:CONFERENCIA
END:VEVENT
BEGIN:VEVENT
DTSTART;TZID=America/Managua:20241023T150000
DTEND;TZID=America/Managua:20241023T170000
DTSTAMP:20260425T180432
CREATED:20241021T152220Z
LAST-MODIFIED:20241021T152220Z
UID:16129-1729695600-1729702800@www.una.edu.ni
SUMMARY:Conferencia “Restauración de ecosistemas forestales para la protección y conservación de la madre tierra”
DESCRIPTION:
URL:https://www.una.edu.ni/event/conferencia-restauracion-de-ecosistemas-forestales-para-la-proteccion-y-conservacion-de-la-madre-tierra/
LOCATION:Universidad Nacional Agraria\, Managua\, km 12 1/2\, Managua\, Nicaragua
CATEGORIES:CONFERENCIA
END:VEVENT
BEGIN:VEVENT
DTSTART;TZID=America/Managua:20241023T180000
DTEND;TZID=America/Managua:20241023T200000
DTSTAMP:20260425T180432
CREATED:20241021T171323Z
LAST-MODIFIED:20241021T171323Z
UID:16147-1729706400-1729713600@www.una.edu.ni
SUMMARY:Conferencia sobre las creencias y prácticas ancestrales en las culturas Sumu y Mayangna
DESCRIPTION:
URL:https://www.una.edu.ni/event/conferencia-sobre-las-creencias-y-practicas-ancestrales-en-las-culturas-sumu-y-mayangna/
LOCATION:Universidad Nacional Agraria\, Managua\, km 12 1/2\, Managua\, Nicaragua
CATEGORIES:CONFERENCIA
END:VEVENT
BEGIN:VEVENT
DTSTART;TZID=America/Managua:20241023T180000
DTEND;TZID=America/Managua:20241023T200000
DTSTAMP:20260425T180432
CREATED:20241022T180934Z
LAST-MODIFIED:20241022T180934Z
UID:16177-1729706400-1729713600@www.una.edu.ni
SUMMARY:Conferencia Didáctica y Espectáculo performático Interdisciplinario\, Vigencia y sincretismo de celebraciones rituales de la nación Sumu-Mayangna presentes en dos representaciones danzarias del Pacífico de Nicaragua: Baile del Toro Huaco de Diriamba y Baile de los Chilegros de Nindirí
DESCRIPTION:
URL:https://www.una.edu.ni/event/conferencia-didactica-y-espectaculo-performatico-interdisciplinario-vigencia-y-sincretismo-de-celebraciones-rituales-de-la-nacion-sumu-mayangna-presentes-en-dos-representaciones-danzarias-del-pacific/
LOCATION:Universidad Nacional Agraria\, Managua\, km 12 1/2\, Managua\, Nicaragua
CATEGORIES:CONFERENCIA
END:VEVENT
END:VCALENDAR