BEGIN:VCALENDAR
VERSION:2.0
PRODID:-//Universidad Nacional Agraria - ECPv6.15.20//NONSGML v1.0//EN
CALSCALE:GREGORIAN
METHOD:PUBLISH
X-WR-CALNAME:Universidad Nacional Agraria
X-ORIGINAL-URL:https://www.una.edu.ni
X-WR-CALDESC:Eventos para Universidad Nacional Agraria
REFRESH-INTERVAL;VALUE=DURATION:PT1H
X-Robots-Tag:noindex
X-PUBLISHED-TTL:PT1H
BEGIN:VTIMEZONE
TZID:Europe/Madrid
BEGIN:DAYLIGHT
TZOFFSETFROM:+0100
TZOFFSETTO:+0200
TZNAME:CEST
DTSTART:20240331T010000
END:DAYLIGHT
BEGIN:STANDARD
TZOFFSETFROM:+0200
TZOFFSETTO:+0100
TZNAME:CET
DTSTART:20241027T010000
END:STANDARD
BEGIN:DAYLIGHT
TZOFFSETFROM:+0100
TZOFFSETTO:+0200
TZNAME:CEST
DTSTART:20250330T010000
END:DAYLIGHT
BEGIN:STANDARD
TZOFFSETFROM:+0200
TZOFFSETTO:+0100
TZNAME:CET
DTSTART:20251026T010000
END:STANDARD
BEGIN:DAYLIGHT
TZOFFSETFROM:+0100
TZOFFSETTO:+0200
TZNAME:CEST
DTSTART:20260329T010000
END:DAYLIGHT
BEGIN:STANDARD
TZOFFSETFROM:+0200
TZOFFSETTO:+0100
TZNAME:CET
DTSTART:20261025T010000
END:STANDARD
END:VTIMEZONE
BEGIN:VEVENT
DTSTART;TZID=Europe/Madrid:20250117T080000
DTEND;TZID=Europe/Madrid:20250117T120000
DTSTAMP:20260424T210938
CREATED:20250115T174714Z
LAST-MODIFIED:20250115T174714Z
UID:19759-1737100800-1737115200@www.una.edu.ni
SUMMARY:Intercambio académico “Evolución histórica académica en los años de revolución”
DESCRIPTION:
URL:https://www.una.edu.ni/event/intercambio-academico-evolucion-historica-academica-en-los-anos-de-revolucion/
LOCATION:Universidad Nacional Agraria\, Managua\, km 12 1/2\, Managua\, Nicaragua
CATEGORIES:CONFERENCIA
END:VEVENT
BEGIN:VEVENT
DTSTART;TZID=Europe/Madrid:20250117T090000
DTEND;TZID=Europe/Madrid:20250117T120000
DTSTAMP:20260424T210938
CREATED:20250115T173902Z
LAST-MODIFIED:20250115T174002Z
UID:19752-1737104400-1737115200@www.una.edu.ni
SUMMARY:Conferencia “Huellas Azules: Rubén Darío”
DESCRIPTION:
URL:https://www.una.edu.ni/event/conferencia-huellas-azules-ruben-dario/
LOCATION:Universidad Nacional Agraria\, Managua\, km 12 1/2\, Managua\, Nicaragua
CATEGORIES:CONFERENCIA
END:VEVENT
BEGIN:VEVENT
DTSTART;TZID=Europe/Madrid:20250117T090000
DTEND;TZID=Europe/Madrid:20250117T120000
DTSTAMP:20260424T210938
CREATED:20250115T174326Z
LAST-MODIFIED:20250115T174326Z
UID:19754-1737104400-1737115200@www.una.edu.ni
SUMMARY:Conferencia Magistral a productores sobre “Orquídeas en Nicaragua”
DESCRIPTION:
URL:https://www.una.edu.ni/event/conferencia-magistral-a-productores-sobre-orquideas-en-nicaragua/
LOCATION:Comunidad Zambrano\, Tipitapa\, Nicaragua
CATEGORIES:CONFERENCIA
END:VEVENT
END:VCALENDAR