BEGIN:VCALENDAR
VERSION:2.0
PRODID:-//Universidad Nacional Agraria - ECPv6.15.20//NONSGML v1.0//EN
CALSCALE:GREGORIAN
METHOD:PUBLISH
X-WR-CALNAME:Universidad Nacional Agraria
X-ORIGINAL-URL:https://www.una.edu.ni
X-WR-CALDESC:Eventos para Universidad Nacional Agraria
REFRESH-INTERVAL;VALUE=DURATION:PT1H
X-Robots-Tag:noindex
X-PUBLISHED-TTL:PT1H
BEGIN:VTIMEZONE
TZID:America/Managua
BEGIN:STANDARD
TZOFFSETFROM:-0600
TZOFFSETTO:-0600
TZNAME:CST
DTSTART:20240101T000000
END:STANDARD
END:VTIMEZONE
BEGIN:VEVENT
DTSTART;TZID=America/Managua:20250303T130000
DTEND;TZID=America/Managua:20250303T150000
DTSTAMP:20260426T003351
CREATED:20250303T172150Z
LAST-MODIFIED:20250303T172150Z
UID:21786-1741006800-1741014000@www.una.edu.ni
SUMMARY:Conferencia "Metabolismo de las proteínas\, clasificación e importancia bioquímica para los Animales"
DESCRIPTION:
URL:https://www.una.edu.ni/event/conferencia-metabolismo-de-las-proteinas-clasificacion-e-importancia-bioquimica-para-los-animales/
LOCATION:Universidad Nacional Agraria\, Managua\, km 12 1/2\, Managua\, Nicaragua
CATEGORIES:CONFERENCIA
END:VEVENT
END:VCALENDAR