BEGIN:VCALENDAR
VERSION:2.0
PRODID:-//Universidad Nacional Agraria - ECPv6.15.20//NONSGML v1.0//EN
CALSCALE:GREGORIAN
METHOD:PUBLISH
X-WR-CALNAME:Universidad Nacional Agraria
X-ORIGINAL-URL:https://www.una.edu.ni
X-WR-CALDESC:Eventos para Universidad Nacional Agraria
REFRESH-INTERVAL;VALUE=DURATION:PT1H
X-Robots-Tag:noindex
X-PUBLISHED-TTL:PT1H
BEGIN:VTIMEZONE
TZID:America/Managua
BEGIN:STANDARD
TZOFFSETFROM:-0600
TZOFFSETTO:-0600
TZNAME:CST
DTSTART:20240101T000000
END:STANDARD
END:VTIMEZONE
BEGIN:VTIMEZONE
TZID:Europe/Madrid
BEGIN:DAYLIGHT
TZOFFSETFROM:+0100
TZOFFSETTO:+0200
TZNAME:CEST
DTSTART:20240331T010000
END:DAYLIGHT
BEGIN:STANDARD
TZOFFSETFROM:+0200
TZOFFSETTO:+0100
TZNAME:CET
DTSTART:20241027T010000
END:STANDARD
BEGIN:DAYLIGHT
TZOFFSETFROM:+0100
TZOFFSETTO:+0200
TZNAME:CEST
DTSTART:20250330T010000
END:DAYLIGHT
BEGIN:STANDARD
TZOFFSETFROM:+0200
TZOFFSETTO:+0100
TZNAME:CET
DTSTART:20251026T010000
END:STANDARD
BEGIN:DAYLIGHT
TZOFFSETFROM:+0100
TZOFFSETTO:+0200
TZNAME:CEST
DTSTART:20260329T010000
END:DAYLIGHT
BEGIN:STANDARD
TZOFFSETFROM:+0200
TZOFFSETTO:+0100
TZNAME:CET
DTSTART:20261025T010000
END:STANDARD
END:VTIMEZONE
BEGIN:VEVENT
DTSTART;TZID=America/Managua:20250305T100000
DTEND;TZID=America/Managua:20250305T120000
DTSTAMP:20260425T212029
CREATED:20250304T171000Z
LAST-MODIFIED:20250304T171000Z
UID:21832-1741168800-1741176000@www.una.edu.ni
SUMMARY:Conferencia sobre manejo y control de enfermedades causadas por hemoparásitos en ganado bovino
DESCRIPTION:
URL:https://www.una.edu.ni/event/conferencia-sobre-manejo-y-control-de-enfermedades-causadas-por-hemoparasitos-en-ganado-bovino/
LOCATION:Centro Universitario Regional UNA Juigalpa\, Juigapa
CATEGORIES:CONFERENCIA
END:VEVENT
BEGIN:VEVENT
DTSTART;TZID=Europe/Madrid:20250305T100000
DTEND;TZID=Europe/Madrid:20250305T130000
DTSTAMP:20260425T212029
CREATED:20250304T164916Z
LAST-MODIFIED:20250304T164916Z
UID:21830-1741168800-1741179600@www.una.edu.ni
SUMMARY:Conferencia sobre Seguridad alimentaria y trazabilidad
DESCRIPTION:
URL:https://www.una.edu.ni/event/conferencia-sobre-seguridad-alimentaria-y-trazabilidad/
LOCATION:Universidad Nacional Agraria\, Managua\, km 12 1/2\, Managua\, Nicaragua
CATEGORIES:CONFERENCIA
END:VEVENT
BEGIN:VEVENT
DTSTART;TZID=America/Managua:20250305T130000
DTEND;TZID=America/Managua:20250305T170000
DTSTAMP:20260425T212029
CREATED:20250304T164818Z
LAST-MODIFIED:20250304T164818Z
UID:21828-1741179600-1741194000@www.una.edu.ni
SUMMARY:Conferencia sobre Propiedad intelectual como una herramienta para proteger innovaciones\, conocimientos y productos relacionados con la agricultura
DESCRIPTION:
URL:https://www.una.edu.ni/event/conferencia-sobre-propiedad-intelectual-como-una-herramienta-para-proteger-innovaciones-conocimientos-y-productos-relacionados-con-la-agricultura/
LOCATION:Universidad Nacional Agraria\, Managua\, km 12 1/2\, Managua\, Nicaragua
CATEGORIES:CONFERENCIA
END:VEVENT
END:VCALENDAR