BEGIN:VCALENDAR
VERSION:2.0
PRODID:-//Universidad Nacional Agraria - ECPv6.15.20//NONSGML v1.0//EN
CALSCALE:GREGORIAN
METHOD:PUBLISH
X-WR-CALNAME:Universidad Nacional Agraria
X-ORIGINAL-URL:https://www.una.edu.ni
X-WR-CALDESC:Eventos para Universidad Nacional Agraria
REFRESH-INTERVAL;VALUE=DURATION:PT1H
X-Robots-Tag:noindex
X-PUBLISHED-TTL:PT1H
BEGIN:VTIMEZONE
TZID:America/Managua
BEGIN:STANDARD
TZOFFSETFROM:-0600
TZOFFSETTO:-0600
TZNAME:CST
DTSTART:20240101T000000
END:STANDARD
END:VTIMEZONE
BEGIN:VEVENT
DTSTART;TZID=America/Managua:20250318T103000
DTEND;TZID=America/Managua:20250318T120000
DTSTAMP:20260425T232215
CREATED:20250318T143126Z
LAST-MODIFIED:20250318T143126Z
UID:22158-1742293800-1742299200@www.una.edu.ni
SUMMARY:Conferencia “Inteligencia artificial y robótica para la transformación de los alimentos”
DESCRIPTION:
URL:https://www.una.edu.ni/event/conferencia-inteligencia-artificial-y-robotica-para-la-transformacion-de-los-alimentos/
LOCATION:Universidad Nacional Agraria\, Managua\, km 12 1/2\, Managua\, Nicaragua
CATEGORIES:CONFERENCIA
END:VEVENT
END:VCALENDAR