BEGIN:VCALENDAR
VERSION:2.0
PRODID:-//Universidad Nacional Agraria - ECPv6.15.20//NONSGML v1.0//EN
CALSCALE:GREGORIAN
METHOD:PUBLISH
X-WR-CALNAME:Universidad Nacional Agraria
X-ORIGINAL-URL:https://www.una.edu.ni
X-WR-CALDESC:Eventos para Universidad Nacional Agraria
REFRESH-INTERVAL;VALUE=DURATION:PT1H
X-Robots-Tag:noindex
X-PUBLISHED-TTL:PT1H
BEGIN:VTIMEZONE
TZID:America/Managua
BEGIN:STANDARD
TZOFFSETFROM:-0600
TZOFFSETTO:-0600
TZNAME:CST
DTSTART:20240101T000000
END:STANDARD
END:VTIMEZONE
BEGIN:VEVENT
DTSTART;TZID=America/Managua:20250318T100000
DTEND;TZID=America/Managua:20250318T170000
DTSTAMP:20260424T085609
CREATED:20250318T143245Z
LAST-MODIFIED:20250318T143245Z
UID:22160-1742292000-1742317200@www.una.edu.ni
SUMMARY:Congreso de productores ganaderos para el intercambio de experiencias en Manejo sanitario\, identificación y tratamiento de enfermedades en reproducción de hembras bovinas
DESCRIPTION:
URL:https://www.una.edu.ni/event/congreso-de-productores-ganaderos-para-el-intercambio-de-experiencias-en-manejo-sanitario-identificacion-y-tratamiento-de-enfermedades-en-reproduccion-de-hembras-bovinas/
LOCATION:Finca Las Torres\, Productor Ángel Díaz\, Muelle de los Bueyes\, Nicaragua
CATEGORIES:CONGRESO
END:VEVENT
END:VCALENDAR