BEGIN:VCALENDAR
VERSION:2.0
PRODID:-//Universidad Nacional Agraria - ECPv6.15.20//NONSGML v1.0//EN
CALSCALE:GREGORIAN
METHOD:PUBLISH
X-WR-CALNAME:Universidad Nacional Agraria
X-ORIGINAL-URL:https://www.una.edu.ni
X-WR-CALDESC:Eventos para Universidad Nacional Agraria
REFRESH-INTERVAL;VALUE=DURATION:PT1H
X-Robots-Tag:noindex
X-PUBLISHED-TTL:PT1H
BEGIN:VTIMEZONE
TZID:America/Managua
BEGIN:STANDARD
TZOFFSETFROM:-0600
TZOFFSETTO:-0600
TZNAME:CST
DTSTART:20240101T000000
END:STANDARD
END:VTIMEZONE
BEGIN:VEVENT
DTSTART;TZID=America/Managua:20250409T103000
DTEND;TZID=America/Managua:20250409T120000
DTSTAMP:20260424T132243
CREATED:20250408T144016Z
LAST-MODIFIED:20250408T144016Z
UID:22655-1744194600-1744200000@www.una.edu.ni
SUMMARY:Conversatorio sobre Manejo de roedores que afectan los cultivos agrícolas
DESCRIPTION:
URL:https://www.una.edu.ni/event/conversatorio-sobre-manejo-de-roedores-que-afectan-los-cultivos-agricolas/
LOCATION:Universidad Nacional Agraria\, Managua\, km 12 1/2\, Managua\, Nicaragua
CATEGORIES:CONVERSATORIO
END:VEVENT
END:VCALENDAR