BEGIN:VCALENDAR
VERSION:2.0
PRODID:-//Universidad Nacional Agraria - ECPv6.15.20//NONSGML v1.0//EN
CALSCALE:GREGORIAN
METHOD:PUBLISH
X-WR-CALNAME:Universidad Nacional Agraria
X-ORIGINAL-URL:https://www.una.edu.ni
X-WR-CALDESC:Eventos para Universidad Nacional Agraria
REFRESH-INTERVAL;VALUE=DURATION:PT1H
X-Robots-Tag:noindex
X-PUBLISHED-TTL:PT1H
BEGIN:VTIMEZONE
TZID:America/Managua
BEGIN:STANDARD
TZOFFSETFROM:-0600
TZOFFSETTO:-0600
TZNAME:CST
DTSTART:20230101T000000
END:STANDARD
END:VTIMEZONE
BEGIN:VEVENT
DTSTART;TZID=America/Managua:20241213T090000
DTEND;TZID=America/Managua:20241213T120000
DTSTAMP:20260425T020247
CREATED:20241212T142007Z
LAST-MODIFIED:20241212T142007Z
UID:19268-1734080400-1734091200@www.una.edu.ni
SUMMARY:Conversatorio con productores de plátano
DESCRIPTION:
URL:https://www.una.edu.ni/event/conversatorio-con-productores-de-platano/
LOCATION:Finca Las Mercedes (UNA)\, los Sábalos\, distrito 6.1\, Nicaragua
CATEGORIES:CONVERSATORIO
END:VEVENT
END:VCALENDAR