BEGIN:VCALENDAR
VERSION:2.0
PRODID:-//Universidad Nacional Agraria - ECPv6.15.20//NONSGML v1.0//EN
CALSCALE:GREGORIAN
METHOD:PUBLISH
X-WR-CALNAME:Universidad Nacional Agraria
X-ORIGINAL-URL:https://www.una.edu.ni
X-WR-CALDESC:Eventos para Universidad Nacional Agraria
REFRESH-INTERVAL;VALUE=DURATION:PT1H
X-Robots-Tag:noindex
X-PUBLISHED-TTL:PT1H
BEGIN:VTIMEZONE
TZID:America/Managua
BEGIN:STANDARD
TZOFFSETFROM:-0600
TZOFFSETTO:-0600
TZNAME:CST
DTSTART:20240101T000000
END:STANDARD
END:VTIMEZONE
BEGIN:VEVENT
DTSTART;TZID=America/Managua:20250304T080000
DTEND;TZID=America/Managua:20250304T120000
DTSTAMP:20260422T170650
CREATED:20250303T172032Z
LAST-MODIFIED:20250303T172032Z
UID:21784-1741075200-1741089600@www.una.edu.ni
SUMMARY:Curso sobre Elaboración y transformación de productos cárnicos provenientes de ovinos
DESCRIPTION:
URL:https://www.una.edu.ni/event/curso-sobre-elaboracion-y-transformacion-de-productos-carnicos-provenientes-de-ovinos/
LOCATION:Centro Universitario Regional UNA Juigalpa\, Juigapa
CATEGORIES:CURSO
END:VEVENT
END:VCALENDAR