BEGIN:VCALENDAR
VERSION:2.0
PRODID:-//Universidad Nacional Agraria - ECPv6.15.20//NONSGML v1.0//EN
CALSCALE:GREGORIAN
METHOD:PUBLISH
X-WR-CALNAME:Universidad Nacional Agraria
X-ORIGINAL-URL:https://www.una.edu.ni
X-WR-CALDESC:Eventos para Universidad Nacional Agraria
REFRESH-INTERVAL;VALUE=DURATION:PT1H
X-Robots-Tag:noindex
X-PUBLISHED-TTL:PT1H
BEGIN:VTIMEZONE
TZID:America/Managua
BEGIN:STANDARD
TZOFFSETFROM:-0600
TZOFFSETTO:-0600
TZNAME:CST
DTSTART:20240101T000000
END:STANDARD
END:VTIMEZONE
BEGIN:VEVENT
DTSTART;TZID=America/Managua:20250806T100000
DTEND;TZID=America/Managua:20250806T120000
DTSTAMP:20260421T222207
CREATED:20250804T164353Z
LAST-MODIFIED:20250804T164353Z
UID:25311-1754474400-1754481600@www.una.edu.ni
SUMMARY:Curso sobre análisis de muestras en ganado bovino y porcino
DESCRIPTION:
URL:https://www.una.edu.ni/event/curso-sobre-analisis-de-muestras-en-ganado-bovino-y-porcino/
LOCATION:UNICAM Muelle de los Bueyes\, Nicaragua
CATEGORIES:CURSO
END:VEVENT
BEGIN:VEVENT
DTSTART;TZID=America/Managua:20250806T140000
DTEND;TZID=America/Managua:20250806T170000
DTSTAMP:20260421T222207
CREATED:20250804T164457Z
LAST-MODIFIED:20250804T164457Z
UID:25313-1754488800-1754499600@www.una.edu.ni
SUMMARY:Curso especializado en Manejo de enfermedades parasitarias en ganado bovino
DESCRIPTION:
URL:https://www.una.edu.ni/event/curso-especializado-en-manejo-de-enfermedades-parasitarias-en-ganado-bovino/
LOCATION:Municipio de San Francisco Libre\, Nicaragua
CATEGORIES:CURSO
END:VEVENT
END:VCALENDAR