BEGIN:VCALENDAR
VERSION:2.0
PRODID:-//Universidad Nacional Agraria - ECPv6.15.20//NONSGML v1.0//EN
CALSCALE:GREGORIAN
METHOD:PUBLISH
X-WR-CALNAME:Universidad Nacional Agraria
X-ORIGINAL-URL:https://www.una.edu.ni
X-WR-CALDESC:Eventos para Universidad Nacional Agraria
REFRESH-INTERVAL;VALUE=DURATION:PT1H
X-Robots-Tag:noindex
X-PUBLISHED-TTL:PT1H
BEGIN:VTIMEZONE
TZID:America/Managua
BEGIN:STANDARD
TZOFFSETFROM:-0600
TZOFFSETTO:-0600
TZNAME:CST
DTSTART:20240101T000000
END:STANDARD
END:VTIMEZONE
BEGIN:VEVENT
DTSTART;TZID=America/Managua:20250813T080000
DTEND;TZID=America/Managua:20250813T120000
DTSTAMP:20260421T223114
CREATED:20250811T125106Z
LAST-MODIFIED:20250811T125106Z
UID:25398-1755072000-1755086400@www.una.edu.ni
SUMMARY:Curso de producción de hortalizas en sistemas protegidos
DESCRIPTION:
URL:https://www.una.edu.ni/event/curso-de-produccion-de-hortalizas-en-sistemas-protegidos/
LOCATION:UNICAM Esquipulas\, Nicaragua
CATEGORIES:CURSO
END:VEVENT
BEGIN:VEVENT
DTSTART;TZID=America/Managua:20250813T080000
DTEND;TZID=America/Managua:20250813T120000
DTSTAMP:20260421T223114
CREATED:20250811T125215Z
LAST-MODIFIED:20250811T125215Z
UID:25400-1755072000-1755086400@www.una.edu.ni
SUMMARY:Curso sobre Manejo sanitario de enfermedades en ganado bovino
DESCRIPTION:
URL:https://www.una.edu.ni/event/curso-sobre-manejo-sanitario-de-enfermedades-en-ganado-bovino/
LOCATION:Municipio de San Francisco Libre\, Nicaragua
CATEGORIES:CURSO
END:VEVENT
END:VCALENDAR