BEGIN:VCALENDAR
VERSION:2.0
PRODID:-//Universidad Nacional Agraria - ECPv6.15.20//NONSGML v1.0//EN
CALSCALE:GREGORIAN
METHOD:PUBLISH
X-WR-CALNAME:Universidad Nacional Agraria
X-ORIGINAL-URL:https://www.una.edu.ni
X-WR-CALDESC:Eventos para Universidad Nacional Agraria
REFRESH-INTERVAL;VALUE=DURATION:PT1H
X-Robots-Tag:noindex
X-PUBLISHED-TTL:PT1H
BEGIN:VTIMEZONE
TZID:America/Managua
BEGIN:STANDARD
TZOFFSETFROM:-0600
TZOFFSETTO:-0600
TZNAME:CST
DTSTART:20240101T000000
END:STANDARD
END:VTIMEZONE
BEGIN:VEVENT
DTSTART;TZID=America/Managua:20250828T080000
DTEND;TZID=America/Managua:20250828T120000
DTSTAMP:20260422T012635
CREATED:20250825T165600Z
LAST-MODIFIED:20250825T165600Z
UID:25724-1756368000-1756382400@www.una.edu.ni
SUMMARY:Curso sobre elaboración de biofertilizantes y nutrientes para cultivos agrícolas
DESCRIPTION:
URL:https://www.una.edu.ni/event/curso-sobre-elaboracion-de-biofertilizantes-y-nutrientes-para-cultivos-agricolas/
LOCATION:UNICAM Boaco Viejo\, Nicaragua
CATEGORIES:CURSO
END:VEVENT
BEGIN:VEVENT
DTSTART;TZID=America/Managua:20250828T090000
DTEND;TZID=America/Managua:20250828T120000
DTSTAMP:20260422T012635
CREATED:20250825T165729Z
LAST-MODIFIED:20250825T165729Z
UID:25726-1756371600-1756382400@www.una.edu.ni
SUMMARY:Curso sobre valor agregado de marango\, elaboración de productos cosméticos
DESCRIPTION:
URL:https://www.una.edu.ni/event/curso-sobre-valor-agregado-de-marango-elaboracion-de-productos-cosmeticos/
LOCATION:Centro de Desarrollo Moringa Comandante Fidel\, municipio de León\, Nicaragua
CATEGORIES:CURSO
END:VEVENT
BEGIN:VEVENT
DTSTART;TZID=America/Managua:20250828T090000
DTEND;TZID=America/Managua:20250828T120000
DTSTAMP:20260422T012635
CREATED:20250825T170856Z
LAST-MODIFIED:20250825T170856Z
UID:25738-1756371600-1756382400@www.una.edu.ni
SUMMARY:Curso sobre elaboración de variedades de quesos y derivados lácteos
DESCRIPTION:
URL:https://www.una.edu.ni/event/curso-sobre-elaboracion-de-variedades-de-quesos-y-derivados-lacteos-2/
LOCATION:Centro Universitario “Padre y Comandante Camilo Tórres Restrepo”\, Matagalpa\, Nicaragua
CATEGORIES:CURSO
END:VEVENT
END:VCALENDAR