BEGIN:VCALENDAR
VERSION:2.0
PRODID:-//Universidad Nacional Agraria - ECPv6.15.20//NONSGML v1.0//EN
CALSCALE:GREGORIAN
METHOD:PUBLISH
X-WR-CALNAME:Universidad Nacional Agraria
X-ORIGINAL-URL:https://www.una.edu.ni
X-WR-CALDESC:Eventos para Universidad Nacional Agraria
REFRESH-INTERVAL;VALUE=DURATION:PT1H
X-Robots-Tag:noindex
X-PUBLISHED-TTL:PT1H
BEGIN:VTIMEZONE
TZID:America/Managua
BEGIN:STANDARD
TZOFFSETFROM:-0600
TZOFFSETTO:-0600
TZNAME:CST
DTSTART:20240101T000000
END:STANDARD
END:VTIMEZONE
BEGIN:VEVENT
DTSTART;TZID=America/Managua:20250829T080000
DTEND;TZID=America/Managua:20250829T120000
DTSTAMP:20260421T222207
CREATED:20250826T145616Z
LAST-MODIFIED:20250826T145616Z
UID:25752-1756454400-1756468800@www.una.edu.ni
SUMMARY:Curso sobre manejo fitosanitario en los sistemas agrícolas de Nicaragua
DESCRIPTION:
URL:https://www.una.edu.ni/event/curso-sobre-manejo-fitosanitario-en-los-sistemas-agricolas-de-nicaragua/
LOCATION:Universidad Nacional Agraria\, Managua\, km 12 1/2\, Managua\, Nicaragua
CATEGORIES:CURSO
END:VEVENT
BEGIN:VEVENT
DTSTART;TZID=America/Managua:20250829T080000
DTEND;TZID=America/Managua:20250829T120000
DTSTAMP:20260421T222207
CREATED:20250826T145707Z
LAST-MODIFIED:20250826T145707Z
UID:25754-1756454400-1756468800@www.una.edu.ni
SUMMARY:Curso sobre Técnicas de deshidratación de frutas y verduras para emprendimientos
DESCRIPTION:
URL:https://www.una.edu.ni/event/curso-sobre-tecnicas-de-deshidratacion-de-frutas-y-verduras-para-emprendimientos/
LOCATION:Universidad Nacional Agraria\, Managua\, km 12 1/2\, Managua\, Nicaragua
CATEGORIES:CURSO
END:VEVENT
BEGIN:VEVENT
DTSTART;TZID=America/Managua:20250829T080000
DTEND;TZID=America/Managua:20250829T120000
DTSTAMP:20260421T222207
CREATED:20250826T145822Z
LAST-MODIFIED:20250826T145822Z
UID:25756-1756454400-1756468800@www.una.edu.ni
SUMMARY:Curso sobre transformación y valor agregado de productos agropecuarios
DESCRIPTION:
URL:https://www.una.edu.ni/event/curso-sobre-transformacion-y-valor-agregado-de-productos-agropecuarios-2/
LOCATION:UNICAM San Lorenzo\, Boaco\, Nicaragua
CATEGORIES:CURSO
END:VEVENT
BEGIN:VEVENT
DTSTART;TZID=America/Managua:20250829T090000
DTEND;TZID=America/Managua:20250829T120000
DTSTAMP:20260421T222207
CREATED:20250826T145223Z
LAST-MODIFIED:20250826T145223Z
UID:25750-1756458000-1756468800@www.una.edu.ni
SUMMARY:Sesión No. 4 del Curso de producción de hortalizas en sistemas protegidos
DESCRIPTION:
URL:https://www.una.edu.ni/event/sesion-no-4-del-curso-de-produccion-de-hortalizas-en-sistemas-protegidos/
LOCATION:UNICAM Esquipulas\, Nicaragua
CATEGORIES:CURSO
END:VEVENT
END:VCALENDAR