BEGIN:VCALENDAR
VERSION:2.0
PRODID:-//Universidad Nacional Agraria - ECPv6.15.20//NONSGML v1.0//EN
CALSCALE:GREGORIAN
METHOD:PUBLISH
X-WR-CALNAME:Universidad Nacional Agraria
X-ORIGINAL-URL:https://www.una.edu.ni
X-WR-CALDESC:Eventos para Universidad Nacional Agraria
REFRESH-INTERVAL;VALUE=DURATION:PT1H
X-Robots-Tag:noindex
X-PUBLISHED-TTL:PT1H
BEGIN:VTIMEZONE
TZID:America/Managua
BEGIN:STANDARD
TZOFFSETFROM:-0600
TZOFFSETTO:-0600
TZNAME:CST
DTSTART:20240101T000000
END:STANDARD
END:VTIMEZONE
BEGIN:VEVENT
DTSTART;TZID=America/Managua:20250902T090000
DTEND;TZID=America/Managua:20250903T120000
DTSTAMP:20260422T084011
CREATED:20250902T142745Z
LAST-MODIFIED:20250902T142745Z
UID:26060-1756803600-1756900800@www.una.edu.ni
SUMMARY:Curso sobre diagnóstico reproductivo en ganado bovino
DESCRIPTION:
URL:https://www.una.edu.ni/event/curso-sobre-diagnostico-reproductivo-en-ganado-bovino/
LOCATION:Centro Experimental Agropecuario “Patricio Argüello Ryan”\, Nicaragua
CATEGORIES:CURSO
END:VEVENT
BEGIN:VEVENT
DTSTART;TZID=America/Managua:20250903T080000
DTEND;TZID=America/Managua:20250903T120000
DTSTAMP:20260422T084011
CREATED:20250902T143424Z
LAST-MODIFIED:20250902T143424Z
UID:26068-1756886400-1756900800@www.una.edu.ni
SUMMARY:Curso sobre mejora genética en cultivos de frijol
DESCRIPTION:
URL:https://www.una.edu.ni/event/curso-sobre-mejora-genetica-en-cultivos-de-frijol/
LOCATION:Centro Universitario Regional UNA Juigalpa\, Juigapa
CATEGORIES:CURSO
END:VEVENT
BEGIN:VEVENT
DTSTART;TZID=America/Managua:20250903T080000
DTEND;TZID=America/Managua:20250903T120000
DTSTAMP:20260422T084011
CREATED:20250902T143839Z
LAST-MODIFIED:20250902T143839Z
UID:26076-1756886400-1756900800@www.una.edu.ni
SUMMARY:Curso sobre manejo reproductivo en ovinos y caprinos
DESCRIPTION:
URL:https://www.una.edu.ni/event/curso-sobre-manejo-reproductivo-en-ovinos-y-caprinos/
LOCATION:Centro Universitario Regional UNA Juigalpa\, Juigapa
CATEGORIES:CURSO
END:VEVENT
BEGIN:VEVENT
DTSTART;TZID=America/Managua:20250903T093000
DTEND;TZID=America/Managua:20250903T120000
DTSTAMP:20260422T084011
CREATED:20250902T143737Z
LAST-MODIFIED:20250902T143737Z
UID:26074-1756891800-1756900800@www.una.edu.ni
SUMMARY:Curso sobre Tecnología agrícola en la producción del cultivo del arroz
DESCRIPTION:
URL:https://www.una.edu.ni/event/curso-sobre-tecnologia-agricola-en-la-produccion-del-cultivo-del-arroz/
LOCATION:Centro Universitario Regional UNA Juigalpa\, Juigapa
CATEGORIES:CURSO
END:VEVENT
BEGIN:VEVENT
DTSTART;TZID=America/Managua:20250903T100000
DTEND;TZID=America/Managua:20250903T120000
DTSTAMP:20260422T084011
CREATED:20250902T143543Z
LAST-MODIFIED:20250902T143543Z
UID:26070-1756893600-1756900800@www.una.edu.ni
SUMMARY:Curso sobre elaboración de suplementos nutricionales para ganado mayor
DESCRIPTION:
URL:https://www.una.edu.ni/event/curso-sobre-elaboracion-de-suplementos-nutricionales-para-ganado-mayor/
LOCATION:UNICAM Muelle de los Bueyes\, Nicaragua
CATEGORIES:CURSO
END:VEVENT
END:VCALENDAR